Workbook

Sheet Celkove
C1: Celkový tisk
B2: =IF(Primitiv_PL!B1="","",Primitiv_PL!B1) | C2: =IF(Primitiv_PL!C1="","",Primitiv_PL!C1) -> Primitivní luk | D2: =IF(Primitiv_PL!D1="","",Primitiv_PL!D1) | E2: =IF(Primitiv_PL!E1="","",Primitiv_PL!E1) | F2: =IF(Primitiv_PL!F1="","",Primitiv_PL!F1) | G2: =IF(Primitiv_PL!G1="","",Primitiv_PL!G1) | H2: =IF(Primitiv_PL!H1="","",Primitiv_PL!H1) | I2: =IF(Primitiv_PL!I1="","",Primitiv_PL!I1) | ... V2: =IF(Primitiv_PL!V1="","",Primitiv_PL!V1)
B3: =IF(Primitiv_PL!B2="","",Primitiv_PL!B2) -> Pořadí | C3: =IF(Primitiv_PL!C2="","",Primitiv_PL!C2) -> Jméno a příjmení | D3: =IF(Primitiv_PL!D2="","",Primitiv_PL!D2) | E3: =IF(Primitiv_PL!E2="","",Primitiv_PL!E2) -> Bodů celkem | F3: =IF(Primitiv_PL!F2="","",Primitiv_PL!F2) -> ZVÍŘATA | G3: =IF(Primitiv_PL!G2="","",Primitiv_PL!G2) -> 1. Rychlostřelba | H3: =IF(Primitiv_PL!H2="","",Primitiv_PL!H2) -> 2. Kurník a liška | I3: =IF(Primitiv_PL!I2="","",Primitiv_PL!I2) -> 3. Letící drak | ... V3: =IF(Primitiv_PL!V2="","",Primitiv_PL!V2) -> 16. Skrz plot
B4: =IF(Primitiv_PL!B3="","",Primitiv_PL!B3) -> 1 | C4: =IF(Primitiv_PL!C3="","",Primitiv_PL!C3) -> Rataj Stanislav | D4: =IF(Primitiv_PL!D3="","",Primitiv_PL!D3) | E4: =IF(Primitiv_PL!E3="","",Primitiv_PL!E3) -> 2098 | F4: =IF(Primitiv_PL!F3="","",Primitiv_PL!F3) -> 120 | G4: =IF(Primitiv_PL!G3="","",Primitiv_PL!G3) -> 70 | H4: =IF(Primitiv_PL!H3="","",Primitiv_PL!H3) -> 180 | I4: =IF(Primitiv_PL!I3="","",Primitiv_PL!I3) -> 160 | ... V4: =IF(Primitiv_PL!V3="","",Primitiv_PL!V3) -> 128
B5: =IF(Primitiv_PL!B4="","",Primitiv_PL!B4) -> 2 | C5: =IF(Primitiv_PL!C4="","",Primitiv_PL!C4) -> Suchardová Johanka | D5: =IF(Primitiv_PL!D4="","",Primitiv_PL!D4) | E5: =IF(Primitiv_PL!E4="","",Primitiv_PL!E4) -> 1720 | F5: =IF(Primitiv_PL!F4="","",Primitiv_PL!F4) -> 100 | G5: =IF(Primitiv_PL!G4="","",Primitiv_PL!G4) -> 100 | H5: =IF(Primitiv_PL!H4="","",Primitiv_PL!H4) -> 60 | I5: =IF(Primitiv_PL!I4="","",Primitiv_PL!I4) -> 200 | ... V5: =IF(Primitiv_PL!V4="","",Primitiv_PL!V4) -> 104
B6: =IF(Primitiv_PL!B5="","",Primitiv_PL!B5) -> 3 | C6: =IF(Primitiv_PL!C5="","",Primitiv_PL!C5) -> Záhorka Petr | D6: =IF(Primitiv_PL!D5="","",Primitiv_PL!D5) | E6: =IF(Primitiv_PL!E5="","",Primitiv_PL!E5) -> 1542 | F6: =IF(Primitiv_PL!F5="","",Primitiv_PL!F5) -> 96 | G6: =IF(Primitiv_PL!G5="","",Primitiv_PL!G5) -> 80 | H6: =IF(Primitiv_PL!H5="","",Primitiv_PL!H5) -> 0 | I6: =IF(Primitiv_PL!I5="","",Primitiv_PL!I5) -> 200 | ... V6: =IF(Primitiv_PL!V5="","",Primitiv_PL!V5) -> 192
B7: =IF(Primitiv_PL!B6="","",Primitiv_PL!B6) -> 4 | C7: =IF(Primitiv_PL!C6="","",Primitiv_PL!C6) -> Schulz Alois | D7: =IF(Primitiv_PL!D6="","",Primitiv_PL!D6) | E7: =IF(Primitiv_PL!E6="","",Primitiv_PL!E6) -> 1400 | F7: =IF(Primitiv_PL!F6="","",Primitiv_PL!F6) -> 80 | G7: =IF(Primitiv_PL!G6="","",Primitiv_PL!G6) -> 80 | H7: =IF(Primitiv_PL!H6="","",Primitiv_PL!H6) -> 60 | I7: =IF(Primitiv_PL!I6="","",Primitiv_PL!I6) -> 200 | ... V7: =IF(Primitiv_PL!V6="","",Primitiv_PL!V6) -> 80
B8: =IF(Primitiv_PL!B7="","",Primitiv_PL!B7) -> 5 | C8: =IF(Primitiv_PL!C7="","",Primitiv_PL!C7) -> Ratajová Alena | D8: =IF(Primitiv_PL!D7="","",Primitiv_PL!D7) | E8: =IF(Primitiv_PL!E7="","",Primitiv_PL!E7) -> 1378 | F8: =IF(Primitiv_PL!F7="","",Primitiv_PL!F7) -> 70 | G8: =IF(Primitiv_PL!G7="","",Primitiv_PL!G7) -> 60 | H8: =IF(Primitiv_PL!H7="","",Primitiv_PL!H7) -> 0 | I8: =IF(Primitiv_PL!I7="","",Primitiv_PL!I7) -> 120 | ... V8: =IF(Primitiv_PL!V7="","",Primitiv_PL!V7) -> 80
B9: =IF(Primitiv_PL!B8="","",Primitiv_PL!B8) -> 6 | C9: =IF(Primitiv_PL!C8="","",Primitiv_PL!C8) -> Vencovský Hynek | D9: =IF(Primitiv_PL!D8="","",Primitiv_PL!D8) | E9: =IF(Primitiv_PL!E8="","",Primitiv_PL!E8) -> 1248 | F9: =IF(Primitiv_PL!F8="","",Primitiv_PL!F8) -> 88 | G9: =IF(Primitiv_PL!G8="","",Primitiv_PL!G8) -> 60 | H9: =IF(Primitiv_PL!H8="","",Primitiv_PL!H8) -> 0 | I9: =IF(Primitiv_PL!I8="","",Primitiv_PL!I8) -> 160 | ... V9: =IF(Primitiv_PL!V8="","",Primitiv_PL!V8) -> 40
B10: =IF(Primitiv_PL!B9="","",Primitiv_PL!B9) -> 7 | C10: =IF(Primitiv_PL!C9="","",Primitiv_PL!C9) -> Valeš Zbyněk | D10: =IF(Primitiv_PL!D9="","",Primitiv_PL!D9) | E10: =IF(Primitiv_PL!E9="","",Primitiv_PL!E9) -> 1070 | F10: =IF(Primitiv_PL!F9="","",Primitiv_PL!F9) -> 6 | G10: =IF(Primitiv_PL!G9="","",Primitiv_PL!G9) -> 30 | H10: =IF(Primitiv_PL!H9="","",Primitiv_PL!H9) -> 120 | I10: =IF(Primitiv_PL!I9="","",Primitiv_PL!I9) -> 120 | ... V10: =IF(Primitiv_PL!V9="","",Primitiv_PL!V9) -> 0
B11: =IF(Primitiv_PL!B10="","",Primitiv_PL!B10) -> 8 | C11: =IF(Primitiv_PL!C10="","",Primitiv_PL!C10) -> Obročníková Dobra | D11: =IF(Primitiv_PL!D10="","",Primitiv_PL!D10) | E11: =IF(Primitiv_PL!E10="","",Primitiv_PL!E10) -> 1162 | F11: =IF(Primitiv_PL!F10="","",Primitiv_PL!F10) -> 98 | G11: =IF(Primitiv_PL!G10="","",Primitiv_PL!G10) -> 50 | H11: =IF(Primitiv_PL!H10="","",Primitiv_PL!H10) -> 0 | I11: =IF(Primitiv_PL!I10="","",Primitiv_PL!I10) -> 160 | ... V11: =IF(Primitiv_PL!V10="","",Primitiv_PL!V10) -> 0
B12: =IF(Primitiv_PL!B11="","",Primitiv_PL!B11) -> 9 | C12: =IF(Primitiv_PL!C11="","",Primitiv_PL!C11) -> Herotova Jana | D12: =IF(Primitiv_PL!D11="","",Primitiv_PL!D11) | E12: =IF(Primitiv_PL!E11="","",Primitiv_PL!E11) -> 958 | F12: =IF(Primitiv_PL!F11="","",Primitiv_PL!F11) -> 78 | G12: =IF(Primitiv_PL!G11="","",Primitiv_PL!G11) -> 40 | H12: =IF(Primitiv_PL!H11="","",Primitiv_PL!H11) -> 60 | I12: =IF(Primitiv_PL!I11="","",Primitiv_PL!I11) -> 0 | ... V12: =IF(Primitiv_PL!V11="","",Primitiv_PL!V11) -> 104
B13: =IF(Primitiv_PL!B12="","",Primitiv_PL!B12) -> 10 | C13: =IF(Primitiv_PL!C12="","",Primitiv_PL!C12) -> Zýková Eva | D13: =IF(Primitiv_PL!D12="","",Primitiv_PL!D12) | E13: =IF(Primitiv_PL!E12="","",Primitiv_PL!E12) -> 470 | F13: =IF(Primitiv_PL!F12="","",Primitiv_PL!F12) -> 28 | G13: =IF(Primitiv_PL!G12="","",Primitiv_PL!G12) -> 60 | H13: =IF(Primitiv_PL!H12="","",Primitiv_PL!H12) -> 0 | I13: =IF(Primitiv_PL!I12="","",Primitiv_PL!I12) -> 0 | ... V13: =IF(Primitiv_PL!V12="","",Primitiv_PL!V12) -> 0
B14: =IF(Primitiv_PL!B15="","",Primitiv_PL!B15) -> 13 | C14: =IF(Primitiv_PL!C15="","",Primitiv_PL!C15) | D14: =IF(Primitiv_PL!D15="","",Primitiv_PL!D15) | E14: =IF(Primitiv_PL!E15="","",Primitiv_PL!E15) -> 0 | F14: =IF(Primitiv_PL!F15="","",Primitiv_PL!F15) | G14: =IF(Primitiv_PL!G15="","",Primitiv_PL!G15) | H14: =IF(Primitiv_PL!H15="","",Primitiv_PL!H15) | I14: =IF(Primitiv_PL!I15="","",Primitiv_PL!I15) | ... V14: =IF(Primitiv_PL!V15="","",Primitiv_PL!V15)
B15: =IF(Primitiv_PL!B16="","",Primitiv_PL!B16) -> 14 | C15: =IF(Primitiv_PL!C16="","",Primitiv_PL!C16) | D15: =IF(Primitiv_PL!D16="","",Primitiv_PL!D16) | E15: =IF(Primitiv_PL!E16="","",Primitiv_PL!E16) -> 0 | F15: =IF(Primitiv_PL!F16="","",Primitiv_PL!F16) | G15: =IF(Primitiv_PL!G16="","",Primitiv_PL!G16) | H15: =IF(Primitiv_PL!H16="","",Primitiv_PL!H16) | I15: =IF(Primitiv_PL!I16="","",Primitiv_PL!I16) | ... V15: =IF(Primitiv_PL!V16="","",Primitiv_PL!V16)
B16: =IF(Primitiv_PL!B17="","",Primitiv_PL!B17) -> 15 | C16: =IF(Primitiv_PL!C17="","",Primitiv_PL!C17) | D16: =IF(Primitiv_PL!D17="","",Primitiv_PL!D17) | E16: =IF(Primitiv_PL!E17="","",Primitiv_PL!E17) -> 0 | F16: =IF(Primitiv_PL!F17="","",Primitiv_PL!F17) | G16: =IF(Primitiv_PL!G17="","",Primitiv_PL!G17) | H16: =IF(Primitiv_PL!H17="","",Primitiv_PL!H17) | I16: =IF(Primitiv_PL!I17="","",Primitiv_PL!I17) | ... V16: =IF(Primitiv_PL!V17="","",Primitiv_PL!V17)
B17: =IF(Primitiv_PL!B18="","",Primitiv_PL!B18) -> 16 | C17: =IF(Primitiv_PL!C18="","",Primitiv_PL!C18) | D17: =IF(Primitiv_PL!D18="","",Primitiv_PL!D18) | E17: =IF(Primitiv_PL!E18="","",Primitiv_PL!E18) -> 0 | F17: =IF(Primitiv_PL!F18="","",Primitiv_PL!F18) | G17: =IF(Primitiv_PL!G18="","",Primitiv_PL!G18) | H17: =IF(Primitiv_PL!H18="","",Primitiv_PL!H18) | I17: =IF(Primitiv_PL!I18="","",Primitiv_PL!I18) | ... V17: =IF(Primitiv_PL!V18="","",Primitiv_PL!V18)
B18: =IF(Primitiv_PL!B19="","",Primitiv_PL!B19) -> 17 | C18: =IF(Primitiv_PL!C19="","",Primitiv_PL!C19) | D18: =IF(Primitiv_PL!D19="","",Primitiv_PL!D19) | E18: =IF(Primitiv_PL!E19="","",Primitiv_PL!E19) -> 0 | F18: =IF(Primitiv_PL!F19="","",Primitiv_PL!F19) | G18: =IF(Primitiv_PL!G19="","",Primitiv_PL!G19) | H18: =IF(Primitiv_PL!H19="","",Primitiv_PL!H19) | I18: =IF(Primitiv_PL!I19="","",Primitiv_PL!I19) | ... V18: =IF(Primitiv_PL!V19="","",Primitiv_PL!V19)
B19: =IF(Primitiv_PL!B20="","",Primitiv_PL!B20) -> 18 | C19: =IF(Primitiv_PL!C20="","",Primitiv_PL!C20) | D19: =IF(Primitiv_PL!D20="","",Primitiv_PL!D20) | E19: =IF(Primitiv_PL!E20="","",Primitiv_PL!E20) -> 0 | F19: =IF(Primitiv_PL!F20="","",Primitiv_PL!F20) | G19: =IF(Primitiv_PL!G20="","",Primitiv_PL!G20) | H19: =IF(Primitiv_PL!H20="","",Primitiv_PL!H20) | I19: =IF(Primitiv_PL!I20="","",Primitiv_PL!I20) | ... V19: =IF(Primitiv_PL!V20="","",Primitiv_PL!V20)
B20: =IF(Primitiv_PL!B21="","",Primitiv_PL!B21) -> 19 | C20: =IF(Primitiv_PL!C21="","",Primitiv_PL!C21) | D20: =IF(Primitiv_PL!D21="","",Primitiv_PL!D21) | E20: =IF(Primitiv_PL!E21="","",Primitiv_PL!E21) -> 0 | F20: =IF(Primitiv_PL!F21="","",Primitiv_PL!F21) | G20: =IF(Primitiv_PL!G21="","",Primitiv_PL!G21) | H20: =IF(Primitiv_PL!H21="","",Primitiv_PL!H21) | I20: =IF(Primitiv_PL!I21="","",Primitiv_PL!I21) | ... V20: =IF(Primitiv_PL!V21="","",Primitiv_PL!V21)
B21: =IF(Primitiv_PL!B22="","",Primitiv_PL!B22) -> 20 | C21: =IF(Primitiv_PL!C22="","",Primitiv_PL!C22) | D21: =IF(Primitiv_PL!D22="","",Primitiv_PL!D22) | E21: =IF(Primitiv_PL!E22="","",Primitiv_PL!E22) -> 0 | F21: =IF(Primitiv_PL!F22="","",Primitiv_PL!F22) | G21: =IF(Primitiv_PL!G22="","",Primitiv_PL!G22) | H21: =IF(Primitiv_PL!H22="","",Primitiv_PL!H22) | I21: =IF(Primitiv_PL!I22="","",Primitiv_PL!I22) | ... V21: =IF(Primitiv_PL!V22="","",Primitiv_PL!V22)
B22: =IF(Primitiv_PL!B23="","",Primitiv_PL!B23) -> 21 | C22: =IF(Primitiv_PL!C23="","",Primitiv_PL!C23) | D22: =IF(Primitiv_PL!D23="","",Primitiv_PL!D23) | E22: =IF(Primitiv_PL!E23="","",Primitiv_PL!E23) -> 0 | F22: =IF(Primitiv_PL!F23="","",Primitiv_PL!F23) | G22: =IF(Primitiv_PL!G23="","",Primitiv_PL!G23) | H22: =IF(Primitiv_PL!H23="","",Primitiv_PL!H23) | I22: =IF(Primitiv_PL!I23="","",Primitiv_PL!I23) | ... V22: =IF(Primitiv_PL!V23="","",Primitiv_PL!V23)
B23: =IF(Primitiv_PL!B24="","",Primitiv_PL!B24) -> 22 | C23: =IF(Primitiv_PL!C24="","",Primitiv_PL!C24) | D23: =IF(Primitiv_PL!D24="","",Primitiv_PL!D24) | E23: =IF(Primitiv_PL!E24="","",Primitiv_PL!E24) -> 0 | F23: =IF(Primitiv_PL!F24="","",Primitiv_PL!F24) | G23: =IF(Primitiv_PL!G24="","",Primitiv_PL!G24) | H23: =IF(Primitiv_PL!H24="","",Primitiv_PL!H24) | I23: =IF(Primitiv_PL!I24="","",Primitiv_PL!I24) | ... V23: =IF(Primitiv_PL!V24="","",Primitiv_PL!V24)
B24: =IF(Primitiv_PL!B25="","",Primitiv_PL!B25) -> 23 | C24: =IF(Primitiv_PL!C25="","",Primitiv_PL!C25) | D24: =IF(Primitiv_PL!D25="","",Primitiv_PL!D25) | E24: =IF(Primitiv_PL!E25="","",Primitiv_PL!E25) -> 0 | F24: =IF(Primitiv_PL!F25="","",Primitiv_PL!F25) | G24: =IF(Primitiv_PL!G25="","",Primitiv_PL!G25) | H24: =IF(Primitiv_PL!H25="","",Primitiv_PL!H25) | I24: =IF(Primitiv_PL!I25="","",Primitiv_PL!I25) | ... V24: =IF(Primitiv_PL!V25="","",Primitiv_PL!V25)
B25: =IF(Primitiv_PL!B26="","",Primitiv_PL!B26) -> 24 | C25: =IF(Primitiv_PL!C26="","",Primitiv_PL!C26) | D25: =IF(Primitiv_PL!D26="","",Primitiv_PL!D26) | E25: =IF(Primitiv_PL!E26="","",Primitiv_PL!E26) -> 0 | F25: =IF(Primitiv_PL!F26="","",Primitiv_PL!F26) | G25: =IF(Primitiv_PL!G26="","",Primitiv_PL!G26) | H25: =IF(Primitiv_PL!H26="","",Primitiv_PL!H26) | I25: =IF(Primitiv_PL!I26="","",Primitiv_PL!I26) | ... V25: =IF(Primitiv_PL!V26="","",Primitiv_PL!V26)
... B93: =IF(Primitiv_PL!B94="","",Primitiv_PL!B94) -> 92 | C93: =IF(Primitiv_PL!C94="","",Primitiv_PL!C94) | D93: =IF(Primitiv_PL!D94="","",Primitiv_PL!D94) | E93: =IF(Primitiv_PL!E94="","",Primitiv_PL!E94) -> 0 | F93: =IF(Primitiv_PL!F94="","",Primitiv_PL!F94) | G93: =IF(Primitiv_PL!G94="","",Primitiv_PL!G94) | H93: =IF(Primitiv_PL!H94="","",Primitiv_PL!H94) | I93: =IF(Primitiv_PL!I94="","",Primitiv_PL!I94) | ... V93: =IF(Primitiv_PL!V94="","",Primitiv_PL!V94)
B94: =IF(Primitiv_PL!B93="","",Primitiv_PL!B93) -> 91 | C94: =IF(Primitiv_PL!C93="","",Primitiv_PL!C93) | D94: =IF(Primitiv_PL!D93="","",Primitiv_PL!D93) | E94: =IF(Primitiv_PL!E93="","",Primitiv_PL!E93) -> 0 | F94: =IF(Primitiv_PL!F93="","",Primitiv_PL!F93) | G94: =IF(Primitiv_PL!G93="","",Primitiv_PL!G93) | H94: =IF(Primitiv_PL!H93="","",Primitiv_PL!H93) | I94: =IF(Primitiv_PL!I93="","",Primitiv_PL!I93) | ... V94: =IF(Primitiv_PL!V93="","",Primitiv_PL!V93)
B95: =IF(Primitiv_PL!B96="","",Primitiv_PL!B96) -> 94 | C95: =IF(Primitiv_PL!C96="","",Primitiv_PL!C96) | D95: =IF(Primitiv_PL!D96="","",Primitiv_PL!D96) | E95: =IF(Primitiv_PL!E96="","",Primitiv_PL!E96) -> 0 | F95: =IF(Primitiv_PL!F96="","",Primitiv_PL!F96) | G95: =IF(Primitiv_PL!G96="","",Primitiv_PL!G96) | H95: =IF(Primitiv_PL!H96="","",Primitiv_PL!H96) | I95: =IF(Primitiv_PL!I96="","",Primitiv_PL!I96) | ... V95: =IF(Primitiv_PL!V96="","",Primitiv_PL!V96)
B96: =IF(Primitiv_PL!B97="","",Primitiv_PL!B97) -> 95 | C96: =IF(Primitiv_PL!C97="","",Primitiv_PL!C97) | D96: =IF(Primitiv_PL!D97="","",Primitiv_PL!D97) | E96: =IF(Primitiv_PL!E97="","",Primitiv_PL!E97) -> 0 | F96: =IF(Primitiv_PL!F97="","",Primitiv_PL!F97) | G96: =IF(Primitiv_PL!G97="","",Primitiv_PL!G97) | H96: =IF(Primitiv_PL!H97="","",Primitiv_PL!H97) | I96: =IF(Primitiv_PL!I97="","",Primitiv_PL!I97) | ... V96: =IF(Primitiv_PL!V97="","",Primitiv_PL!V97)
B97: =IF(Primitiv_PL!B98="","",Primitiv_PL!B98) -> 96 | C97: =IF(Primitiv_PL!C98="","",Primitiv_PL!C98) | D97: =IF(Primitiv_PL!D98="","",Primitiv_PL!D98) | E97: =IF(Primitiv_PL!E98="","",Primitiv_PL!E98) -> 0 | F97: =IF(Primitiv_PL!F98="","",Primitiv_PL!F98) | G97: =IF(Primitiv_PL!G98="","",Primitiv_PL!G98) | H97: =IF(Primitiv_PL!H98="","",Primitiv_PL!H98) | I97: =IF(Primitiv_PL!I98="","",Primitiv_PL!I98) | ... V97: =IF(Primitiv_PL!V98="","",Primitiv_PL!V98)
B98: =IF(Primitiv_PL!B99="","",Primitiv_PL!B99) -> 97 | C98: =IF(Primitiv_PL!C99="","",Primitiv_PL!C99) | D98: =IF(Primitiv_PL!D99="","",Primitiv_PL!D99) | E98: =IF(Primitiv_PL!E99="","",Primitiv_PL!E99) -> 0 | F98: =IF(Primitiv_PL!F99="","",Primitiv_PL!F99) | G98: =IF(Primitiv_PL!G99="","",Primitiv_PL!G99) | H98: =IF(Primitiv_PL!H99="","",Primitiv_PL!H99) | I98: =IF(Primitiv_PL!I99="","",Primitiv_PL!I99) | ... V98: =IF(Primitiv_PL!V99="","",Primitiv_PL!V99)
B99: =IF(Primitiv_PL!B100="","",Primitiv_PL!B100) -> 98 | C99: =IF(Primitiv_PL!C100="","",Primitiv_PL!C100) | D99: =IF(Primitiv_PL!D100="","",Primitiv_PL!D100) | E99: =IF(Primitiv_PL!E100="","",Primitiv_PL!E100) -> 0 | F99: =IF(Primitiv_PL!F100="","",Primitiv_PL!F100) | G99: =IF(Primitiv_PL!G100="","",Primitiv_PL!G100) | H99: =IF(Primitiv_PL!H100="","",Primitiv_PL!H100) | I99: =IF(Primitiv_PL!I100="","",Primitiv_PL!I100) | ... V99: =IF(Primitiv_PL!V100="","",Primitiv_PL!V100)
B100: =IF(Primitiv_PL!B101="","",Primitiv_PL!B101) -> 99 | C100: =IF(Primitiv_PL!C101="","",Primitiv_PL!C101) | D100: =IF(Primitiv_PL!D101="","",Primitiv_PL!D101) | E100: =IF(Primitiv_PL!E101="","",Primitiv_PL!E101) -> 0 | F100: =IF(Primitiv_PL!F101="","",Primitiv_PL!F101) | G100: =IF(Primitiv_PL!G101="","",Primitiv_PL!G101) | H100: =IF(Primitiv_PL!H101="","",Primitiv_PL!H101) | I100: =IF(Primitiv_PL!I101="","",Primitiv_PL!I101) | ... V100: =IF(Primitiv_PL!V101="","",Primitiv_PL!V101)
B101: =IF(Primitiv_PL!B102="","",Primitiv_PL!B102) -> 100 | C101: =IF(Primitiv_PL!C102="","",Primitiv_PL!C102) | D101: =IF(Primitiv_PL!D102="","",Primitiv_PL!D102) | E101: =IF(Primitiv_PL!E102="","",Primitiv_PL!E102) -> 0 | F101: =IF(Primitiv_PL!F102="","",Primitiv_PL!F102) | G101: =IF(Primitiv_PL!G102="","",Primitiv_PL!G102) | H101: =IF(Primitiv_PL!H102="","",Primitiv_PL!H102) | I101: =IF(Primitiv_PL!I102="","",Primitiv_PL!I102) | ... V101: =IF(Primitiv_PL!V102="","",Primitiv_PL!V102)
B102: : | C102: : | D102: : | E102: : | F102: : | G102: : | H102: : | I102: : | J102: : | K102: : | L102: : | M102: : | N102: : | O102: : | P102: : | Q102: : | R102: : | S102: : | T102: : | U102: : | V102: :
B103: =IF(Trad_TL!B1="","",Trad_TL!B1) | C103: =IF(Trad_TL!C1="","",Trad_TL!C1) -> Tradiční luk | D103: =IF(Trad_TL!D1="","",Trad_TL!D1) | E103: =IF(Trad_TL!E1="","",Trad_TL!E1) | F103: =IF(Trad_TL!F1="","",Trad_TL!F1) | G103: =IF(Trad_TL!G1="","",Trad_TL!G1) | H103: =IF(Trad_TL!H1="","",Trad_TL!H1) | I103: =IF(Trad_TL!I1="","",Trad_TL!I1) | ... V103: =IF(Trad_TL!V1="","",Trad_TL!V1)
B104: =IF(Trad_TL!B2="","",Trad_TL!B2) -> Pořadí | C104: =IF(Trad_TL!C2="","",Trad_TL!C2) -> Jméno a příjmení | D104: =IF(Trad_TL!D2="","",Trad_TL!D2) | E104: =IF(Trad_TL!E2="","",Trad_TL!E2) -> Bodů celkem | F104: =IF(Trad_TL!F2="","",Trad_TL!F2) -> ZVÍŘATA | G104: =IF(Trad_TL!G2="","",Trad_TL!G2) -> 1. Rychlostřelba | H104: =IF(Trad_TL!H2="","",Trad_TL!H2) -> 2. Kurník a liška | I104: =IF(Trad_TL!I2="","",Trad_TL!I2) -> 3. Letící drak | ... V104: =IF(Trad_TL!V2="","",Trad_TL!V2) -> 16. Skrz plot
B105: =IF(Trad_TL!B3="","",Trad_TL!B3) -> 1 | C105: =IF(Trad_TL!C3="","",Trad_TL!C3) -> Haidlmaier Ondřej | D105: =IF(Trad_TL!D3="","",Trad_TL!D3) | E105: =IF(Trad_TL!E3="","",Trad_TL!E3) -> 1872 | F105: =IF(Trad_TL!F3="","",Trad_TL!F3) -> 104 | G105: =IF(Trad_TL!G3="","",Trad_TL!G3) -> 80 | H105: =IF(Trad_TL!H3="","",Trad_TL!H3) -> 60 | I105: =IF(Trad_TL!I3="","",Trad_TL!I3) -> 120 | ... V105: =IF(Trad_TL!V3="","",Trad_TL!V3) -> 200
B106: =IF(Trad_TL!B4="","",Trad_TL!B4) -> 2 | C106: =IF(Trad_TL!C4="","",Trad_TL!C4) -> Kodýdek Miloš | D106: =IF(Trad_TL!D4="","",Trad_TL!D4) | E106: =IF(Trad_TL!E4="","",Trad_TL!E4) -> 1812 | F106: =IF(Trad_TL!F4="","",Trad_TL!F4) -> 108 | G106: =IF(Trad_TL!G4="","",Trad_TL!G4) -> 60 | H106: =IF(Trad_TL!H4="","",Trad_TL!H4) -> 0 | I106: =IF(Trad_TL!I4="","",Trad_TL!I4) -> 200 | ... V106: =IF(Trad_TL!V4="","",Trad_TL!V4) -> 0
B107: =IF(Trad_TL!B5="","",Trad_TL!B5) -> 3 | C107: =IF(Trad_TL!C5="","",Trad_TL!C5) -> Kroča Radek | D107: =IF(Trad_TL!D5="","",Trad_TL!D5) | E107: =IF(Trad_TL!E5="","",Trad_TL!E5) -> 1504 | F107: =IF(Trad_TL!F5="","",Trad_TL!F5) -> 88 | G107: =IF(Trad_TL!G5="","",Trad_TL!G5) -> 80 | H107: =IF(Trad_TL!H5="","",Trad_TL!H5) -> 0 | I107: =IF(Trad_TL!I5="","",Trad_TL!I5) -> 160 | ... V107: =IF(Trad_TL!V5="","",Trad_TL!V5) -> 144
...

Sheet Startujici
A1: Přehled přihlášených
A3: # | B3: Jméno | C3: Přezdívka | D3: e-mail | E3: Kategorie | G3: Luk | H3: Klub/Město | I3: Datum | J3: V.S. | K3: Platba | L3: Poznámka
A4: 59 | B4: Bajer Ralf | C4: Majer | D4: obrocnikovi@gmail.com | E4: dospeli | F4: M | G4: ll | H4: Ostrostřelci Skalany | I4: 44052.897 | J4: 564675
A5: 54 | B5: Bumba Pavel | C5: Messermann | D5: bumbapavel@seznam.cz | E5: dospeli | F5: M | G5: tl | H5: KLAN-N DĚČÍN | I5: 44046.49 | J5: 564669
A6: 39 | B6: Čáslava Josef | D6: carlito@seznam.cz | E6: dospeli | F6: M | G6: ll | H6: Krnov | I6: 44034.908 | J6: 564591
A7: 38 | B7: Čáslava Karel | D7: carlito@seznam.cz | E7: dospeli | F7: M | G7: ll | H7: LK Totem | I7: 44034.908 | J7: 564590
A8: 73 | B8: Doleček Ivo | C8: Ivo | D8: jaroslav.choma@tiscali.cz | E8: dospeli | F8: M | G8: ll | H8: Sagittarius | I8: 44058.029 | J8: 564689
A9: 78 | B9: Drenina Dušan | D9: obrocnikovi@gmail.com | E9: dospeli | F9: M | G9: ll | H9: Mladá Boleslav | I9: 44059.649 | J9: 564751
A10: 6 | B10: Dvořáček Jiří | D10: jidvoracek@seznam.cz | E10: dospeli | F10: M | G10: ll | H10: Lukostřelci Českého Lesa | I10: 44026.264 | J10: 564498 | L10: + 2x nedělní oběd +3x nedělní snídaně
A11: 21 | B11: Faust Patrik | C11: Malej Faustik | D11: faust.petr@seznam.cz | E11: deti | F11: M | H11: Chabařovice | I11: 44026.502 | J11: 564513
A12: 19 | B12: Faust Petr | C12: Faustik | D12: faust.petr@seznam.cz | E12: dospeli | F12: M | G12: ll | H12: Chabařovice | I12: 44026.501 | J12: 564511
A13: 20 | B13: Faustová Kateřina | C13: Faustice | D13: faust.petr@seznam.cz | E13: dospeli | F13: Ž | G13: ll | H13: Chabařovice | I13: 44026.501 | J13: 564512
A14: 33 | B14: Fencl Jan | D14: fenclj@seznam.cz | E14: dospeli | F14: M | G14: ll | H14: LUKOS Manětín | I14: 44032.461 | J14: 564585
A15: 34 | B15: Fenclová Anna | D15: anna.fenclova@email.cz | E15: dorost | F15: Ž | H15: LUKOS Manětín | I15: 44032.461 | J15: 564586
A16: 57 | B16: Fér Ondra | C16: Kevin | D16: ondraxfer@gmail.com | E16: dospeli | F16: M | G16: ll | H16: DC Bow Brothers | I16: 44049.011 | J16: 564673
A17: 90 | B17: Frélich Martin | C17: Kibe | D17: frelich3@seznam.cz | E17: dospeli | F17: M | G17: ll | H17: LK - Žebrák | I17: 44061.5 | J17: 564803 | L17: Mimo lukostřeleckou ligu.
A18: 58 | B18: Gurtler Grit | D18: obrocnikovi@gmail.com | E18: dospeli | F18: M | G18: ll | H18: Ostrostřelci Skalany | I18: 44052.896 | J18: 564674
A19: 10 | B19: Habart Horst | C19: Běžkař | D19: Habart@davive.cz | E19: dospeli | F19: M | G19: tl | H19: STS Chvojkovice Brod | I19: 44026.394 | J19: 564502
A20: 69 | B20: Habart Michal | D20: michal-habart@seznam.cz | E20: dospeli | F20: M | G20: ll | H20: SDL Litvínovice | I20: 44056.342 | J20: 564685
A21: 28 | B21: Haidlmaier Ondřej | D21: Haidlmaier@centrum.cz | E21: dospeli | F21: M | G21: tl | H21: LUKOS Manětín | I21: 44029.747 | J21: 564546
A22: 14 | B22: Hanzal Jiří | D22: info@itaclub.cz | E22: dospeli | F22: M | G22: ll | H22: Itaclub | I22: 44026.419 | J22: 564506
A23: 15 | B23: Hanzalová Karolína | D23: karolinahanzalova@icloud.com | E23: deti | F23: Ž | H23: Itaclub | I23: 44026.42 | J23: 564507
A24: 12 | B24: Harbáček Ladislav | D24: stanislav.rataj@rcs-kladno.net | E24: deti | F24: M | H24: Kladno | I24: 44026.403 | J24: 564504
A25: 13 | B25: Harbáčková Alena | D25: stanislav.rataj@rcs-kladno.net | E25: deti | F25: Ž | H25: Kladno | I25: 44026.403 | J25: 564505
A26: 50 | B26: Havlíček Libor | D26: halibo@seznam.cz | E26: dospeli | F26: M | G26: tl | H26: Předboj | I26: 44045.642 | J26: 564663
A27: 51 | B27: Havlíčková Marika | D27: halibo@seznam.cz | E27: dospeli | F27: Ž | G27: ll | H27: Předboj | I27: 44045.642 | J27: 564664
A28: 45 | B28: Herotova Jana | C28: Vazka | D28: herotovaj@seznam.cz | E28: dospeli | F28: Ž | G28: pl | H28: Prazske Vetve | I28: 44043.934 | J28: 564653
A29: 46 | B29: Herotova Maja | D29: herotovaj@seznam.cz | E29: deti | F29: Ž | H29: Prazske Vetve | I29: 44043.935 | J29: 564654
A30: 53 | B30: Holub Matyáš | D30: holub@email.cz | E30: dorost | F30: M | H30: Brandýs nad Labem | I30: 44045.815 | J30: 564666
A31: 48 | B31: Holub Petr | D31: holub@email.cz | E31: dospeli | F31: M | G31: tl | H31: Brandýs nad Labem | I31: 44045.64 | J31: 564661
A32: 52 | B32: Holubová Karolína | D32: holub@email.cz | E32: dospeli | F32: Ž | G32: tl | H32: Brandýs nad Labem | I32: 44045.815 | J32: 564665
A33: 29 | B33: Hrouda Miloslav | D33: Hroudicc@seznam.cz | E33: dospeli | F33: M | G33: ll | H33: Bow Brothers | I33: 44030.529 | J33: 564558
A34: 71 | B34: Choma Jaroslav | C34: Jichoč | D34: jaroslav.choma@tiscali.cz | E34: dospeli | F34: M | G34: tl | H34: Sagittarius | I34: 44058.028 | J34: 564687
A35: 76 | B35: Kácha Ladislav | C35: Indián | D35: jaroslav.choma@tiscali.cz | E35: dospeli | F35: M | G35: ll | H35: Sagittarius | I35: 44058.031 | J35: 564692
A36: 35 | B36: Kejval Jaroslav | D36: lavjek@email.cz | E36: dospeli | F36: M | G36: ll | H36: Vápenná | I36: 44033.468 | J36: 564587
A37: 62 | B37: Kleman Juraj | D37: obrocnikovi@gmail.com | E37: dospeli | F37: M | G37: pl | H37: Bratislava | I37: 44054.408 | J37: 564678
A38: 63 | B38: Klemanová Adriana | D38: obrocnikovi@gmail.com | E38: dospeli | F38: Ž | G38: pl | I38: 44054.409 | J38: 564679
A39: 65 | B39: Klemanová Klaudia | D39: obrocnikovi@gmail.com | E39: deti | F39: Ž | H39: Bratislava | I39: 44054.41 | J39: 564681
A40: 64 | B40: Klemanová Laura | D40: obrocnikovi@gmail.com | E40: dorost | F40: Ž | I40: 44054.41 | J40: 564680
A41: 25 | B41: Klierová Růžena | D41: ales.sobotka81@gmail.com | E41: dospeli | F41: Ž | G41: ll | H41: Zbiroh | I41: 44026.861 | J41: 564517
...

Sheet Primitiv_PL
C1: Primitivní luk
B2: Pořadí | C2: Jméno a příjmení | E2: Bodů celkem | F2: ZVÍŘATA | G2: 1. Rychlostřelba | H2: 2. Kurník a liška | I2: 3. Letící drak | J2: 4. Běžící kolečka | K2: 5. Terčovka 20 m | L2: 6. Král. ústupovka | M2: 7. Létající kolečka | N2: 8. Terčovka 50 m | O2: 9. Bojovní trpaslíci | P2: 10. Trpasličí hrad | Q2: 11. Korona koule | R2: 12. Výr letící | S2: 13. Ku ptáku | T2: 14. Kyvadlo | U2: 15. Válečky | V2: 16. Skrz plot
B3: 1 | C3: Rataj Stanislav | E3: =SUM(F3:V3) -> 2098 | F3: 120 | G3: 70 | H3: 180 | I3: 160 | J3: 40 | K3: 130 | L3: 60 | M3: 120 | N3: 72 | O3: 100 | P3: 80 | Q3: 240 | R3: 150 | S3: 168 | T3: 40 | U3: 240 | V3: 128
B4: 2 | C4: Suchardová Johanka | E4: =SUM(F4:V4) -> 1720 | F4: 100 | G4: 100 | H4: 60 | I4: 200 | J4: 0 | K4: 62 | L4: 60 | M4: 0 | N4: 14 | O4: 100 | P4: 160 | Q4: 240 | R4: 150 | S4: 120 | T4: 50 | U4: 200 | V4: 104
B5: 3 | C5: Záhorka Petr | E5: =SUM(F5:V5) -> 1542 | F5: 96 | G5: 80 | H5: 0 | I5: 200 | J5: 40 | K5: 84 | L5: 50 | M5: 40 | N5: 40 | O5: 70 | P5: 80 | Q5: 120 | R5: 60 | S5: 80 | T5: 70 | U5: 240 | V5: 192
B6: 4 | C6: Schulz Alois | E6: =SUM(F6:V6) -> 1400 | F6: 80 | G6: 80 | H6: 60 | I6: 200 | J6: 0 | K6: 84 | L6: 70 | M6: 0 | N6: 58 | O6: 0 | P6: 80 | Q6: 120 | R6: 120 | S6: 128 | T6: 40 | U6: 200 | V6: 80
B7: 5 | C7: Ratajová Alena | E7: =SUM(F7:V7) -> 1378 | F7: 70 | G7: 60 | H7: 0 | I7: 120 | J7: 0 | K7: 88 | L7: 70 | M7: 0 | N7: 50 | O7: 120 | P7: 0 | Q7: 180 | R7: 180 | S7: 120 | T7: 40 | U7: 200 | V7: 80
B8: 6 | C8: Vencovský Hynek | E8: =SUM(F8:V8) -> 1248 | F8: 88 | G8: 60 | H8: 0 | I8: 160 | J8: 40 | K8: 52 | L8: 60 | M8: 0 | N8: 18 | O8: 160 | P8: 0 | Q8: 120 | R8: 60 | S8: 120 | T8: 30 | U8: 240 | V8: 40
B9: 7 | C9: Valeš Zbyněk | E9: =SUM(F9:V9) -> 1070 | F9: 6 | G9: 30 | H9: 120 | I9: 120 | J9: 40 | K9: 64 | L9: 70 | M9: 0 | N9: 30 | O9: 40 | P9: 0 | Q9: 120 | R9: 120 | S9: 40 | T9: 30 | U9: 240 | V9: 0
B10: 8 | C10: Obročníková Dobra | E10: =SUM(F10:V10) -> 1162 | F10: 98 | G10: 50 | H10: 0 | I10: 160 | J10: 0 | K10: 64 | L10: 80 | M10: 0 | N10: 20 | O10: 100 | P10: 80 | Q10: 60 | R10: 120 | S10: 160 | T10: 50 | U10: 120 | V10: 0
B11: 9 | C11: Herotova Jana | E11: =SUM(F11:V11) -> 958 | F11: 78 | G11: 40 | H11: 60 | I11: 0 | J11: 20 | K11: 38 | L11: 30 | M11: 0 | N11: 18 | O11: 40 | P11: 40 | Q11: 120 | R11: 120 | S11: 40 | T11: 50 | U11: 160 | V11: 104
B12: 10 | C12: Zýková Eva | E12: =SUM(F12:V12) -> 470 | F12: 28 | G12: 60 | H12: 0 | I12: 0 | J12: 0 | K12: 22 | L12: 70 | M12: 0 | N12: 10 | O12: 40 | P12: 0 | Q12: 60 | R12: 0 | S12: 80 | T12: 20 | U12: 80 | V12: 0
B13: 11 | E13: =SUM(F13:V13) -> 0
B14: 12 | E14: =SUM(F14:V14) -> 0
B15: 13 | E15: =SUM(F15:V15) -> 0
B16: 14 | E16: =SUM(F16:V16) -> 0
B17: 15 | E17: =SUM(F17:V17) -> 0
B18: 16 | E18: =SUM(F18:V18) -> 0
B19: 17 | E19: =SUM(F19:V19) -> 0
B20: 18 | E20: =SUM(F20:V20) -> 0
B21: 19 | E21: =SUM(F21:V21) -> 0
B22: 20 | E22: =SUM(F22:V22) -> 0
B23: 21 | E23: =SUM(F23:V23) -> 0
B24: 22 | E24: =SUM(F24:V24) -> 0
... B102: 100 | E102: =SUM(F102:V102) -> 0

Sheet Trad_TL
C1: Tradiční luk
B2: Pořadí | C2: Jméno a příjmení | E2: Bodů celkem | F2: ZVÍŘATA | G2: 1. Rychlostřelba | H2: 2. Kurník a liška | I2: 3. Letící drak | J2: 4. Běžící kolečka | K2: 5. Terčovka 20 m | L2: 6. Král. ústupovka | M2: 7. Létající kolečka | N2: 8. Terčovka 50 m | O2: 9. Bojovní trpaslíci | P2: 10. Trpasličí hrad | Q2: 11. Korona koule | R2: 12. Výr letící | S2: 13. Ku ptáku | T2: 14. Kyvadlo | U2: 15. Válečky | V2: 16. Skrz plot
B3: 1 | C3: Haidlmaier Ondřej | E3: =SUM(F3:V3) -> 1872 | F3: 104 | G3: 80 | H3: 60 | I3: 120 | J3: 40 | K3: 96 | L3: 80 | M3: 0 | N3: 8 | O3: 160 | P3: 120 | Q3: 240 | R3: 150 | S3: 104 | T3: 70 | U3: 240 | V3: 200
B4: 2 | C4: Kodýdek Miloš | E4: =SUM(F4:V4) -> 1812 | F4: 108 | G4: 60 | H4: 0 | I4: 200 | J4: 40 | K4: 138 | L4: 120 | M4: 40 | N4: 46 | O4: 120 | P4: 80 | Q4: 240 | R4: 150 | S4: 120 | T4: 110 | U4: 240 | V4: 0
B5: 3 | C5: Kroča Radek | E5: =SUM(F5:V5) -> 1504 | F5: 88 | G5: 80 | H5: 0 | I5: 160 | J5: 0 | K5: 86 | L5: 60 | M5: 0 | N5: 16 | O5: 80 | P5: 40 | Q5: 180 | R5: 120 | S5: 160 | T5: 50 | U5: 240 | V5: 144
B6: 4 | C6: Holub Petr | E6: =SUM(F6:V6) -> 1436 | F6: 92 | G6: 100 | H6: 60 | I6: 80 | J6: 60 | K6: 114 | L6: 70 | M6: 0 | N6: 20 | O6: 120 | P6: 0 | Q6: 120 | R6: 150 | S6: 80 | T6: 130 | U6: 240 | V6: 0
B7: 5 | C7: Bumba Pavel | E7: =SUM(F7:V7) -> 1306 | F7: 70 | G7: 70 | H7: 60 | I7: 0 | J7: 0 | K7: 92 | L7: 60 | M7: 40 | N7: 50 | O7: 40 | P7: 80 | Q7: 120 | R7: 120 | S7: 144 | T7: 40 | U7: 200 | V7: 120
B8: 6 | C8: Rychtaříková Jana | E8: =SUM(F8:V8) -> 1176 | F8: 98 | G8: 60 | H8: 60 | I8: 80 | J8: 20 | K8: 60 | L8: 80 | M8: 0 | N8: 14 | O8: 0 | P8: 40 | Q8: 180 | R8: 0 | S8: 144 | T8: 60 | U8: 240 | V8: 40
B9: 8 | C9: Sobotka Aleš | E9: =SUM(F9:V9) -> 1136 | F9: 80 | G9: 30 | H9: 0 | I9: 160 | J9: 0 | K9: 80 | L9: 40 | M9: 0 | N9: 16 | O9: 100 | P9: 80 | Q9: 120 | R9: 0 | S9: 80 | T9: 30 | U9: 240 | V9: 80
B10: 9 | C10: Holubová Karolína | E10: =SUM(F10:V10) -> 614 | F10: 64 | G10: 50 | H10: 0 | I10: 0 | J10: 0 | K10: 16 | L10: 60 | M10: 0 | N10: 0 | O10: 20 | P10: 0 | Q10: 60 | R10: 0 | S10: 40 | T10: 0 | U10: 240 | V10: 64
B11: 10 | E11: =SUM(F11:V11) -> 0
B12: 18 | E12: =SUM(F12:V12) -> 0
B13: 19 | E13: =SUM(F13:V13) -> 0
B14: 20 | E14: =SUM(F14:V14) -> 0
B15: 21 | E15: =SUM(F15:V15) -> 0
B16: 22 | E16: =SUM(F16:V16) -> 0
B17: 23 | E17: =SUM(F17:V17) -> 0
B18: 24 | E18: =SUM(F18:V18) -> 0
B19: 25 | E19: =SUM(F19:V19) -> 0
B20: 26 | E20: =SUM(F20:V20) -> 0
B21: 27 | E21: =SUM(F21:V21) -> 0
B22: 28 | E22: =SUM(F22:V22) -> 0
... B94: 100 | E94: =SUM(F94:V94) -> 0

Sheet Muzi_LL
C1: Muži - Lovecký luk
B2: Pořadí | C2: Jméno a příjmení | E2: Bodů celkem | F2: ZVÍŘATA | G2: 1. Rychlostřelba | H2: 2. Kurník a liška | I2: 3. Letící drak | J2: 4. Běžící kolečka | K2: 5. Terčovka 20 m | L2: 6. Král. ústupovka | M2: 7. Létající kolečka | N2: 8. Terčovka 50 m | O2: 9. Bojovní trpaslíci | P2: 10. Trpasličí hrad | Q2: 11. Korona koule | R2: 12. Výr letící | S2: 13. Ku ptáku | T2: 14. Kyvadlo | U2: 15. Válečky | V2: 16. Skrz plot
B3: 1 | C3: Fér Ondra | E3: =SUM(F3:V3) -> 2368 | F3: 76 | G3: 80 | H3: 180 | I3: 200 | J3: 40 | K3: 138 | L3: 120 | M3: 40 | N3: 52 | O3: 180 | P3: 160 | Q3: 240 | R3: 168 | S3: 174 | T3: 80 | U3: 240 | V3: 200
B4: 2 | C4: Frélich Martin | E4: =SUM(F4:V4) -> 2146 | F4: 118 | G4: 80 | H4: 60 | I4: 160 | J4: 140 | K4: 156 | L4: 120 | M4: 80 | N4: 138 | O4: 120 | P4: 0 | Q4: 240 | R4: 150 | S4: 120 | T4: 120 | U4: 240 | V4: 104
B5: 3 | C5: Šidák Miroslav | E5: =SUM(F5:V5) -> 2138 | F5: 110 | G5: 80 | H5: 60 | I5: 200 | J5: 60 | K5: 140 | L5: 100 | M5: 120 | N5: 78 | O5: 120 | P5: 80 | Q5: 240 | R5: 180 | S5: 80 | T5: 90 | U5: 240 | V5: 160
B6: 4 | C6: Hrouda Miloslav | E6: =SUM(F6:V6) -> 2102 | F6: 114 | G6: 80 | H6: 120 | I6: 200 | J6: 0 | K6: 138 | L6: 80 | M6: 0 | N6: 84 | O6: 180 | P6: 120 | Q6: 180 | R6: 168 | S6: 120 | T6: 70 | U6: 240 | V6: 208
B7: 5 | C7: Kácha Ladislav | E7: =SUM(F7:V7) -> 2024 | F7: 110 | G7: 140 | H7: 120 | I7: 160 | J7: 80 | K7: 104 | L7: 80 | M7: 80 | N7: 42 | O7: 120 | P7: 40 | Q7: 240 | R7: 60 | S7: 144 | T7: 160 | U7: 240 | V7: 104
B8: 6 | C8: Pospíšil David | E8: =SUM(F8:V8) -> 1980 | F8: 110 | G8: 70 | H8: 120 | I8: 200 | J8: 20 | K8: 102 | L8: 80 | M8: 40 | N8: 56 | O8: 140 | P8: 80 | Q8: 240 | R8: 120 | S8: 168 | T8: 90 | U8: 240 | V8: 104
B9: 7 | C9: Faust Petr | E9: =SUM(F9:V9) -> 1934 | F9: 106 | G9: 100 | H9: 120 | I9: 200 | J9: 100 | K9: 172 | L9: 80 | M9: 0 | N9: 98 | O9: 140 | P9: 80 | Q9: 60 | R9: 150 | S9: 168 | T9: 40 | U9: 200 | V9: 120
B10: 8 | C10: Škraňka Pavel | E10: =SUM(F10:V10) -> 1852 | F10: 1852
B11: 9 | C11: Hanzal Jiří | E11: =SUM(F11:V11) -> 1846 | F11: 1846
B12: 10 | C12: Mikeš Zdeněk | E12: =SUM(F12:V12) -> 1830 | F12: 1830
B13: 11 | C13: Stárek Josef | E13: =SUM(F13:V13) -> 1788 | F13: 1788
B14: 12 | C14: Valenta Petr | E14: =SUM(F14:V14) -> 1718 | F14: 1718
B15: 13 | C15: Mařan Jiří | E15: =SUM(F15:V15) -> 1702 | F15: 1702
B16: 14 | C16: Sobotka Jiří | E16: =SUM(F16:V16) -> 1618 | F16: 1618
B17: 15 | C17: Seibert Zdeněk | E17: =SUM(F17:V17) -> 1598 | F17: 1598
B18: 16 | C18: Daniel Pavel | E18: =SUM(F18:V18) -> 1564 | F18: 1564
B19: 17 | C19: Fencl Jan | E19: =SUM(F19:V19) -> 1532 | F19: 1532
B20: 18 | C20: Novák Jindřich | E20: =SUM(F20:V20) -> 1524 | F20: 1524
B21: 19 | C21: Mather Luděk | E21: =SUM(F21:V21) -> 1496 | F21: 1496
... B33: 31 | C33: Lukes Martin | E33: =SUM(F33:V33) -> 1068 | F33: 1068
B34: 32 | C34: Čáslava Karel | E34: =SUM(F34:V34) -> 954 | F34: 86 | G34: 50 | H34: 0 | I34: 200 | J34: 0 | K34: 68 | L34: 70 | M34: 0 | N34: 40 | O34: 20 | P34: 0 | Q34: 60 | R34: 60 | S34: 120 | T34: 20 | U34: 120 | V34: 40
B35: 33 | C35: Žák Tomáš | E35: =SUM(F35:V35) -> 844 | F35: 844
B36: 34 | C36: Drenina Dušan | E36: =SUM(F36:V36) -> 700 | F36: 700
B37: 35 | C37: Cimpl Pavel | E37: =SUM(F37:V37) -> 0 | F37: 0
B38: 36 | C38: Drenina Dušan | E38: =SUM(F38:V38) -> 0 | F38: 0
B39: 37 | E39: =SUM(F39:V39) -> 0
B40: 38 | E40: =SUM(F40:V40) -> 0
B41: 52 | E41: =SUM(F41:V41) -> 0
B42: 53 | E42: =SUM(F42:V42) -> 0
B43: 54 | E43: =SUM(F43:V43) -> 0
B44: 55 | E44: =SUM(F44:V44) -> 0
B45: 56 | E45: =SUM(F45:V45) -> 0
B46: 57 | E46: =SUM(F46:V46) -> 0
B47: 58 | E47: =SUM(F47:V47) -> 0
B48: 59 | E48: =SUM(F48:V48) -> 0
B49: 60 | E49: =SUM(F49:V49) -> 0
B50: 61 | E50: =SUM(F50:V50) -> 0
... B89: 100 | E89: =SUM(F89:V89) -> 0

Sheet Zeny_LL
C1: Ženy - Lovecký luk
B2: Pořadí | C2: Jméno a příjmení | E2: Bodů celkem | F2: ZVÍŘATA | G2: 1. Rychlostřelba | H2: 2. Kurník a liška | I2: 3. Letící drak | J2: 4. Běžící kolečka | K2: 5. Terčovka 20 m | L2: 6. Král. ústupovka | M2: 7. Létající kolečka | N2: 8. Terčovka 50 m | O2: 9. Bojovní trpaslíci | P2: 10. Trpasličí hrad | Q2: 11. Korona koule | R2: 12. Výr letící | S2: 13. Ku ptáku | T2: 14. Kyvadlo | U2: 15. Válečky | V2: 16. Skrz plot
B3: 1 | C3: Štruncová Lenka | E3: =SUM(F3:V3) -> 1788 | F3: 88 | G3: 80 | H3: 60 | I3: 200 | J3: 20 | K3: 114 | L3: 90 | M3: 0 | N3: 108 | O3: 120 | P3: 160 | Q3: 180 | R3: 168 | S3: 40 | T3: 40 | U3: 240 | V3: 80
B4: 2 | C4: Thuma Veronika | E4: =SUM(F4:V4) -> 1446 | F4: 66 | G4: 70 | H4: 60 | I4: 200 | J4: 60 | K4: 120 | L4: 80 | M4: 0 | N4: 22 | O4: 40 | P4: 40 | Q4: 240 | R4: 168 | S4: 80 | T4: 0 | U4: 80 | V4: 120
B5: 3 | C5: Gurtler Grit | E5: =SUM(F5:V5) -> 1396 | F5: 114 | G5: 80 | H5: 0 | I5: 160 | J5: 20 | K5: 110 | L5: 50 | M5: 0 | N5: 32 | O5: 160 | P5: 0 | Q5: 120 | R5: 150 | S5: 40 | T5: 80 | U5: 240 | V5: 40
B6: 4 | C6: Klierová Růžena | E6: =SUM(F6:V6) -> 1386 | F6: 66 | G6: 40 | H6: 0 | I6: 200 | J6: 20 | K6: 140 | L6: 60 | M6: 0 | N6: 36 | O6: 80 | P6: 40 | Q6: 240 | R6: 120 | S6: 64 | T6: 40 | U6: 160 | V6: 80
B7: 5 | C7: Žeravová Markéta | E7: =SUM(F7:V7) -> 1356 | F7: 88 | G7: 40 | H7: 0 | I7: 200 | J7: 60 | K7: 78 | L7: 60 | M7: 0 | N7: 60 | O7: 140 | P7: 120 | Q7: 60 | R7: 120 | S7: 80 | T7: 10 | U7: 160 | V7: 80
B8: 6 | C8: Faustová Kateřina | E8: =SUM(F8:V8) -> 1342 | F8: 1342
B9: 7 | C9: Havlíčková Marika | E9: =SUM(F9:V9) -> 1018 | F9: 1018
B10: 8 | C10: Lavická Markéta | E10: =SUM(F10:V10) -> 978 | F10: 978
B11: 9 | C11: Vyčítalová Lucie | E11: =SUM(F11:V11) -> 572 | F11: 572 | H11: 0
B12: 10 | C12: Pospíšilová Jana | E12: =SUM(F12:V12) -> 0 | F12: 0
B13: 13 | E13: =SUM(F13:V13) -> 0
B14: 14 | E14: =SUM(F14:V14) -> 0
B15: 15 | E15: =SUM(F15:V15) -> 0
B16: 16 | E16: =SUM(F16:V16) -> 0
B17: 17 | E17: =SUM(F17:V17) -> 0
B18: 18 | E18: =SUM(F18:V18) -> 0
B19: 19 | E19: =SUM(F19:V19) -> 0
B20: 20 | E20: =SUM(F20:V20) -> 0
B21: 21 | E21: =SUM(F21:V21) -> 0
B22: 22 | E22: =SUM(F22:V22) -> 0
B23: 23 | E23: =SUM(F23:V23) -> 0
B24: 24 | E24: =SUM(F24:V24) -> 0
... B100: 100 | E100: =SUM(F100:V100) -> 0

Sheet Dor_M
C1: Dorost Kluci
B2: Pořadí | C2: Jméno a příjmení | E2: Bodů celkem | F2: ZVÍŘATA | G2: 1. Rychlostřelba | H2: 2. Kurník a liška | I2: 3. Letící drak | J2: 4. Běžící kolečka | K2: 5. Terčovka 20 m | L2: 6. Král. ústupovka | M2: 7. Létající kolečka | N2: 8. Terčovka 50 m | O2: 9. Bojovní trpaslíci | P2: 10. Trpasličí hrad | Q2: 11. Korona koule | R2: 12. Výr letící | S2: 13. Ku ptáku | T2: 14. Kyvadlo | U2: 15. Válečky | V2: 16. Skrz plot
B3: 1 | C3: Kubata Vít | E3: =SUM(F3:V3) -> 1725 | F3: 100 | G3: 100 | H3: 60 | I3: 200 | J3: 40 | K3: 112 | L3: 90 | M3: 0 | N3: 23 | O3: 160 | P3: 20 | Q3: 240 | R3: 120 | S3: 80 | T3: 140 | U3: 240 | V3: 0
B4: 2 | C4: Holub Matyáš | E4: =SUM(F4:V4) -> 1200 | F4: 84 | G4: 60 | H4: 60 | I4: 80 | J4: 20 | K4: 122 | L4: 70 | M4: 0 | N4: 44 | O4: 160 | P4: 0 | Q4: 180 | R4: 150 | S4: 120 | T4: 10 | U4: 0 | V4: 40
B5: 3 | E5: =SUM(F5:V5) -> 0
B6: 4 | E6: =SUM(F6:V6) -> 0
B7: 5 | E7: =SUM(F7:V7) -> 0
B8: 6 | E8: =SUM(F8:V8) -> 0
B9: 7 | E9: =SUM(F9:V9) -> 0
B10: 8 | E10: =SUM(F10:V10) -> 0
B11: 9 | E11: =SUM(F11:V11) -> 0
B12: 10 | E12: =SUM(F12:V12) -> 0
B13: 11 | E13: =SUM(F13:V13) -> 0
B14: 12 | E14: =SUM(F14:V14) -> 0
B15: 13 | E15: =SUM(F15:V15) -> 0
B16: 14 | E16: =SUM(F16:V16) -> 0
... B102: 100 | E102: =SUM(F102:V102) -> 0

Sheet Dor_Ž
C1: Dorost Dívky
B2: Pořadí | C2: Jméno a příjmení | E2: Bodů celkem | F2: ZVÍŘATA | G2: 1. Rychlostřelba | H2: 2. Kurník a liška | I2: 3. Letící drak | J2: 4. Běžící kolečka | K2: 5. Terčovka 20 m | L2: 6. Král. ústupovka | M2: 7. Létající kolečka | N2: 8. Terčovka 50 m | O2: 9. Bojovní trpaslíci | P2: 10. Trpasličí hrad | Q2: 11. Korona koule | R2: 12. Výr letící | S2: 13. Ku ptáku | T2: 14. Kyvadlo | U2: 15. Válečky | V2: 16. Skrz plot
B3: 1 | C3: Fenclová Anna | E3: =SUM(F3:V3) -> 1156 | F3: 76 | G3: 60 | H3: 60 | I3: 160 | J3: 40 | K3: 54 | L3: 50 | M3: 0 | N3: 36 | O3: 40 | P3: 40 | Q3: 180 | R3: 120 | S3: 0 | T3: 80 | U3: 160 | V3: 0
B4: 2 | E4: =SUM(F4:V4) -> 0
B5: 3 | E5: =SUM(F5:V5) -> 0
B6: 4 | E6: =SUM(F6:V6) -> 0
B7: 5 | E7: =SUM(F7:V7) -> 0
B8: 6 | E8: =SUM(F8:V8) -> 0
B9: 7 | E9: =SUM(F9:V9) -> 0
B10: 8 | E10: =SUM(F10:V10) -> 0
B11: 9 | E11: =SUM(F11:V11) -> 0
B12: 10 | E12: =SUM(F12:V12) -> 0
B13: 11 | E13: =SUM(F13:V13) -> 0
B14: 12 | E14: =SUM(F14:V14) -> 0
B15: 13 | E15: =SUM(F15:V15) -> 0
... B102: 100 | E102: =SUM(F102:V102) -> 0

Sheet Deti_M
C1: Děti Kluci
B2: Pořadí | C2: Jméno a příjmení | E2: Bodů celkem | F2: ZVÍŘATA | G2: 1. Rychlostřelba | H2: 2. Kurník a liška | I2: 3. Letící drak | J2: 4. Běžící kolečka | K2: 5. Terčovka 20 m | L2: 6. Král. ústupovka | M2: 7. Létající kolečka | N2: 8. Terčovka 50 m | O2: 9. Bojovní trpaslíci | P2: 10. Trpasličí hrad | Q2: 11. Korona koule | R2: 12. Výr letící | S2: 13. Ku ptáku | T2: 14. Kyvadlo | U2: 15. Válečky | V2: 16. Skrz plot
B3: 1 | C3: Rataj Dominik | E3: =SUM(F3:V3) -> 1456 | F3: 84 | G3: 80 | H3: 60 | I3: 160 | J3: 40 | K3: 144 | L3: 60 | M3: 40 | N3: 38 | O3: 80 | P3: 40 | Q3: 180 | R3: 210 | S3: 40 | T3: 120 | U3: 80 | V3: 0
B4: 2 | C4: Kubata Vilém | E4: =SUM(F4:V4) -> 1414 | F4: 116 | G4: 100 | H4: 120 | I4: 0 | J4: 40 | K4: 94 | L4: 40 | M4: 40 | N4: 20 | O4: 60 | P4: 20 | Q4: 140 | R4: 120 | S4: 144 | T4: 160 | U4: 200 | V4: 0
B5: 3 | C5: Kubata Mikuláš | E5: =SUM(F5:V5) -> 1382 | F5: 102 | G5: 70 | H5: 120 | I5: 0 | J5: 20 | K5: 124 | L5: 20 | M5: 0 | N5: 6 | O5: 80 | P5: 20 | Q5: 240 | R5: 120 | S5: 120 | T5: 60 | U5: 240 | V5: 40
B6: 4 | C6: Kubata Štěpán | E6: =SUM(F6:V6) -> 1376 | F6: 100 | G6: 90 | H6: 60 | I6: 120 | J6: 20 | K6: 136 | L6: 40 | M6: 0 | N6: 6 | O6: 20 | P6: 40 | Q6: 100 | R6: 150 | S6: 144 | T6: 70 | U6: 240 | V6: 40
B7: 5 | C7: Novák Jindřich IV | E7: =SUM(F7:V7) -> 622 | F7: 0 | G7: 30 | H7: 60 | I7: 0 | J7: 0 | K7: 72 | L7: 50 | M7: 0 | N7: 0 | O7: 20 | P7: 40 | Q7: 60 | R7: 120 | S7: 40 | T7: 50 | U7: 0 | V7: 80
B8: 6 | C8: Harbáček Ladislav | E8: =SUM(F8:V8) -> 0 | F8: 0
B9: 7 | E9: =SUM(F9:V9) -> 0
B10: 9 | E10: =SUM(F10:V10) -> 0
B11: 10 | E11: =SUM(F11:V11) -> 0
B12: 11 | E12: =SUM(F12:V12) -> 0
B13: 12 | E13: =SUM(F13:V13) -> 0
B14: 13 | E14: =SUM(F14:V14) -> 0
B15: 14 | E15: =SUM(F15:V15) -> 0
B16: 15 | E16: =SUM(F16:V16) -> 0
B17: 16 | E17: =SUM(F17:V17) -> 0
B18: 17 | E18: =SUM(F18:V18) -> 0
B19: 18 | E19: =SUM(F19:V19) -> 0
B20: 19 | E20: =SUM(F20:V20) -> 0
... B101: 100 | E101: =SUM(F101:V101) -> 0

Sheet Deti_Ž
C1: Děti Dívky
B2: Pořadí | C2: Jméno a příjmení | E2: Bodů celkem | F2: ZVÍŘATA | G2: 1. Rychlostřelba | H2: 2. Kurník a liška | I2: 3. Letící drak | J2: 4. Běžící kolečka | K2: 5. Terčovka 20 m | L2: 6. Král. ústupovka | M2: 7. Létající kolečka | N2: 8. Terčovka 50 m | O2: 9. Bojovní trpaslíci | P2: 10. Trpasličí hrad | Q2: 11. Korona koule | R2: 12. Výr letící | S2: 13. Ku ptáku | T2: 14. Kyvadlo | U2: 15. Válečky | V2: 16. Skrz plot
B3: 1 | C3: Žáková Alžběta | E3: =SUM(F3:V3) -> 854 | F3: 78 | G3: 50 | H3: 120 | I3: 0 | J3: 20 | K3: 104 | L3: 50 | M3: 0 | N3: 12 | O3: 40 | P3: 0 | Q3: 180 | R3: 60 | S3: 40 | T3: 20 | U3: 80 | V3: 0
B4: 2 | C4: Harbáčková Alena | E4: =SUM(F4:V4) -> 806 | F4: 92 | G4: 70 | H4: 60 | I4: 120 | J4: 40 | K4: 44 | L4: 30 | M4: 0 | N4: 40 | O4: 40 | P4: 40 | Q4: 120 | R4: 0 | S4: 0 | T4: 30 | U4: 80 | V4: 0
B5: 3 | C5: Herotova Maja | E5: =SUM(F5:V5) -> 652 | F5: 88 | G5: 30 | H5: 60 | I5: 80 | J5: 0 | K5: 48 | L5: 20 | M5: 0 | N5: 6 | O5: 80 | P5: 40 | Q5: 120 | R5: 60 | S5: 0 | T5: 20 | U5: 0 | V5: 0
B6: 4 | E6: =SUM(F6:V6) -> 0
B7: 5 | E7: =SUM(F7:V7) -> 0
B8: 6 | E8: =SUM(F8:V8) -> 0
B9: 8 | E9: =SUM(F9:V9) -> 0
B10: 9 | E10: =SUM(F10:V10) -> 0
B11: 10 | E11: =SUM(F11:V11) -> 0
B12: 11 | E12: =SUM(F12:V12) -> 0
B13: 12 | E13: =SUM(F13:V13) -> 0
B14: 13 | E14: =SUM(F14:V14) -> 0
B15: 14 | E15: =SUM(F15:V15) -> 0
B16: 15 | E16: =SUM(F16:V16) -> 0
B17: 16 | E17: =SUM(F17:V17) -> 0
... B101: 100 | E101: =SUM(F101:V101) -> 0

Sheet Hobiti
C1: Hobiti
B2: Pořadí | C2: Jméno a příjmení | E2: Bodů celkem | F2: ZVÍŘATA | G2: 1. Rychlostřelba | H2: 2. Kurník a liška | I2: 3. Letící drak | J2: 4. Běžící kolečka | K2: 5. Terčovka 20 m | L2: 6. Král. ústupovka | M2: 7. Létající kolečka | N2: 8. Terčovka 50 m | O2: 9. Bojovní trpaslíci | P2: 10. Trpasličí hrad | Q2: 11. Korona koule | R2: 12. Výr letící | S2: 13. Ku ptáku | T2: 14. Kyvadlo | U2: 15. Válečky | V2: 16. Skrz plot
B3: 1 | E3: =SUM(F3:V3) -> 0
B4: 2 | E4: =SUM(F4:V4) -> 0
B5: 3 | E5: =SUM(F5:V5) -> 0
B6: 4 | E6: =SUM(F6:V6) -> 0
B7: 5 | E7: =SUM(F7:V7) -> 0
B8: 6 | E8: =SUM(F8:V8) -> 0
B9: 7 | E9: =SUM(F9:V9) -> 0
B10: 8 | E10: =SUM(F10:V10) -> 0
B11: 9 | E11: =SUM(F11:V11) -> 0
B12: 10 | E12: =SUM(F12:V12) -> 0
B13: 11 | E13: =SUM(F13:V13) -> 0
B14: 12 | E14: =SUM(F14:V14) -> 0
... B102: 100 | E102: =SUM(F102:V102) -> 0

Sheet Startujici_platby
A1: Přehled přihlášených (92)
A3: # | B3: Jméno | C3: Kategorie | E3: Luk | F3: V.S. | G3: Platba | H3: Poznámka
A4: 59 | B4: Bajer Ralf | C4: dospeli | D4: M | E4: ll | F4: 564675
A5: 54 | B5: Bumba Pavel | C5: dospeli | D5: M | E5: tl | F5: 564669 | G5: 1
A6: 39 | B6: Čáslava Josef | C6: dospeli | D6: M | E6: ll | F6: 564591
A7: 38 | B7: Čáslava Karel | C7: dospeli | D7: M | E7: ll | F7: 564590 | G7: 1
A8: 73 | B8: Doleček Ivo | C8: dospeli | D8: M | E8: ll | F8: 564689
A9: 78 | B9: Drenina Dušan | C9: dospeli | D9: M | E9: ll | F9: 564751
A10: 6 | B10: Dvořáček Jiří | C10: dospeli | D10: M | E10: ll | F10: 564498 | H10: + 2x nedělní oběd +3x nedělní snídaně
A11: 21 | B11: Faust Patrik | C11: deti | D11: M | F11: 564513 | G11: 1
A12: 19 | B12: Faust Petr | C12: dospeli | D12: M | E12: ll | F12: 564511 | G12: 1
A13: 20 | B13: Faustová Kateřina | C13: dospeli | D13: Ž | E13: ll | F13: 564512 | G13: 1
A14: 33 | B14: Fencl Jan | C14: dospeli | D14: M | E14: ll | F14: 564585 | G14: 1
A15: 34 | B15: Fenclová Anna | C15: dorost | D15: Ž | F15: 564586 | G15: 1
A16: 57 | B16: Fér Ondra | C16: dospeli | D16: M | E16: ll | F16: 564673 | G16: 1
A17: 90 | B17: Frélich Martin | C17: dospeli | D17: M | E17: ll | F17: 564803 | H17: Mimo lukostřeleckou ligu.
A18: 58 | B18: Gurtler Grit | C18: dospeli | D18: M | E18: ll | F18: 564674
A19: 10 | B19: Habart Horst | C19: dospeli | D19: M | E19: tl | F19: 564502
A20: 69 | B20: Habart Michal | C20: dospeli | D20: M | E20: ll | F20: 564685
A21: 28 | B21: Haidlmaier Ondřej | C21: dospeli | D21: M | E21: tl | F21: 564546 | G21: 1
A22: 14 | B22: Hanzal Jiří | C22: dospeli | D22: M | E22: ll | F22: 564506
A23: 15 | B23: Hanzalová Karolína | C23: deti | D23: Ž | F23: 564507
A24: 13 | B24: Harbáčková Alena | C24: deti | D24: Ž | F24: 564505 | G24: 1
A25: 50 | B25: Havlíček Libor | C25: dospeli | D25: M | E25: tl | F25: 564663
A26: 51 | B26: Havlíčková Marika | C26: dospeli | D26: Ž | E26: ll | F26: 564664
A27: 45 | B27: Herotova Jana | C27: dospeli | D27: Ž | E27: pl | F27: 564653 | G27: 1
A28: 46 | B28: Herotova Maja | C28: deti | D28: Ž | F28: 564654 | G28: 1
A29: 53 | B29: Holub Matyáš | C29: dorost | D29: M | F29: 564666
A30: 48 | B30: Holub Petr | C30: dospeli | D30: M | E30: tl | F30: 564661
A31: 52 | B31: Holubová Karolína | C31: dospeli | D31: Ž | E31: tl | F31: 564665
A32: 29 | B32: Hrouda Miloslav | C32: dospeli | D32: M | E32: ll | F32: 564558 | G32: 1
A33: 71 | B33: Choma Jaroslav | C33: dospeli | D33: M | E33: tl | F33: 564687
A34: 76 | B34: Kácha Ladislav | C34: dospeli | D34: M | E34: ll | F34: 564692
A35: 35 | B35: Kejval Jaroslav | C35: dospeli | D35: M | E35: ll | F35: 564587
A36: 62 | B36: Kleman Juraj | C36: dospeli | D36: M | E36: pl | F36: 564678
A37: 63 | B37: Klemanová Adriana | C37: dospeli | D37: Ž | E37: pl | F37: 564679
A38: 65 | B38: Klemanová Klaudia | C38: deti | D38: Ž | F38: 564681
A39: 64 | B39: Klemanová Laura | C39: dorost | D39: Ž | F39: 564680
A40: 25 | B40: Klierová Růžena | C40: dospeli | D40: Ž | E40: ll | F40: 564517 | G40: 1
A41: 27 | B41: Kodýdek Miloš | C41: dospeli | D41: M | E41: tl | F41: 564519 | G41: 1
...
