Workbook

Sheet Celkove
C1: Celkový tisk
B2: =IF(Primitiv_PL!B1="","",Primitiv_PL!B1) | C2: =IF(Primitiv_PL!C1="","",Primitiv_PL!C1) -> Primitivní luk | D2: =IF(Primitiv_PL!D1="","",Primitiv_PL!D1) | E2: =IF(Primitiv_PL!E1="","",Primitiv_PL!E1) | F2: =IF(Primitiv_PL!F1="","",Primitiv_PL!F1) | G2: =IF(Primitiv_PL!G1="","",Primitiv_PL!G1) | H2: =IF(Primitiv_PL!H1="","",Primitiv_PL!H1) | I2: =IF(Primitiv_PL!I1="","",Primitiv_PL!I1) | ... V2: =IF(Primitiv_PL!V1="","",Primitiv_PL!V1)
B3: =IF(Primitiv_PL!B2="","",Primitiv_PL!B2) -> Pořadí | C3: =IF(Primitiv_PL!C2="","",Primitiv_PL!C2) -> Jméno a příjmení | D3: =IF(Primitiv_PL!D2="","",Primitiv_PL!D2) | E3: =IF(Primitiv_PL!E2="","",Primitiv_PL!E2) -> Bodů celkem | F3: =IF(Primitiv_PL!F2="","",Primitiv_PL!F2) -> ZVÍŘATA | G3: =IF(Primitiv_PL!G2="","",Primitiv_PL!G2) -> 1. Rychlostřelba | H3: =IF(Primitiv_PL!H2="","",Primitiv_PL!H2) -> 2. Kurník a liška | I3: =IF(Primitiv_PL!I2="","",Primitiv_PL!I2) -> 3. Letící drak | ... V3: =IF(Primitiv_PL!V2="","",Primitiv_PL!V2) -> 16. Skrz plot
B4: =IF(Primitiv_PL!B3="","",Primitiv_PL!B3) -> 1 | C4: =IF(Primitiv_PL!C3="","",Primitiv_PL!C3) -> Rataj Stanislav | D4: =IF(Primitiv_PL!D3="","",Primitiv_PL!D3) | E4: =IF(Primitiv_PL!E3="","",Primitiv_PL!E3) -> 2098 | F4: =IF(Primitiv_PL!F3="","",Primitiv_PL!F3) -> 120 | G4: =IF(Primitiv_PL!G3="","",Primitiv_PL!G3) -> 70 | H4: =IF(Primitiv_PL!H3="","",Primitiv_PL!H3) -> 180 | I4: =IF(Primitiv_PL!I3="","",Primitiv_PL!I3) -> 160 | ... V4: =IF(Primitiv_PL!V3="","",Primitiv_PL!V3) -> 128
B5: =IF(Primitiv_PL!B4="","",Primitiv_PL!B4) -> 2 | C5: =IF(Primitiv_PL!C4="","",Primitiv_PL!C4) -> Suchardová Johanka | D5: =IF(Primitiv_PL!D4="","",Primitiv_PL!D4) | E5: =IF(Primitiv_PL!E4="","",Primitiv_PL!E4) -> 1720 | F5: =IF(Primitiv_PL!F4="","",Primitiv_PL!F4) -> 100 | G5: =IF(Primitiv_PL!G4="","",Primitiv_PL!G4) -> 100 | H5: =IF(Primitiv_PL!H4="","",Primitiv_PL!H4) -> 60 | I5: =IF(Primitiv_PL!I4="","",Primitiv_PL!I4) -> 200 | ... V5: =IF(Primitiv_PL!V4="","",Primitiv_PL!V4) -> 104
B6: =IF(Primitiv_PL!B5="","",Primitiv_PL!B5) -> 3 | C6: =IF(Primitiv_PL!C5="","",Primitiv_PL!C5) -> Záhorka Petr | D6: =IF(Primitiv_PL!D5="","",Primitiv_PL!D5) | E6: =IF(Primitiv_PL!E5="","",Primitiv_PL!E5) -> 1542 | F6: =IF(Primitiv_PL!F5="","",Primitiv_PL!F5) -> 96 | G6: =IF(Primitiv_PL!G5="","",Primitiv_PL!G5) -> 80 | H6: =IF(Primitiv_PL!H5="","",Primitiv_PL!H5) -> 0 | I6: =IF(Primitiv_PL!I5="","",Primitiv_PL!I5) -> 200 | ... V6: =IF(Primitiv_PL!V5="","",Primitiv_PL!V5) -> 192
B7: =IF(Primitiv_PL!B6="","",Primitiv_PL!B6) -> 4 | C7: =IF(Primitiv_PL!C6="","",Primitiv_PL!C6) -> Schulz Alois | D7: =IF(Primitiv_PL!D6="","",Primitiv_PL!D6) | E7: =IF(Primitiv_PL!E6="","",Primitiv_PL!E6) -> 1400 | F7: =IF(Primitiv_PL!F6="","",Primitiv_PL!F6) -> 80 | G7: =IF(Primitiv_PL!G6="","",Primitiv_PL!G6) -> 80 | H7: =IF(Primitiv_PL!H6="","",Primitiv_PL!H6) -> 60 | I7: =IF(Primitiv_PL!I6="","",Primitiv_PL!I6) -> 200 | ... V7: =IF(Primitiv_PL!V6="","",Primitiv_PL!V6) -> 80
B8: =IF(Primitiv_PL!B7="","",Primitiv_PL!B7) -> 5 | C8: =IF(Primitiv_PL!C7="","",Primitiv_PL!C7) -> Ratajová Alena | D8: =IF(Primitiv_PL!D7="","",Primitiv_PL!D7) | E8: =IF(Primitiv_PL!E7="","",Primitiv_PL!E7) -> 1378 | F8: =IF(Primitiv_PL!F7="","",Primitiv_PL!F7) -> 70 | G8: =IF(Primitiv_PL!G7="","",Primitiv_PL!G7) -> 60 | H8: =IF(Primitiv_PL!H7="","",Primitiv_PL!H7) -> 0 | I8: =IF(Primitiv_PL!I7="","",Primitiv_PL!I7) -> 120 | ... V8: =IF(Primitiv_PL!V7="","",Primitiv_PL!V7) -> 80
B9: =IF(Primitiv_PL!B8="","",Primitiv_PL!B8) -> 6 | C9: =IF(Primitiv_PL!C8="","",Primitiv_PL!C8) -> Vencovský Hynek | D9: =IF(Primitiv_PL!D8="","",Primitiv_PL!D8) | E9: =IF(Primitiv_PL!E8="","",Primitiv_PL!E8) -> 1248 | F9: =IF(Primitiv_PL!F8="","",Primitiv_PL!F8) -> 88 | G9: =IF(Primitiv_PL!G8="","",Primitiv_PL!G8) -> 60 | H9: =IF(Primitiv_PL!H8="","",Primitiv_PL!H8) -> 0 | I9: =IF(Primitiv_PL!I8="","",Primitiv_PL!I8) -> 160 | ... V9: =IF(Primitiv_PL!V8="","",Primitiv_PL!V8) -> 40
B10: =IF(Primitiv_PL!B9="","",Primitiv_PL!B9) -> 7 | C10: =IF(Primitiv_PL!C9="","",Primitiv_PL!C9) -> Valeš Zbyněk | D10: =IF(Primitiv_PL!D9="","",Primitiv_PL!D9) | E10: =IF(Primitiv_PL!E9="","",Primitiv_PL!E9) -> 1070 | F10: =IF(Primitiv_PL!F9="","",Primitiv_PL!F9) -> 6 | G10: =IF(Primitiv_PL!G9="","",Primitiv_PL!G9) -> 30 | H10: =IF(Primitiv_PL!H9="","",Primitiv_PL!H9) -> 120 | I10: =IF(Primitiv_PL!I9="","",Primitiv_PL!I9) -> 120 | ... V10: =IF(Primitiv_PL!V9="","",Primitiv_PL!V9) -> 0
B11: =IF(Primitiv_PL!B10="","",Primitiv_PL!B10) -> 8 | C11: =IF(Primitiv_PL!C10="","",Primitiv_PL!C10) -> Obročníková Dobra | D11: =IF(Primitiv_PL!D10="","",Primitiv_PL!D10) | E11: =IF(Primitiv_PL!E10="","",Primitiv_PL!E10) -> 1162 | F11: =IF(Primitiv_PL!F10="","",Primitiv_PL!F10) -> 98 | G11: =IF(Primitiv_PL!G10="","",Primitiv_PL!G10) -> 50 | H11: =IF(Primitiv_PL!H10="","",Primitiv_PL!H10) -> 0 | I11: =IF(Primitiv_PL!I10="","",Primitiv_PL!I10) -> 160 | ... V11: =IF(Primitiv_PL!V10="","",Primitiv_PL!V10) -> 0
B12: =IF(Primitiv_PL!B11="","",Primitiv_PL!B11) -> 9 | C12: =IF(Primitiv_PL!C11="","",Primitiv_PL!C11) -> Herotova Jana | D12: =IF(Primitiv_PL!D11="","",Primitiv_PL!D11) | E12: =IF(Primitiv_PL!E11="","",Primitiv_PL!E11) -> 958 | F12: =IF(Primitiv_PL!F11="","",Primitiv_PL!F11) -> 78 | G12: =IF(Primitiv_PL!G11="","",Primitiv_PL!G11) -> 40 | H12: =IF(Primitiv_PL!H11="","",Primitiv_PL!H11) -> 60 | I12: =IF(Primitiv_PL!I11="","",Primitiv_PL!I11) -> 0 | ... V12: =IF(Primitiv_PL!V11="","",Primitiv_PL!V11) -> 104
B13: =IF(Primitiv_PL!B12="","",Primitiv_PL!B12) -> 10 | C13: =IF(Primitiv_PL!C12="","",Primitiv_PL!C12) -> Zýková Eva | D13: =IF(Primitiv_PL!D12="","",Primitiv_PL!D12) | E13: =IF(Primitiv_PL!E12="","",Primitiv_PL!E12) -> 470 | F13: =IF(Primitiv_PL!F12="","",Primitiv_PL!F12) -> 28 | G13: =IF(Primitiv_PL!G12="","",Primitiv_PL!G12) -> 60 | H13: =IF(Primitiv_PL!H12="","",Primitiv_PL!H12) -> 0 | I13: =IF(Primitiv_PL!I12="","",Primitiv_PL!I12) -> 0 | ... V13: =IF(Primitiv_PL!V12="","",Primitiv_PL!V12) -> 0
B14: =IF(Primitiv_PL!B15="","",Primitiv_PL!B15) -> 13 | C14: =IF(Primitiv_PL!C15="","",Primitiv_PL!C15) | D14: =IF(Primitiv_PL!D15="","",Primitiv_PL!D15) | E14: =IF(Primitiv_PL!E15="","",Primitiv_PL!E15) -> 0 | F14: =IF(Primitiv_PL!F15="","",Primitiv_PL!F15) | G14: =IF(Primitiv_PL!G15="","",Primitiv_PL!G15) | H14: =IF(Primitiv_PL!H15="","",Primitiv_PL!H15) | I14: =IF(Primitiv_PL!I15="","",Primitiv_PL!I15) | ... V14: =IF(Primitiv_PL!V15="","",Primitiv_PL!V15)
B15: =IF(Primitiv_PL!B16="","",Primitiv_PL!B16) -> 14 | C15: =IF(Primitiv_PL!C16="","",Primitiv_PL!C16) | D15: =IF(Primitiv_PL!D16="","",Primitiv_PL!D16) | E15: =IF(Primitiv_PL!E16="","",Primitiv_PL!E16) -> 0 | F15: =IF(Primitiv_PL!F16="","",Primitiv_PL!F16) | G15: =IF(Primitiv_PL!G16="","",Primitiv_PL!G16) | H15: =IF(Primitiv_PL!H16="","",Primitiv_PL!H16) | I15: =IF(Primitiv_PL!I16="","",Primitiv_PL!I16) | ... V15: =IF(Primitiv_PL!V16="","",Primitiv_PL!V16)
B16: =IF(Primitiv_PL!B17="","",Primitiv_PL!B17) -> 15 | C16: =IF(Primitiv_PL!C17="","",Primitiv_PL!C17) | D16: =IF(Primitiv_PL!D17="","",Primitiv_PL!D17) | E16: =IF(Primitiv_PL!E17="","",Primitiv_PL!E17) -> 0 | F16: =IF(Primitiv_PL!F17="","",Primitiv_PL!F17) | G16: =IF(Primitiv_PL!G17="","",Primitiv_PL!G17) | H16: =IF(Primitiv_PL!H17="","",Primitiv_PL!H17) | I16: =IF(Primitiv_PL!I17="","",Primitiv_PL!I17) | ... V16: =IF(Primitiv_PL!V17="","",Primitiv_PL!V17)
B17: =IF(Primitiv_PL!B18="","",Primitiv_PL!B18) -> 16 | C17: =IF(Primitiv_PL!C18="","",Primitiv_PL!C18) | D17: =IF(Primitiv_PL!D18="","",Primitiv_PL!D18) | E17: =IF(Primitiv_PL!E18="","",Primitiv_PL!E18) -> 0 | F17: =IF(Primitiv_PL!F18="","",Primitiv_PL!F18) | G17: =IF(Primitiv_PL!G18="","",Primitiv_PL!G18) | H17: =IF(Primitiv_PL!H18="","",Primitiv_PL!H18) | I17: =IF(Primitiv_PL!I18="","",Primitiv_PL!I18) | ... V17: =IF(Primitiv_PL!V18="","",Primitiv_PL!V18)
B18: =IF(Primitiv_PL!B19="","",Primitiv_PL!B19) -> 17 | C18: =IF(Primitiv_PL!C19="","",Primitiv_PL!C19) | D18: =IF(Primitiv_PL!D19="","",Primitiv_PL!D19) | E18: =IF(Primitiv_PL!E19="","",Primitiv_PL!E19) -> 0 | F18: =IF(Primitiv_PL!F19="","",Primitiv_PL!F19) | G18: =IF(Primitiv_PL!G19="","",Primitiv_PL!G19) | H18: =IF(Primitiv_PL!H19="","",Primitiv_PL!H19) | I18: =IF(Primitiv_PL!I19="","",Primitiv_PL!I19) | ... V18: =IF(Primitiv_PL!V19="","",Primitiv_PL!V19)
B19: =IF(Primitiv_PL!B20="","",Primitiv_PL!B20) -> 18 | C19: =IF(Primitiv_PL!C20="","",Primitiv_PL!C20) | D19: =IF(Primitiv_PL!D20="","",Primitiv_PL!D20) | E19: =IF(Primitiv_PL!E20="","",Primitiv_PL!E20) -> 0 | F19: =IF(Primitiv_PL!F20="","",Primitiv_PL!F20) | G19: =IF(Primitiv_PL!G20="","",Primitiv_PL!G20) | H19: =IF(Primitiv_PL!H20="","",Primitiv_PL!H20) | I19: =IF(Primitiv_PL!I20="","",Primitiv_PL!I20) | ... V19: =IF(Primitiv_PL!V20="","",Primitiv_PL!V20)
B20: =IF(Primitiv_PL!B21="","",Primitiv_PL!B21) -> 19 | C20: =IF(Primitiv_PL!C21="","",Primitiv_PL!C21) | D20: =IF(Primitiv_PL!D21="","",Primitiv_PL!D21) | E20: =IF(Primitiv_PL!E21="","",Primitiv_PL!E21) -> 0 | F20: =IF(Primitiv_PL!F21="","",Primitiv_PL!F21) | G20: =IF(Primitiv_PL!G21="","",Primitiv_PL!G21) | H20: =IF(Primitiv_PL!H21="","",Primitiv_PL!H21) | I20: =IF(Primitiv_PL!I21="","",Primitiv_PL!I21) | ... V20: =IF(Primitiv_PL!V21="","",Primitiv_PL!V21)
B21: =IF(Primitiv_PL!B22="","",Primitiv_PL!B22) -> 20 | C21: =IF(Primitiv_PL!C22="","",Primitiv_PL!C22) | D21: =IF(Primitiv_PL!D22="","",Primitiv_PL!D22) | E21: =IF(Primitiv_PL!E22="","",Primitiv_PL!E22) -> 0 | F21: =IF(Primitiv_PL!F22="","",Primitiv_PL!F22) | G21: =IF(Primitiv_PL!G22="","",Primitiv_PL!G22) | H21: =IF(Primitiv_PL!H22="","",Primitiv_PL!H22) | I21: =IF(Primitiv_PL!I22="","",Primitiv_PL!I22) | ... V21: =IF(Primitiv_PL!V22="","",Primitiv_PL!V22)
B22: =IF(Primitiv_PL!B23="","",Primitiv_PL!B23) -> 21 | C22: =IF(Primitiv_PL!C23="","",Primitiv_PL!C23) | D22: =IF(Primitiv_PL!D23="","",Primitiv_PL!D23) | E22: =IF(Primitiv_PL!E23="","",Primitiv_PL!E23) -> 0 | F22: =IF(Primitiv_PL!F23="","",Primitiv_PL!F23) | G22: =IF(Primitiv_PL!G23="","",Primitiv_PL!G23) | H22: =IF(Primitiv_PL!H23="","",Primitiv_PL!H23) | I22: =IF(Primitiv_PL!I23="","",Primitiv_PL!I23) | ... V22: =IF(Primitiv_PL!V23="","",Primitiv_PL!V23)
B23: =IF(Primitiv_PL!B24="","",Primitiv_PL!B24) -> 22 | C23: =IF(Primitiv_PL!C24="","",Primitiv_PL!C24) | D23: =IF(Primitiv_PL!D24="","",Primitiv_PL!D24) | E23: =IF(Primitiv_PL!E24="","",Primitiv_PL!E24) -> 0 | F23: =IF(Primitiv_PL!F24="","",Primitiv_PL!F24) | G23: =IF(Primitiv_PL!G24="","",Primitiv_PL!G24) | H23: =IF(Primitiv_PL!H24="","",Primitiv_PL!H24) | I23: =IF(Primitiv_PL!I24="","",Primitiv_PL!I24) | ... V23: =IF(Primitiv_PL!V24="","",Primitiv_PL!V24)
B24: =IF(Primitiv_PL!B25="","",Primitiv_PL!B25) -> 23 | C24: =IF(Primitiv_PL!C25="","",Primitiv_PL!C25) | D24: =IF(Primitiv_PL!D25="","",Primitiv_PL!D25) | E24: =IF(Primitiv_PL!E25="","",Primitiv_PL!E25) -> 0 | F24: =IF(Primitiv_PL!F25="","",Primitiv_PL!F25) | G24: =IF(Primitiv_PL!G25="","",Primitiv_PL!G25) | H24: =IF(Primitiv_PL!H25="","",Primitiv_PL!H25) | I24: =IF(Primitiv_PL!I25="","",Primitiv_PL!I25) | ... V24: =IF(Primitiv_PL!V25="","",Primitiv_PL!V25)
B25: =IF(Primitiv_PL!B26="","",Primitiv_PL!B26) -> 24 | C25: =IF(Primitiv_PL!C26="","",Primitiv_PL!C26) | D25: =IF(Primitiv_PL!D26="","",Primitiv_PL!D26) | E25: =IF(Primitiv_PL!E26="","",Primitiv_PL!E26) -> 0 | F25: =IF(Primitiv_PL!F26="","",Primitiv_PL!F26) | G25: =IF(Primitiv_PL!G26="","",Primitiv_PL!G26) | H25: =IF(Primitiv_PL!H26="","",Primitiv_PL!H26) | I25: =IF(Primitiv_PL!I26="","",Primitiv_PL!I26) | ... V25: =IF(Primitiv_PL!V26="","",Primitiv_PL!V26)
... B93: =IF(Primitiv_PL!B94="","",Primitiv_PL!B94) -> 92 | C93: =IF(Primitiv_PL!C94="","",Primitiv_PL!C94) | D93: =IF(Primitiv_PL!D94="","",Primitiv_PL!D94) | E93: =IF(Primitiv_PL!E94="","",Primitiv_PL!E94) -> 0 | F93: =IF(Primitiv_PL!F94="","",Primitiv_PL!F94) | G93: =IF(Primitiv_PL!G94="","",Primitiv_PL!G94) | H93: =IF(Primitiv_PL!H94="","",Primitiv_PL!H94) | I93: =IF(Primitiv_PL!I94="","",Primitiv_PL!I94) | ... V93: =IF(Primitiv_PL!V94="","",Primitiv_PL!V94)
B94: =IF(Primitiv_PL!B93="","",Primitiv_PL!B93) -> 91 | C94: =IF(Primitiv_PL!C93="","",Primitiv_PL!C93) | D94: =IF(Primitiv_PL!D93="","",Primitiv_PL!D93) | E94: =IF(Primitiv_PL!E93="","",Primitiv_PL!E93) -> 0 | F94: =IF(Primitiv_PL!F93="","",Primitiv_PL!F93) | G94: =IF(Primitiv_PL!G93="","",Primitiv_PL!G93) | H94: =IF(Primitiv_PL!H93="","",Primitiv_PL!H93) | I94: =IF(Primitiv_PL!I93="","",Primitiv_PL!I93) | ... V94: =IF(Primitiv_PL!V93="","",Primitiv_PL!V93)
B95: =IF(Primitiv_PL!B96="","",Primitiv_PL!B96) -> 94 | C95: =IF(Primitiv_PL!C96="","",Primitiv_PL!C96) | D95: =IF(Primitiv_PL!D96="","",Primitiv_PL!D96) | E95: =IF(Primitiv_PL!E96="","",Primitiv_PL!E96) -> 0 | F95: =IF(Primitiv_PL!F96="","",Primitiv_PL!F96) | G95: =IF(Primitiv_PL!G96="","",Primitiv_PL!G96) | H95: =IF(Primitiv_PL!H96="","",Primitiv_PL!H96) | I95: =IF(Primitiv_PL!I96="","",Primitiv_PL!I96) | ... V95: =IF(Primitiv_PL!V96="","",Primitiv_PL!V96)
B96: =IF(Primitiv_PL!B97="","",Primitiv_PL!B97) -> 95 | C96: =IF(Primitiv_PL!C97="","",Primitiv_PL!C97) | D96: =IF(Primitiv_PL!D97="","",Primitiv_PL!D97) | E96: =IF(Primitiv_PL!E97="","",Primitiv_PL!E97) -> 0 | F96: =IF(Primitiv_PL!F97="","",Primitiv_PL!F97) | G96: =IF(Primitiv_PL!G97="","",Primitiv_PL!G97) | H96: =IF(Primitiv_PL!H97="","",Primitiv_PL!H97) | I96: =IF(Primitiv_PL!I97="","",Primitiv_PL!I97) | ... V96: =IF(Primitiv_PL!V97="","",Primitiv_PL!V97)
B97: =IF(Primitiv_PL!B98="","",Primitiv_PL!B98) -> 96 | C97: =IF(Primitiv_PL!C98="","",Primitiv_PL!C98) | D97: =IF(Primitiv_PL!D98="","",Primitiv_PL!D98) | E97: =IF(Primitiv_PL!E98="","",Primitiv_PL!E98) -> 0 | F97: =IF(Primitiv_PL!F98="","",Primitiv_PL!F98) | G97: =IF(Primitiv_PL!G98="","",Primitiv_PL!G98) | H97: =IF(Primitiv_PL!H98="","",Primitiv_PL!H98) | I97: =IF(Primitiv_PL!I98="","",Primitiv_PL!I98) | ... V97: =IF(Primitiv_PL!V98="","",Primitiv_PL!V98)
B98: =IF(Primitiv_PL!B99="","",Primitiv_PL!B99) -> 97 | C98: =IF(Primitiv_PL!C99="","",Primitiv_PL!C99) | D98: =IF(Primitiv_PL!D99="","",Primitiv_PL!D99) | E98: =IF(Primitiv_PL!E99="","",Primitiv_PL!E99) -> 0 | F98: =IF(Primitiv_PL!F99="","",Primitiv_PL!F99) | G98: =IF(Primitiv_PL!G99="","",Primitiv_PL!G99) | H98: =IF(Primitiv_PL!H99="","",Primitiv_PL!H99) | I98: =IF(Primitiv_PL!I99="","",Primitiv_PL!I99) | ... V98: =IF(Primitiv_PL!V99="","",Primitiv_PL!V99)
B99: =IF(Primitiv_PL!B100="","",Primitiv_PL!B100) -> 98 | C99: =IF(Primitiv_PL!C100="","",Primitiv_PL!C100) | D99: =IF(Primitiv_PL!D100="","",Primitiv_PL!D100) | E99: =IF(Primitiv_PL!E100="","",Primitiv_PL!E100) -> 0 | F99: =IF(Primitiv_PL!F100="","",Primitiv_PL!F100) | G99: =IF(Primitiv_PL!G100="","",Primitiv_PL!G100) | H99: =IF(Primitiv_PL!H100="","",Primitiv_PL!H100) | I99: =IF(Primitiv_PL!I100="","",Primitiv_PL!I100) | ... V99: =IF(Primitiv_PL!V100="","",Primitiv_PL!V100)
B100: =IF(Primitiv_PL!B101="","",Primitiv_PL!B101) -> 99 | C100: =IF(Primitiv_PL!C101="","",Primitiv_PL!C101) | D100: =IF(Primitiv_PL!D101="","",Primitiv_PL!D101) | E100: =IF(Primitiv_PL!E101="","",Primitiv_PL!E101) -> 0 | F100: =IF(Primitiv_PL!F101="","",Primitiv_PL!F101) | G100: =IF(Primitiv_PL!G101="","",Primitiv_PL!G101) | H100: =IF(Primitiv_PL!H101="","",Primitiv_PL!H101) | I100: =IF(Primitiv_PL!I101="","",Primitiv_PL!I101) | ... V100: =IF(Primitiv_PL!V101="","",Primitiv_PL!V101)
B101: =IF(Primitiv_PL!B102="","",Primitiv_PL!B102) -> 100 | C101: =IF(Primitiv_PL!C102="","",Primitiv_PL!C102) | D101: =IF(Primitiv_PL!D102="","",Primitiv_PL!D102) | E101: =IF(Primitiv_PL!E102="","",Primitiv_PL!E102) -> 0 | F101: =IF(Primitiv_PL!F102="","",Primitiv_PL!F102) | G101: =IF(Primitiv_PL!G102="","",Primitiv_PL!G102) | H101: =IF(Primitiv_PL!H102="","",Primitiv_PL!H102) | I101: =IF(Primitiv_PL!I102="","",Primitiv_PL!I102) | ... V101: =IF(Primitiv_PL!V102="","",Primitiv_PL!V102)
B102: : | C102: : | D102: : | E102: : | F102: : | G102: : | H102: : | I102: : | J102: : | K102: : | L102: : | M102: : | N102: : | O102: : | P102: : | Q102: : | R102: : | S102: : | T102: : | U102: : | V102: :
B103: =IF(Trad_TL!B1="","",Trad_TL!B1) | C103: =IF(Trad_TL!C1="","",Trad_TL!C1) -> Tradiční luk | D103: =IF(Trad_TL!D1="","",Trad_TL!D1) | E103: =IF(Trad_TL!E1="","",Trad_TL!E1) | F103: =IF(Trad_TL!F1="","",Trad_TL!F1) | G103: =IF(Trad_TL!G1="","",Trad_TL!G1) | H103: =IF(Trad_TL!H1="","",Trad_TL!H1) | I103: =IF(Trad_TL!I1="","",Trad_TL!I1) | ... V103: =IF(Trad_TL!V1="","",Trad_TL!V1)
B104: =IF(Trad_TL!B2="","",Trad_TL!B2) -> Pořadí | C104: =IF(Trad_TL!C2="","",Trad_TL!C2) -> Jméno a příjmení | D104: =IF(Trad_TL!D2="","",Trad_TL!D2) | E104: =IF(Trad_TL!E2="","",Trad_TL!E2) -> Bodů celkem | F104: =IF(Trad_TL!F2="","",Trad_TL!F2) -> ZVÍŘATA | G104: =IF(Trad_TL!G2="","",Trad_TL!G2) -> 1. Rychlostřelba | H104: =IF(Trad_TL!H2="","",Trad_TL!H2) -> 2. Kurník a liška | I104: =IF(Trad_TL!I2="","",Trad_TL!I2) -> 3. Letící drak | ... V104: =IF(Trad_TL!V2="","",Trad_TL!V2) -> 16. Skrz plot
B105: =IF(Trad_TL!B3="","",Trad_TL!B3) -> 1 | C105: =IF(Trad_TL!C3="","",Trad_TL!C3) -> Haidlmaier Ondřej | D105: =IF(Trad_TL!D3="","",Trad_TL!D3) | E105: =IF(Trad_TL!E3="","",Trad_TL!E3) -> 1872 | F105: =IF(Trad_TL!F3="","",Trad_TL!F3) -> 104 | G105: =IF(Trad_TL!G3="","",Trad_TL!G3) -> 80 | H105: =IF(Trad_TL!H3="","",Trad_TL!H3) -> 60 | I105: =IF(Trad_TL!I3="","",Trad_TL!I3) -> 120 | ... V105: =IF(Trad_TL!V3="","",Trad_TL!V3) -> 200
B106: =IF(Trad_TL!B4="","",Trad_TL!B4) -> 2 | C106: =IF(Trad_TL!C4="","",Trad_TL!C4) -> Kodýdek Miloš | D106: =IF(Trad_TL!D4="","",Trad_TL!D4) | E106: =IF(Trad_TL!E4="","",Trad_TL!E4) -> 1812 | F106: =IF(Trad_TL!F4="","",Trad_TL!F4) -> 108 | G106: =IF(Trad_TL!G4="","",Trad_TL!G4) -> 60 | H106: =IF(Trad_TL!H4="","",Trad_TL!H4) -> 0 | I106: =IF(Trad_TL!I4="","",Trad_TL!I4) -> 200 | ... V106: =IF(Trad_TL!V4="","",Trad_TL!V4) -> 0
B107: =IF(Trad_TL!B5="","",Trad_TL!B5) -> 3 | C107: =IF(Trad_TL!C5="","",Trad_TL!C5) -> Kroča Radek | D107: =IF(Trad_TL!D5="","",Trad_TL!D5) | E107: =IF(Trad_TL!E5="","",Trad_TL!E5) -> 1504 | F107: =IF(Trad_TL!F5="","",Trad_TL!F5) -> 88 | G107: =IF(Trad_TL!G5="","",Trad_TL!G5) -> 80 | H107: =IF(Trad_TL!H5="","",Trad_TL!H5) -> 0 | I107: =IF(Trad_TL!I5="","",Trad_TL!I5) -> 160 | ... V107: =IF(Trad_TL!V5="","",Trad_TL!V5) -> 144
B108: =IF(Trad_TL!B6="","",Trad_TL!B6) -> 4 | C108: =IF(Trad_TL!C6="","",Trad_TL!C6) -> Holub Petr | D108: =IF(Trad_TL!D6="","",Trad_TL!D6) | E108: =IF(Trad_TL!E6="","",Trad_TL!E6) -> 1436 | F108: =IF(Trad_TL!F6="","",Trad_TL!F6) -> 92 | G108: =IF(Trad_TL!G6="","",Trad_TL!G6) -> 100 | H108: =IF(Trad_TL!H6="","",Trad_TL!H6) -> 60 | I108: =IF(Trad_TL!I6="","",Trad_TL!I6) -> 80 | ... V108: =IF(Trad_TL!V6="","",Trad_TL!V6) -> 0
B109: =IF(Trad_TL!B7="","",Trad_TL!B7) -> 5 | C109: =IF(Trad_TL!C7="","",Trad_TL!C7) -> Bumba Pavel | D109: =IF(Trad_TL!D7="","",Trad_TL!D7) | E109: =IF(Trad_TL!E7="","",Trad_TL!E7) -> 1306 | F109: =IF(Trad_TL!F7="","",Trad_TL!F7) -> 70 | G109: =IF(Trad_TL!G7="","",Trad_TL!G7) -> 70 | H109: =IF(Trad_TL!H7="","",Trad_TL!H7) -> 60 | I109: =IF(Trad_TL!I7="","",Trad_TL!I7) -> 0 | ... V109: =IF(Trad_TL!V7="","",Trad_TL!V7) -> 120
B110: =IF(Trad_TL!B8="","",Trad_TL!B8) -> 6 | C110: =IF(Trad_TL!C8="","",Trad_TL!C8) -> Rychtaříková Jana | D110: =IF(Trad_TL!D8="","",Trad_TL!D8) | E110: =IF(Trad_TL!E8="","",Trad_TL!E8) -> 1176 | F110: =IF(Trad_TL!F8="","",Trad_TL!F8) -> 98 | G110: =IF(Trad_TL!G8="","",Trad_TL!G8) -> 60 | H110: =IF(Trad_TL!H8="","",Trad_TL!H8) -> 60 | I110: =IF(Trad_TL!I8="","",Trad_TL!I8) -> 80 | ... V110: =IF(Trad_TL!V8="","",Trad_TL!V8) -> 40
B111: =IF(Trad_TL!B9="","",Trad_TL!B9) -> 8 | C111: =IF(Trad_TL!C9="","",Trad_TL!C9) -> Sobotka Aleš | D111: =IF(Trad_TL!D9="","",Trad_TL!D9) | E111: =IF(Trad_TL!E9="","",Trad_TL!E9) -> 1136 | F111: =IF(Trad_TL!F9="","",Trad_TL!F9) -> 80 | G111: =IF(Trad_TL!G9="","",Trad_TL!G9) -> 30 | H111: =IF(Trad_TL!H9="","",Trad_TL!H9) -> 0 | I111: =IF(Trad_TL!I9="","",Trad_TL!I9) -> 160 | ... V111: =IF(Trad_TL!V9="","",Trad_TL!V9) -> 80
B112: =IF(Trad_TL!B10="","",Trad_TL!B10) -> 9 | C112: =IF(Trad_TL!C10="","",Trad_TL!C10) -> Holubová Karolína | D112: =IF(Trad_TL!D10="","",Trad_TL!D10) | E112: =IF(Trad_TL!E10="","",Trad_TL!E10) -> 614 | F112: =IF(Trad_TL!F10="","",Trad_TL!F10) -> 64 | G112: =IF(Trad_TL!G10="","",Trad_TL!G10) -> 50 | H112: =IF(Trad_TL!H10="","",Trad_TL!H10) -> 0 | I112: =IF(Trad_TL!I10="","",Trad_TL!I10) -> 0 | ... V112: =IF(Trad_TL!V10="","",Trad_TL!V10) -> 64
B113: =IF(Trad_TL!B11="","",Trad_TL!B11) -> 10 | C113: =IF(Trad_TL!C11="","",Trad_TL!C11) | D113: =IF(Trad_TL!D11="","",Trad_TL!D11) | E113: =IF(Trad_TL!E11="","",Trad_TL!E11) -> 0 | F113: =IF(Trad_TL!F11="","",Trad_TL!F11) | G113: =IF(Trad_TL!G11="","",Trad_TL!G11) | H113: =IF(Trad_TL!H11="","",Trad_TL!H11) | I113: =IF(Trad_TL!I11="","",Trad_TL!I11) | ... V113: =IF(Trad_TL!V11="","",Trad_TL!V11)
B114: =IF(Trad_TL!B12="","",Trad_TL!B12) -> 18 | C114: =IF(Trad_TL!C12="","",Trad_TL!C12) | D114: =IF(Trad_TL!D12="","",Trad_TL!D12) | E114: =IF(Trad_TL!E12="","",Trad_TL!E12) -> 0 | F114: =IF(Trad_TL!F12="","",Trad_TL!F12) | G114: =IF(Trad_TL!G12="","",Trad_TL!G12) | H114: =IF(Trad_TL!H12="","",Trad_TL!H12) | I114: =IF(Trad_TL!I12="","",Trad_TL!I12) | ... V114: =IF(Trad_TL!V12="","",Trad_TL!V12)
... B116: =IF(Trad_TL!B14="","",Trad_TL!B14) -> 20 | C116: =IF(Trad_TL!C14="","",Trad_TL!C14) | D116: =IF(Trad_TL!D14="","",Trad_TL!D14) | E116: =IF(Trad_TL!E14="","",Trad_TL!E14) -> 0 | F116: =IF(Trad_TL!F14="","",Trad_TL!F14) | G116: =IF(Trad_TL!G14="","",Trad_TL!G14) | H116: =IF(Trad_TL!H14="","",Trad_TL!H14) | I116: =IF(Trad_TL!I14="","",Trad_TL!I14) | ... V116: =IF(Trad_TL!V14="","",Trad_TL!V14)
B117: =IF(Trad_TL!B13="","",Trad_TL!B13) -> 19 | C117: =IF(Trad_TL!C13="","",Trad_TL!C13) | D117: =IF(Trad_TL!D13="","",Trad_TL!D13) | E117: =IF(Trad_TL!E13="","",Trad_TL!E13) -> 0 | F117: =IF(Trad_TL!F13="","",Trad_TL!F13) | G117: =IF(Trad_TL!G13="","",Trad_TL!G13) | H117: =IF(Trad_TL!H13="","",Trad_TL!H13) | I117: =IF(Trad_TL!I13="","",Trad_TL!I13) | ... V117: =IF(Trad_TL!V13="","",Trad_TL!V13)
B118: =IF(Trad_TL!B14="","",Trad_TL!B14) -> 20 | C118: =IF(Trad_TL!C14="","",Trad_TL!C14) | D118: =IF(Trad_TL!D14="","",Trad_TL!D14) | E118: =IF(Trad_TL!E14="","",Trad_TL!E14) -> 0 | F118: =IF(Trad_TL!F14="","",Trad_TL!F14) | G118: =IF(Trad_TL!G14="","",Trad_TL!G14) | H118: =IF(Trad_TL!H14="","",Trad_TL!H14) | I118: =IF(Trad_TL!I14="","",Trad_TL!I14) | ... V118: =IF(Trad_TL!V14="","",Trad_TL!V14)
B119: =IF(Trad_TL!B15="","",Trad_TL!B15) -> 21 | C119: =IF(Trad_TL!C15="","",Trad_TL!C15) | D119: =IF(Trad_TL!D15="","",Trad_TL!D15) | E119: =IF(Trad_TL!E15="","",Trad_TL!E15) -> 0 | F119: =IF(Trad_TL!F15="","",Trad_TL!F15) | G119: =IF(Trad_TL!G15="","",Trad_TL!G15) | H119: =IF(Trad_TL!H15="","",Trad_TL!H15) | I119: =IF(Trad_TL!I15="","",Trad_TL!I15) | ... V119: =IF(Trad_TL!V15="","",Trad_TL!V15)
B120: =IF(Trad_TL!B16="","",Trad_TL!B16) -> 22 | C120: =IF(Trad_TL!C16="","",Trad_TL!C16) | D120: =IF(Trad_TL!D16="","",Trad_TL!D16) | E120: =IF(Trad_TL!E16="","",Trad_TL!E16) -> 0 | F120: =IF(Trad_TL!F16="","",Trad_TL!F16) | G120: =IF(Trad_TL!G16="","",Trad_TL!G16) | H120: =IF(Trad_TL!H16="","",Trad_TL!H16) | I120: =IF(Trad_TL!I16="","",Trad_TL!I16) | ... V120: =IF(Trad_TL!V16="","",Trad_TL!V16)
B121: =IF(Trad_TL!B17="","",Trad_TL!B17) -> 23 | C121: =IF(Trad_TL!C17="","",Trad_TL!C17) | D121: =IF(Trad_TL!D17="","",Trad_TL!D17) | E121: =IF(Trad_TL!E17="","",Trad_TL!E17) -> 0 | F121: =IF(Trad_TL!F17="","",Trad_TL!F17) | G121: =IF(Trad_TL!G17="","",Trad_TL!G17) | H121: =IF(Trad_TL!H17="","",Trad_TL!H17) | I121: =IF(Trad_TL!I17="","",Trad_TL!I17) | ... V121: =IF(Trad_TL!V17="","",Trad_TL!V17)
B122: =IF(Trad_TL!B18="","",Trad_TL!B18) -> 24 | C122: =IF(Trad_TL!C18="","",Trad_TL!C18) | D122: =IF(Trad_TL!D18="","",Trad_TL!D18) | E122: =IF(Trad_TL!E18="","",Trad_TL!E18) -> 0 | F122: =IF(Trad_TL!F18="","",Trad_TL!F18) | G122: =IF(Trad_TL!G18="","",Trad_TL!G18) | H122: =IF(Trad_TL!H18="","",Trad_TL!H18) | I122: =IF(Trad_TL!I18="","",Trad_TL!I18) | ... V122: =IF(Trad_TL!V18="","",Trad_TL!V18)
B123: =IF(Trad_TL!B19="","",Trad_TL!B19) -> 25 | C123: =IF(Trad_TL!C19="","",Trad_TL!C19) | D123: =IF(Trad_TL!D19="","",Trad_TL!D19) | E123: =IF(Trad_TL!E19="","",Trad_TL!E19) -> 0 | F123: =IF(Trad_TL!F19="","",Trad_TL!F19) | G123: =IF(Trad_TL!G19="","",Trad_TL!G19) | H123: =IF(Trad_TL!H19="","",Trad_TL!H19) | I123: =IF(Trad_TL!I19="","",Trad_TL!I19) | ... V123: =IF(Trad_TL!V19="","",Trad_TL!V19)
B124: =IF(Trad_TL!B20="","",Trad_TL!B20) -> 26 | C124: =IF(Trad_TL!C20="","",Trad_TL!C20) | D124: =IF(Trad_TL!D20="","",Trad_TL!D20) | E124: =IF(Trad_TL!E20="","",Trad_TL!E20) -> 0 | F124: =IF(Trad_TL!F20="","",Trad_TL!F20) | G124: =IF(Trad_TL!G20="","",Trad_TL!G20) | H124: =IF(Trad_TL!H20="","",Trad_TL!H20) | I124: =IF(Trad_TL!I20="","",Trad_TL!I20) | ... V124: =IF(Trad_TL!V20="","",Trad_TL!V20)
B125: =IF(Trad_TL!B21="","",Trad_TL!B21) -> 27 | C125: =IF(Trad_TL!C21="","",Trad_TL!C21) | D125: =IF(Trad_TL!D21="","",Trad_TL!D21) | E125: =IF(Trad_TL!E21="","",Trad_TL!E21) -> 0 | F125: =IF(Trad_TL!F21="","",Trad_TL!F21) | G125: =IF(Trad_TL!G21="","",Trad_TL!G21) | H125: =IF(Trad_TL!H21="","",Trad_TL!H21) | I125: =IF(Trad_TL!I21="","",Trad_TL!I21) | ... V125: =IF(Trad_TL!V21="","",Trad_TL!V21)
B126: =IF(Trad_TL!B22="","",Trad_TL!B22) -> 28 | C126: =IF(Trad_TL!C22="","",Trad_TL!C22) | D126: =IF(Trad_TL!D22="","",Trad_TL!D22) | E126: =IF(Trad_TL!E22="","",Trad_TL!E22) -> 0 | F126: =IF(Trad_TL!F22="","",Trad_TL!F22) | G126: =IF(Trad_TL!G22="","",Trad_TL!G22) | H126: =IF(Trad_TL!H22="","",Trad_TL!H22) | I126: =IF(Trad_TL!I22="","",Trad_TL!I22) | ... V126: =IF(Trad_TL!V22="","",Trad_TL!V22)
B127: =IF(Trad_TL!B23="","",Trad_TL!B23) -> 29 | C127: =IF(Trad_TL!C23="","",Trad_TL!C23) | D127: =IF(Trad_TL!D23="","",Trad_TL!D23) | E127: =IF(Trad_TL!E23="","",Trad_TL!E23) -> 0 | F127: =IF(Trad_TL!F23="","",Trad_TL!F23) | G127: =IF(Trad_TL!G23="","",Trad_TL!G23) | H127: =IF(Trad_TL!H23="","",Trad_TL!H23) | I127: =IF(Trad_TL!I23="","",Trad_TL!I23) | ... V127: =IF(Trad_TL!V23="","",Trad_TL!V23)
B128: =IF(Trad_TL!B24="","",Trad_TL!B24) -> 30 | C128: =IF(Trad_TL!C24="","",Trad_TL!C24) | D128: =IF(Trad_TL!D24="","",Trad_TL!D24) | E128: =IF(Trad_TL!E24="","",Trad_TL!E24) -> 0 | F128: =IF(Trad_TL!F24="","",Trad_TL!F24) | G128: =IF(Trad_TL!G24="","",Trad_TL!G24) | H128: =IF(Trad_TL!H24="","",Trad_TL!H24) | I128: =IF(Trad_TL!I24="","",Trad_TL!I24) | ... V128: =IF(Trad_TL!V24="","",Trad_TL!V24)
... B198: =IF(Trad_TL!B94="","",Trad_TL!B94) -> 100 | C198: =IF(Trad_TL!C94="","",Trad_TL!C94) | D198: =IF(Trad_TL!D94="","",Trad_TL!D94) | E198: =IF(Trad_TL!E94="","",Trad_TL!E94) -> 0 | F198: =IF(Trad_TL!F94="","",Trad_TL!F94) | G198: =IF(Trad_TL!G94="","",Trad_TL!G94) | H198: =IF(Trad_TL!H94="","",Trad_TL!H94) | I198: =IF(Trad_TL!I94="","",Trad_TL!I94) | ... V198: =IF(Trad_TL!V94="","",Trad_TL!V94)
B199: : | C199: : | D199: : | E199: : | F199: : | G199: : | H199: : | I199: : | J199: : | K199: : | L199: : | M199: : | N199: : | O199: : | P199: : | Q199: : | R199: : | S199: : | T199: : | U199: : | V199: :
B200: =IF(Muzi_LL!B1="","",Muzi_LL!B1) | C200: =IF(Muzi_LL!C1="","",Muzi_LL!C1) -> Muži - Lovecký luk | D200: =IF(Muzi_LL!D1="","",Muzi_LL!D1) | E200: =IF(Muzi_LL!E1="","",Muzi_LL!E1) | F200: =IF(Muzi_LL!F1="","",Muzi_LL!F1) | G200: =IF(Muzi_LL!G1="","",Muzi_LL!G1) | H200: =IF(Muzi_LL!H1="","",Muzi_LL!H1) | I200: =IF(Muzi_LL!I1="","",Muzi_LL!I1) | ... V200: =IF(Muzi_LL!V1="","",Muzi_LL!V1)
B201: =IF(Muzi_LL!B2="","",Muzi_LL!B2) -> Pořadí | C201: =IF(Muzi_LL!C2="","",Muzi_LL!C2) -> Jméno a příjmení | D201: =IF(Muzi_LL!D2="","",Muzi_LL!D2) | E201: =IF(Muzi_LL!E2="","",Muzi_LL!E2) -> Bodů celkem | F201: =IF(Muzi_LL!F2="","",Muzi_LL!F2) -> ZVÍŘATA | G201: =IF(Muzi_LL!G2="","",Muzi_LL!G2) -> 1. Rychlostřelba | H201: =IF(Muzi_LL!H2="","",Muzi_LL!H2) -> 2. Kurník a liška | I201: =IF(Muzi_LL!I2="","",Muzi_LL!I2) -> 3. Letící drak | ... V201: =IF(Muzi_LL!V2="","",Muzi_LL!V2) -> 16. Skrz plot
B202: =IF(Muzi_LL!B3="","",Muzi_LL!B3) -> 1 | C202: =IF(Muzi_LL!C3="","",Muzi_LL!C3) -> Fér Ondra | D202: =IF(Muzi_LL!D3="","",Muzi_LL!D3) | E202: =IF(Muzi_LL!E3="","",Muzi_LL!E3) -> 2368 | F202: =IF(Muzi_LL!F3="","",Muzi_LL!F3) -> 76 | G202: =IF(Muzi_LL!G3="","",Muzi_LL!G3) -> 80 | H202: =IF(Muzi_LL!H3="","",Muzi_LL!H3) -> 180 | I202: =IF(Muzi_LL!I3="","",Muzi_LL!I3) -> 200 | ... V202: =IF(Muzi_LL!V3="","",Muzi_LL!V3) -> 200
B203: =IF(Muzi_LL!B4="","",Muzi_LL!B4) -> 2 | C203: =IF(Muzi_LL!C4="","",Muzi_LL!C4) -> Frélich Martin | D203: =IF(Muzi_LL!D4="","",Muzi_LL!D4) | E203: =IF(Muzi_LL!E4="","",Muzi_LL!E4) -> 2146 | F203: =IF(Muzi_LL!F4="","",Muzi_LL!F4) -> 118 | G203: =IF(Muzi_LL!G4="","",Muzi_LL!G4) -> 80 | H203: =IF(Muzi_LL!H4="","",Muzi_LL!H4) -> 60 | I203: =IF(Muzi_LL!I4="","",Muzi_LL!I4) -> 160 | ... V203: =IF(Muzi_LL!V4="","",Muzi_LL!V4) -> 104
B204: =IF(Muzi_LL!B5="","",Muzi_LL!B5) -> 3 | C204: =IF(Muzi_LL!C5="","",Muzi_LL!C5) -> Šidák Miroslav | D204: =IF(Muzi_LL!D5="","",Muzi_LL!D5) | E204: =IF(Muzi_LL!E5="","",Muzi_LL!E5) -> 2138 | F204: =IF(Muzi_LL!F5="","",Muzi_LL!F5) -> 110 | G204: =IF(Muzi_LL!G5="","",Muzi_LL!G5) -> 80 | H204: =IF(Muzi_LL!H5="","",Muzi_LL!H5) -> 60 | I204: =IF(Muzi_LL!I5="","",Muzi_LL!I5) -> 200 | ... V204: =IF(Muzi_LL!V5="","",Muzi_LL!V5) -> 160
B205: =IF(Muzi_LL!B6="","",Muzi_LL!B6) -> 4 | C205: =IF(Muzi_LL!C6="","",Muzi_LL!C6) -> Hrouda Miloslav | D205: =IF(Muzi_LL!D6="","",Muzi_LL!D6) | E205: =IF(Muzi_LL!E6="","",Muzi_LL!E6) -> 2102 | F205: =IF(Muzi_LL!F6="","",Muzi_LL!F6) -> 114 | G205: =IF(Muzi_LL!G6="","",Muzi_LL!G6) -> 80 | H205: =IF(Muzi_LL!H6="","",Muzi_LL!H6) -> 120 | I205: =IF(Muzi_LL!I6="","",Muzi_LL!I6) -> 200 | ... V205: =IF(Muzi_LL!V6="","",Muzi_LL!V6) -> 208
B206: =IF(Muzi_LL!B7="","",Muzi_LL!B7) -> 5 | C206: =IF(Muzi_LL!C7="","",Muzi_LL!C7) -> Kácha Ladislav | D206: =IF(Muzi_LL!D7="","",Muzi_LL!D7) | E206: =IF(Muzi_LL!E7="","",Muzi_LL!E7) -> 2024 | F206: =IF(Muzi_LL!F7="","",Muzi_LL!F7) -> 110 | G206: =IF(Muzi_LL!G7="","",Muzi_LL!G7) -> 140 | H206: =IF(Muzi_LL!H7="","",Muzi_LL!H7) -> 120 | I206: =IF(Muzi_LL!I7="","",Muzi_LL!I7) -> 160 | ... V206: =IF(Muzi_LL!V7="","",Muzi_LL!V7) -> 104
B207: =IF(Muzi_LL!B8="","",Muzi_LL!B8) -> 6 | C207: =IF(Muzi_LL!C8="","",Muzi_LL!C8) -> Pospíšil David | D207: =IF(Muzi_LL!D8="","",Muzi_LL!D8) | E207: =IF(Muzi_LL!E8="","",Muzi_LL!E8) -> 1980 | F207: =IF(Muzi_LL!F8="","",Muzi_LL!F8) -> 110 | G207: =IF(Muzi_LL!G8="","",Muzi_LL!G8) -> 70 | H207: =IF(Muzi_LL!H8="","",Muzi_LL!H8) -> 120 | I207: =IF(Muzi_LL!I8="","",Muzi_LL!I8) -> 200 | ... V207: =IF(Muzi_LL!V8="","",Muzi_LL!V8) -> 104
B208: =IF(Muzi_LL!B9="","",Muzi_LL!B9) -> 7 | C208: =IF(Muzi_LL!C9="","",Muzi_LL!C9) -> Faust Petr | D208: =IF(Muzi_LL!D9="","",Muzi_LL!D9) | E208: =IF(Muzi_LL!E9="","",Muzi_LL!E9) -> 1934 | F208: =IF(Muzi_LL!F9="","",Muzi_LL!F9) -> 106 | G208: =IF(Muzi_LL!G9="","",Muzi_LL!G9) -> 100 | H208: =IF(Muzi_LL!H9="","",Muzi_LL!H9) -> 120 | I208: =IF(Muzi_LL!I9="","",Muzi_LL!I9) -> 200 | ... V208: =IF(Muzi_LL!V9="","",Muzi_LL!V9) -> 120
B209: =IF(Muzi_LL!B10="","",Muzi_LL!B10) -> 8 | C209: =IF(Muzi_LL!C10="","",Muzi_LL!C10) -> Škraňka Pavel | D209: =IF(Muzi_LL!D10="","",Muzi_LL!D10) | E209: =IF(Muzi_LL!E10="","",Muzi_LL!E10) -> 1852 | F209: =IF(Muzi_LL!F10="","",Muzi_LL!F10) -> 1852 | G209: =IF(Muzi_LL!G10="","",Muzi_LL!G10) | H209: =IF(Muzi_LL!H10="","",Muzi_LL!H10) | I209: =IF(Muzi_LL!I10="","",Muzi_LL!I10) | ... V209: =IF(Muzi_LL!V10="","",Muzi_LL!V10)
B210: =IF(Muzi_LL!B11="","",Muzi_LL!B11) -> 9 | C210: =IF(Muzi_LL!C11="","",Muzi_LL!C11) -> Hanzal Jiří | D210: =IF(Muzi_LL!D11="","",Muzi_LL!D11) | E210: =IF(Muzi_LL!E11="","",Muzi_LL!E11) -> 1846 | F210: =IF(Muzi_LL!F11="","",Muzi_LL!F11) -> 1846 | G210: =IF(Muzi_LL!G11="","",Muzi_LL!G11) | H210: =IF(Muzi_LL!H11="","",Muzi_LL!H11) | I210: =IF(Muzi_LL!I11="","",Muzi_LL!I11) | ... V210: =IF(Muzi_LL!V11="","",Muzi_LL!V11)
B211: =IF(Muzi_LL!B12="","",Muzi_LL!B12) -> 10 | C211: =IF(Muzi_LL!C12="","",Muzi_LL!C12) -> Mikeš Zdeněk | D211: =IF(Muzi_LL!D12="","",Muzi_LL!D12) | E211: =IF(Muzi_LL!E12="","",Muzi_LL!E12) -> 1830 | F211: =IF(Muzi_LL!F12="","",Muzi_LL!F12) -> 1830 | G211: =IF(Muzi_LL!G12="","",Muzi_LL!G12) | H211: =IF(Muzi_LL!H12="","",Muzi_LL!H12) | I211: =IF(Muzi_LL!I12="","",Muzi_LL!I12) | ... V211: =IF(Muzi_LL!V12="","",Muzi_LL!V12)
... B238: =IF(Muzi_LL!B39="","",Muzi_LL!B39) -> 37 | C238: =IF(Muzi_LL!C39="","",Muzi_LL!C39) | D238: =IF(Muzi_LL!D39="","",Muzi_LL!D39) | E238: =IF(Muzi_LL!E39="","",Muzi_LL!E39) -> 0 | F238: =IF(Muzi_LL!F39="","",Muzi_LL!F39) | G238: =IF(Muzi_LL!G39="","",Muzi_LL!G39) | H238: =IF(Muzi_LL!H39="","",Muzi_LL!H39) | I238: =IF(Muzi_LL!I39="","",Muzi_LL!I39) | ... V238: =IF(Muzi_LL!V39="","",Muzi_LL!V39)
B239: =IF(Muzi_LL!B38="","",Muzi_LL!B38) -> 36 | C239: =IF(Muzi_LL!C40="","",Muzi_LL!C40) | D239: =IF(Muzi_LL!D40="","",Muzi_LL!D40) | E239: =IF(Muzi_LL!E40="","",Muzi_LL!E40) -> 0 | F239: =IF(Muzi_LL!F40="","",Muzi_LL!F40) | G239: =IF(Muzi_LL!G40="","",Muzi_LL!G40) | H239: =IF(Muzi_LL!H40="","",Muzi_LL!H40) | I239: =IF(Muzi_LL!I40="","",Muzi_LL!I40) | J239: =IF(Muzi_LL!J40="","",Muzi_LL!J40) | ... V239: =IF(Muzi_LL!V40="","",Muzi_LL!V40)
B240: =IF(Muzi_LL!B39="","",Muzi_LL!B39) -> 37 | C240: =IF(Muzi_LL!C41="","",Muzi_LL!C41) | D240: =IF(Muzi_LL!D41="","",Muzi_LL!D41) | E240: =IF(Muzi_LL!E41="","",Muzi_LL!E41) -> 0 | F240: =IF(Muzi_LL!F41="","",Muzi_LL!F41) | G240: =IF(Muzi_LL!G41="","",Muzi_LL!G41) | H240: =IF(Muzi_LL!H41="","",Muzi_LL!H41) | I240: =IF(Muzi_LL!I41="","",Muzi_LL!I41) | J240: =IF(Muzi_LL!J41="","",Muzi_LL!J41) | ... V240: =IF(Muzi_LL!V41="","",Muzi_LL!V41)
B241: =IF(Muzi_LL!B33="","",Muzi_LL!B33) -> 31 | C241: =IF(Muzi_LL!#REF!="","",Muzi_LL!#REF!) -> #REF! | D241: =IF(Muzi_LL!D33="","",Muzi_LL!D33) | E241: =IF(Muzi_LL!E33="","",Muzi_LL!E33) -> 1068 | F241: =IF(Muzi_LL!F33="","",Muzi_LL!F33) -> 1068 | G241: =IF(Muzi_LL!G33="","",Muzi_LL!G33) | H241: =IF(Muzi_LL!H33="","",Muzi_LL!H33) | I241: =IF(Muzi_LL!I33="","",Muzi_LL!I33) | J241: =IF(Muzi_LL!J33="","",Muzi_LL!J33) | K241: =IF(Muzi_LL!K33="","",Muzi_LL!K33) | ... V241: =IF(Muzi_LL!V33="","",Muzi_LL!V33)
B242: =IF(Muzi_LL!#REF!="","",Muzi_LL!#REF!) -> #REF! | C242: =IF(Muzi_LL!C33="","",Muzi_LL!C33) -> Lukes Martin | D242: =IF(Muzi_LL!#REF!="","",Muzi_LL!#REF!) -> #REF! | E242: =IF(Muzi_LL!#REF!="","",Muzi_LL!#REF!) -> #REF! | F242: =IF(Muzi_LL!#REF!="","",Muzi_LL!#REF!) -> #REF! | G242: =IF(Muzi_LL!#REF!="","",Muzi_LL!#REF!) -> #REF! | H242: =IF(Muzi_LL!#REF!="","",Muzi_LL!#REF!) -> #REF! | I242: =IF(Muzi_LL!#REF!="","",Muzi_LL!#REF!) -> #REF! | J242: =IF(Muzi_LL!#REF!="","",Muzi_LL!#REF!) -> #REF! | K242: =IF(Muzi_LL!#REF!="","",Muzi_LL!#REF!) -> #REF! | ... V242: =IF(Muzi_LL!#REF!="","",Muzi_LL!#REF!) -> #REF!
B243: =IF(Muzi_LL!B34="","",Muzi_LL!B34) -> 32 | C243: =IF(Muzi_LL!#REF!="","",Muzi_LL!#REF!) -> #REF! | D243: =IF(Muzi_LL!D34="","",Muzi_LL!D34) | E243: =IF(Muzi_LL!E34="","",Muzi_LL!E34) -> 954 | F243: =IF(Muzi_LL!F34="","",Muzi_LL!F34) -> 86 | G243: =IF(Muzi_LL!G34="","",Muzi_LL!G34) -> 50 | H243: =IF(Muzi_LL!H34="","",Muzi_LL!H34) -> 0 | I243: =IF(Muzi_LL!I34="","",Muzi_LL!I34) -> 200 | J243: =IF(Muzi_LL!J34="","",Muzi_LL!J34) -> 0 | K243: =IF(Muzi_LL!K34="","",Muzi_LL!K34) -> 68 | ... V243: =IF(Muzi_LL!V34="","",Muzi_LL!V34) -> 40
B244: =IF(Muzi_LL!B35="","",Muzi_LL!B35) -> 33 | C244: =IF(Muzi_LL!#REF!="","",Muzi_LL!#REF!) -> #REF! | D244: =IF(Muzi_LL!D35="","",Muzi_LL!D35) | E244: =IF(Muzi_LL!E35="","",Muzi_LL!E35) -> 844 | F244: =IF(Muzi_LL!F35="","",Muzi_LL!F35) -> 844 | G244: =IF(Muzi_LL!G35="","",Muzi_LL!G35) | H244: =IF(Muzi_LL!H35="","",Muzi_LL!H35) | I244: =IF(Muzi_LL!I35="","",Muzi_LL!I35) | J244: =IF(Muzi_LL!J35="","",Muzi_LL!J35) | K244: =IF(Muzi_LL!K35="","",Muzi_LL!K35) | ... V244: =IF(Muzi_LL!V35="","",Muzi_LL!V35)
B245: =IF(Muzi_LL!B36="","",Muzi_LL!B36) -> 34 | C245: =IF(Muzi_LL!#REF!="","",Muzi_LL!#REF!) -> #REF! | D245: =IF(Muzi_LL!D36="","",Muzi_LL!D36) | E245: =IF(Muzi_LL!E36="","",Muzi_LL!E36) -> 700 | F245: =IF(Muzi_LL!F36="","",Muzi_LL!F36) -> 700 | G245: =IF(Muzi_LL!G36="","",Muzi_LL!G36) | H245: =IF(Muzi_LL!H36="","",Muzi_LL!H36) | I245: =IF(Muzi_LL!I36="","",Muzi_LL!I36) | J245: =IF(Muzi_LL!J36="","",Muzi_LL!J36) | K245: =IF(Muzi_LL!K36="","",Muzi_LL!K36) | ... V245: =IF(Muzi_LL!V36="","",Muzi_LL!V36)
B246: =IF(Muzi_LL!#REF!="","",Muzi_LL!#REF!) -> #REF! | C246: =IF(Muzi_LL!#REF!="","",Muzi_LL!#REF!) -> #REF! | D246: =IF(Muzi_LL!#REF!="","",Muzi_LL!#REF!) -> #REF! | E246: =IF(Muzi_LL!#REF!="","",Muzi_LL!#REF!) -> #REF! | F246: =IF(Muzi_LL!#REF!="","",Muzi_LL!#REF!) -> #REF! | G246: =IF(Muzi_LL!#REF!="","",Muzi_LL!#REF!) -> #REF! | H246: =IF(Muzi_LL!#REF!="","",Muzi_LL!#REF!) -> #REF! | I246: =IF(Muzi_LL!#REF!="","",Muzi_LL!#REF!) -> #REF! | ... V246: =IF(Muzi_LL!#REF!="","",Muzi_LL!#REF!) -> #REF!
B247: =IF(Muzi_LL!#REF!="","",Muzi_LL!#REF!) -> #REF! | C247: =IF(Muzi_LL!#REF!="","",Muzi_LL!#REF!) -> #REF! | D247: =IF(Muzi_LL!#REF!="","",Muzi_LL!#REF!) -> #REF! | E247: =IF(Muzi_LL!#REF!="","",Muzi_LL!#REF!) -> #REF! | F247: =IF(Muzi_LL!#REF!="","",Muzi_LL!#REF!) -> #REF! | G247: =IF(Muzi_LL!#REF!="","",Muzi_LL!#REF!) -> #REF! | H247: =IF(Muzi_LL!#REF!="","",Muzi_LL!#REF!) -> #REF! | I247: =IF(Muzi_LL!#REF!="","",Muzi_LL!#REF!) -> #REF! | ... V247: =IF(Muzi_LL!#REF!="","",Muzi_LL!#REF!) -> #REF!
B248: =IF(Muzi_LL!B47="","",Muzi_LL!B47) -> 58 | C248: =IF(Muzi_LL!C47="","",Muzi_LL!C47) | D248: =IF(Muzi_LL!D47="","",Muzi_LL!D47) | E248: =IF(Muzi_LL!E47="","",Muzi_LL!E47) -> 0 | F248: =IF(Muzi_LL!F47="","",Muzi_LL!F47) | G248: =IF(Muzi_LL!G47="","",Muzi_LL!G47) | H248: =IF(Muzi_LL!H47="","",Muzi_LL!H47) | I248: =IF(Muzi_LL!I47="","",Muzi_LL!I47) | ... V248: =IF(Muzi_LL!V47="","",Muzi_LL!V47)
B249: =IF(Muzi_LL!B48="","",Muzi_LL!B48) -> 59 | C249: =IF(Muzi_LL!C48="","",Muzi_LL!C48) | D249: =IF(Muzi_LL!D48="","",Muzi_LL!D48) | E249: =IF(Muzi_LL!E48="","",Muzi_LL!E48) -> 0 | F249: =IF(Muzi_LL!F48="","",Muzi_LL!F48) | G249: =IF(Muzi_LL!G48="","",Muzi_LL!G48) | H249: =IF(Muzi_LL!H48="","",Muzi_LL!H48) | I249: =IF(Muzi_LL!I48="","",Muzi_LL!I48) | ... V249: =IF(Muzi_LL!V48="","",Muzi_LL!V48)
B250: =IF(Muzi_LL!B49="","",Muzi_LL!B49) -> 60 | C250: =IF(Muzi_LL!C49="","",Muzi_LL!C49) | D250: =IF(Muzi_LL!D49="","",Muzi_LL!D49) | E250: =IF(Muzi_LL!E49="","",Muzi_LL!E49) -> 0 | F250: =IF(Muzi_LL!F49="","",Muzi_LL!F49) | G250: =IF(Muzi_LL!G49="","",Muzi_LL!G49) | H250: =IF(Muzi_LL!H49="","",Muzi_LL!H49) | I250: =IF(Muzi_LL!I49="","",Muzi_LL!I49) | ... V250: =IF(Muzi_LL!V49="","",Muzi_LL!V49)
B251: =IF(Muzi_LL!B50="","",Muzi_LL!B50) -> 61 | C251: =IF(Muzi_LL!C50="","",Muzi_LL!C50) | D251: =IF(Muzi_LL!D50="","",Muzi_LL!D50) | E251: =IF(Muzi_LL!E50="","",Muzi_LL!E50) -> 0 | F251: =IF(Muzi_LL!F50="","",Muzi_LL!F50) | G251: =IF(Muzi_LL!G50="","",Muzi_LL!G50) | H251: =IF(Muzi_LL!H50="","",Muzi_LL!H50) | I251: =IF(Muzi_LL!I50="","",Muzi_LL!I50) | ... V251: =IF(Muzi_LL!V50="","",Muzi_LL!V50)
B252: =IF(Muzi_LL!B40="","",Muzi_LL!B40) -> 38 | C252: =IF(Muzi_LL!C40="","",Muzi_LL!C40) | D252: =IF(Muzi_LL!D40="","",Muzi_LL!D40) | E252: =IF(Muzi_LL!E40="","",Muzi_LL!E40) -> 0 | F252: =IF(Muzi_LL!F40="","",Muzi_LL!F40) | G252: =IF(Muzi_LL!G40="","",Muzi_LL!G40) | H252: =IF(Muzi_LL!H40="","",Muzi_LL!H40) | I252: =IF(Muzi_LL!I40="","",Muzi_LL!I40) | ... V252: =IF(Muzi_LL!V40="","",Muzi_LL!V40)
B253: =IF(Muzi_LL!B41="","",Muzi_LL!B41) -> 52 | C253: =IF(Muzi_LL!C41="","",Muzi_LL!C41) | D253: =IF(Muzi_LL!D41="","",Muzi_LL!D41) | E253: =IF(Muzi_LL!E41="","",Muzi_LL!E41) -> 0 | F253: =IF(Muzi_LL!F41="","",Muzi_LL!F41) | G253: =IF(Muzi_LL!G41="","",Muzi_LL!G41) | H253: =IF(Muzi_LL!H41="","",Muzi_LL!H41) | I253: =IF(Muzi_LL!I41="","",Muzi_LL!I41) | ... V253: =IF(Muzi_LL!V41="","",Muzi_LL!V41)
B254: =IF(Muzi_LL!B42="","",Muzi_LL!B42) -> 53 | C254: =IF(Muzi_LL!C42="","",Muzi_LL!C42) | D254: =IF(Muzi_LL!D42="","",Muzi_LL!D42) | E254: =IF(Muzi_LL!E42="","",Muzi_LL!E42) -> 0 | F254: =IF(Muzi_LL!F42="","",Muzi_LL!F42) | G254: =IF(Muzi_LL!G42="","",Muzi_LL!G42) | H254: =IF(Muzi_LL!H42="","",Muzi_LL!H42) | I254: =IF(Muzi_LL!I42="","",Muzi_LL!I42) | ... V254: =IF(Muzi_LL!V42="","",Muzi_LL!V42)
B255: =IF(Muzi_LL!B43="","",Muzi_LL!B43) -> 54 | C255: =IF(Muzi_LL!C43="","",Muzi_LL!C43) | D255: =IF(Muzi_LL!D43="","",Muzi_LL!D43) | E255: =IF(Muzi_LL!E43="","",Muzi_LL!E43) -> 0 | F255: =IF(Muzi_LL!F43="","",Muzi_LL!F43) | G255: =IF(Muzi_LL!G43="","",Muzi_LL!G43) | H255: =IF(Muzi_LL!H43="","",Muzi_LL!H43) | I255: =IF(Muzi_LL!I43="","",Muzi_LL!I43) | ... V255: =IF(Muzi_LL!V43="","",Muzi_LL!V43)
B256: =IF(Muzi_LL!B44="","",Muzi_LL!B44) -> 55 | C256: =IF(Muzi_LL!C44="","",Muzi_LL!C44) | D256: =IF(Muzi_LL!D44="","",Muzi_LL!D44) | E256: =IF(Muzi_LL!E44="","",Muzi_LL!E44) -> 0 | F256: =IF(Muzi_LL!F44="","",Muzi_LL!F44) | G256: =IF(Muzi_LL!G44="","",Muzi_LL!G44) | H256: =IF(Muzi_LL!H44="","",Muzi_LL!H44) | I256: =IF(Muzi_LL!I44="","",Muzi_LL!I44) | ... V256: =IF(Muzi_LL!V44="","",Muzi_LL!V44)
B257: =IF(Muzi_LL!B45="","",Muzi_LL!B45) -> 56 | C257: =IF(Muzi_LL!C45="","",Muzi_LL!C45) | D257: =IF(Muzi_LL!D45="","",Muzi_LL!D45) | E257: =IF(Muzi_LL!E45="","",Muzi_LL!E45) -> 0 | F257: =IF(Muzi_LL!F45="","",Muzi_LL!F45) | G257: =IF(Muzi_LL!G45="","",Muzi_LL!G45) | H257: =IF(Muzi_LL!H45="","",Muzi_LL!H45) | I257: =IF(Muzi_LL!I45="","",Muzi_LL!I45) | ... V257: =IF(Muzi_LL!V45="","",Muzi_LL!V45)
B258: =IF(Muzi_LL!B46="","",Muzi_LL!B46) -> 57 | C258: =IF(Muzi_LL!C46="","",Muzi_LL!C46) | D258: =IF(Muzi_LL!D46="","",Muzi_LL!D46) | E258: =IF(Muzi_LL!E46="","",Muzi_LL!E46) -> 0 | F258: =IF(Muzi_LL!F46="","",Muzi_LL!F46) | G258: =IF(Muzi_LL!G46="","",Muzi_LL!G46) | H258: =IF(Muzi_LL!H46="","",Muzi_LL!H46) | I258: =IF(Muzi_LL!I46="","",Muzi_LL!I46) | ... V258: =IF(Muzi_LL!V46="","",Muzi_LL!V46)
B259: =IF(Muzi_LL!B47="","",Muzi_LL!B47) -> 58 | C259: =IF(Muzi_LL!C47="","",Muzi_LL!C47) | D259: =IF(Muzi_LL!D47="","",Muzi_LL!D47) | E259: =IF(Muzi_LL!E47="","",Muzi_LL!E47) -> 0 | F259: =IF(Muzi_LL!F47="","",Muzi_LL!F47) | G259: =IF(Muzi_LL!G47="","",Muzi_LL!G47) | H259: =IF(Muzi_LL!H47="","",Muzi_LL!H47) | I259: =IF(Muzi_LL!I47="","",Muzi_LL!I47) | ... V259: =IF(Muzi_LL!V47="","",Muzi_LL!V47)
B260: =IF(Muzi_LL!B48="","",Muzi_LL!B48) -> 59 | C260: =IF(Muzi_LL!C48="","",Muzi_LL!C48) | D260: =IF(Muzi_LL!D48="","",Muzi_LL!D48) | E260: =IF(Muzi_LL!E48="","",Muzi_LL!E48) -> 0 | F260: =IF(Muzi_LL!F48="","",Muzi_LL!F48) | G260: =IF(Muzi_LL!G48="","",Muzi_LL!G48) | H260: =IF(Muzi_LL!H48="","",Muzi_LL!H48) | I260: =IF(Muzi_LL!I48="","",Muzi_LL!I48) | ... V260: =IF(Muzi_LL!V48="","",Muzi_LL!V48)
B261: =IF(Muzi_LL!B49="","",Muzi_LL!B49) -> 60 | C261: =IF(Muzi_LL!C49="","",Muzi_LL!C49) | D261: =IF(Muzi_LL!D49="","",Muzi_LL!D49) | E261: =IF(Muzi_LL!E49="","",Muzi_LL!E49) -> 0 | F261: =IF(Muzi_LL!F49="","",Muzi_LL!F49) | G261: =IF(Muzi_LL!G49="","",Muzi_LL!G49) | H261: =IF(Muzi_LL!H49="","",Muzi_LL!H49) | I261: =IF(Muzi_LL!I49="","",Muzi_LL!I49) | ... V261: =IF(Muzi_LL!V49="","",Muzi_LL!V49)
B262: =IF(Muzi_LL!B50="","",Muzi_LL!B50) -> 61 | C262: =IF(Muzi_LL!C50="","",Muzi_LL!C50) | D262: =IF(Muzi_LL!D50="","",Muzi_LL!D50) | E262: =IF(Muzi_LL!E50="","",Muzi_LL!E50) -> 0 | F262: =IF(Muzi_LL!F50="","",Muzi_LL!F50) | G262: =IF(Muzi_LL!G50="","",Muzi_LL!G50) | H262: =IF(Muzi_LL!H50="","",Muzi_LL!H50) | I262: =IF(Muzi_LL!I50="","",Muzi_LL!I50) | ... V262: =IF(Muzi_LL!V50="","",Muzi_LL!V50)
B263: =IF(Muzi_LL!B51="","",Muzi_LL!B51) -> 62 | C263: =IF(Muzi_LL!C51="","",Muzi_LL!C51) | D263: =IF(Muzi_LL!D51="","",Muzi_LL!D51) | E263: =IF(Muzi_LL!E51="","",Muzi_LL!E51) -> 0 | F263: =IF(Muzi_LL!F51="","",Muzi_LL!F51) | G263: =IF(Muzi_LL!G51="","",Muzi_LL!G51) | H263: =IF(Muzi_LL!H51="","",Muzi_LL!H51) | I263: =IF(Muzi_LL!I51="","",Muzi_LL!I51) | ... V263: =IF(Muzi_LL!V51="","",Muzi_LL!V51)
...

Sheet Startujici
A1: Přehled přihlášených
A3: # | B3: Jméno | C3: Přezdívka | D3: e-mail | E3: Kategorie | G3: Luk | H3: Klub/Město | I3: Datum | J3: V.S. | K3: Platba | L3: Poznámka
A4: 59 | B4: Bajer Ralf | C4: Majer | D4: obrocnikovi@gmail.com | E4: dospeli | F4: M | G4: ll | H4: Ostrostřelci Skalany | I4: 44052.897 | J4: 564675
A5: 54 | B5: Bumba Pavel | C5: Messermann | D5: bumbapavel@seznam.cz | E5: dospeli | F5: M | G5: tl | H5: KLAN-N DĚČÍN | I5: 44046.49 | J5: 564669
A6: 39 | B6: Čáslava Josef | D6: carlito@seznam.cz | E6: dospeli | F6: M | G6: ll | H6: Krnov | I6: 44034.908 | J6: 564591
A7: 38 | B7: Čáslava Karel | D7: carlito@seznam.cz | E7: dospeli | F7: M | G7: ll | H7: LK Totem | I7: 44034.908 | J7: 564590
A8: 73 | B8: Doleček Ivo | C8: Ivo | D8: jaroslav.choma@tiscali.cz | E8: dospeli | F8: M | G8: ll | H8: Sagittarius | I8: 44058.029 | J8: 564689
A9: 78 | B9: Drenina Dušan | D9: obrocnikovi@gmail.com | E9: dospeli | F9: M | G9: ll | H9: Mladá Boleslav | I9: 44059.649 | J9: 564751
A10: 6 | B10: Dvořáček Jiří | D10: jidvoracek@seznam.cz | E10: dospeli | F10: M | G10: ll | H10: Lukostřelci Českého Lesa | I10: 44026.264 | J10: 564498 | L10: + 2x nedělní oběd +3x nedělní snídaně
A11: 21 | B11: Faust Patrik | C11: Malej Faustik | D11: faust.petr@seznam.cz | E11: deti | F11: M | H11: Chabařovice | I11: 44026.502 | J11: 564513
A12: 19 | B12: Faust Petr | C12: Faustik | D12: faust.petr@seznam.cz | E12: dospeli | F12: M | G12: ll | H12: Chabařovice | I12: 44026.501 | J12: 564511
A13: 20 | B13: Faustová Kateřina | C13: Faustice | D13: faust.petr@seznam.cz | E13: dospeli | F13: Ž | G13: ll | H13: Chabařovice | I13: 44026.501 | J13: 564512
A14: 33 | B14: Fencl Jan | D14: fenclj@seznam.cz | E14: dospeli | F14: M | G14: ll | H14: LUKOS Manětín | I14: 44032.461 | J14: 564585
A15: 34 | B15: Fenclová Anna | D15: anna.fenclova@email.cz | E15: dorost | F15: Ž | H15: LUKOS Manětín | I15: 44032.461 | J15: 564586
A16: 57 | B16: Fér Ondra | C16: Kevin | D16: ondraxfer@gmail.com | E16: dospeli | F16: M | G16: ll | H16: DC Bow Brothers | I16: 44049.011 | J16: 564673
A17: 90 | B17: Frélich Martin | C17: Kibe | D17: frelich3@seznam.cz | E17: dospeli | F17: M | G17: ll | H17: LK - Žebrák | I17: 44061.5 | J17: 564803 | L17: Mimo lukostřeleckou ligu.
A18: 58 | B18: Gurtler Grit | D18: obrocnikovi@gmail.com | E18: dospeli | F18: M | G18: ll | H18: Ostrostřelci Skalany | I18: 44052.896 | J18: 564674
A19: 10 | B19: Habart Horst | C19: Běžkař | D19: Habart@davive.cz | E19: dospeli | F19: M | G19: tl | H19: STS Chvojkovice Brod | I19: 44026.394 | J19: 564502
A20: 69 | B20: Habart Michal | D20: michal-habart@seznam.cz | E20: dospeli | F20: M | G20: ll | H20: SDL Litvínovice | I20: 44056.342 | J20: 564685
A21: 28 | B21: Haidlmaier Ondřej | D21: Haidlmaier@centrum.cz | E21: dospeli | F21: M | G21: tl | H21: LUKOS Manětín | I21: 44029.747 | J21: 564546
A22: 14 | B22: Hanzal Jiří | D22: info@itaclub.cz | E22: dospeli | F22: M | G22: ll | H22: Itaclub | I22: 44026.419 | J22: 564506
A23: 15 | B23: Hanzalová Karolína | D23: karolinahanzalova@icloud.com | E23: deti | F23: Ž | H23: Itaclub | I23: 44026.42 | J23: 564507
A24: 12 | B24: Harbáček Ladislav | D24: stanislav.rataj@rcs-kladno.net | E24: deti | F24: M | H24: Kladno | I24: 44026.403 | J24: 564504
A25: 13 | B25: Harbáčková Alena | D25: stanislav.rataj@rcs-kladno.net | E25: deti | F25: Ž | H25: Kladno | I25: 44026.403 | J25: 564505
A26: 50 | B26: Havlíček Libor | D26: halibo@seznam.cz | E26: dospeli | F26: M | G26: tl | H26: Předboj | I26: 44045.642 | J26: 564663
A27: 51 | B27: Havlíčková Marika | D27: halibo@seznam.cz | E27: dospeli | F27: Ž | G27: ll | H27: Předboj | I27: 44045.642 | J27: 564664
A28: 45 | B28: Herotova Jana | C28: Vazka | D28: herotovaj@seznam.cz | E28: dospeli | F28: Ž | G28: pl | H28: Prazske Vetve | I28: 44043.934 | J28: 564653
A29: 46 | B29: Herotova Maja | D29: herotovaj@seznam.cz | E29: deti | F29: Ž | H29: Prazske Vetve | I29: 44043.935 | J29: 564654
A30: 53 | B30: Holub Matyáš | D30: holub@email.cz | E30: dorost | F30: M | H30: Brandýs nad Labem | I30: 44045.815 | J30: 564666
A31: 48 | B31: Holub Petr | D31: holub@email.cz | E31: dospeli | F31: M | G31: tl | H31: Brandýs nad Labem | I31: 44045.64 | J31: 564661
A32: 52 | B32: Holubová Karolína | D32: holub@email.cz | E32: dospeli | F32: Ž | G32: tl | H32: Brandýs nad Labem | I32: 44045.815 | J32: 564665
A33: 29 | B33: Hrouda Miloslav | D33: Hroudicc@seznam.cz | E33: dospeli | F33: M | G33: ll | H33: Bow Brothers | I33: 44030.529 | J33: 564558
A34: 71 | B34: Choma Jaroslav | C34: Jichoč | D34: jaroslav.choma@tiscali.cz | E34: dospeli | F34: M | G34: tl | H34: Sagittarius | I34: 44058.028 | J34: 564687
A35: 76 | B35: Kácha Ladislav | C35: Indián | D35: jaroslav.choma@tiscali.cz | E35: dospeli | F35: M | G35: ll | H35: Sagittarius | I35: 44058.031 | J35: 564692
A36: 35 | B36: Kejval Jaroslav | D36: lavjek@email.cz | E36: dospeli | F36: M | G36: ll | H36: Vápenná | I36: 44033.468 | J36: 564587
A37: 62 | B37: Kleman Juraj | D37: obrocnikovi@gmail.com | E37: dospeli | F37: M | G37: pl | H37: Bratislava | I37: 44054.408 | J37: 564678
A38: 63 | B38: Klemanová Adriana | D38: obrocnikovi@gmail.com | E38: dospeli | F38: Ž | G38: pl | I38: 44054.409 | J38: 564679
A39: 65 | B39: Klemanová Klaudia | D39: obrocnikovi@gmail.com | E39: deti | F39: Ž | H39: Bratislava | I39: 44054.41 | J39: 564681
A40: 64 | B40: Klemanová Laura | D40: obrocnikovi@gmail.com | E40: dorost | F40: Ž | I40: 44054.41 | J40: 564680
A41: 25 | B41: Klierová Růžena | D41: ales.sobotka81@gmail.com | E41: dospeli | F41: Ž | G41: ll | H41: Zbiroh | I41: 44026.861 | J41: 564517
A42: 27 | B42: Kodýdek Miloš | C42: Seifgard | D42: mece.kudly@seznam.cz | E42: dospeli | F42: M | G42: tl | I42: 44027.656 | J42: 564519
A43: 41 | B43: Kosek Jirka | D43: jirka@kosek.cz | E43: dospeli | F43: M | G43: tl | H43: LP zkroucený šíp | I43: 44041.897 | J43: 564593
A44: 66 | B44: Kroča Rade | C44: Raďas | D44: krocaradek@seznam.cz | E44: dospeli | F44: M | G44: tl | H44: Šumperk | I44: 44054.419 | J44: 564682 | L44: Dobro - prosím 2 x doprovot na sobotní a nedělní oběd. Rád bych střílel i v sobotu. Snad mi to konečně vyjde.
A45: 1 | B45: Kubata Jan | C45: Honza | D45: Honzalupus@volny.cz | E45: dospeli | F45: M | G45: ll | H45: Radimovice | I45: 44025.863 | J45: 564493
A46: 5 | B46: Kubata Mikuláš | C46: Miky | D46: honzalupus@volny.cz | E46: dospeli | F46: M | G46: tl | H46: Radimovice | I46: 44025.867 | J46: 564497
A47: 4 | B47: Kubata Štěpán | C47: Štěpa | D47: honzalupus@volny.cz | E47: dospeli | F47: M | G47: ll | H47: Radimovice | I47: 44025.866 | J47: 564496
A48: 3 | B48: Kubata Vilém | C48: Edmund | D48: Honzalupus@volny.cz | E48: deti | F48: M | H48: Radimovice | I48: 44025.865 | J48: 564495
A49: 2 | B49: Kubata Vít | C49: Vítek | D49: Honzalupus@volny.cz | E49: deti | F49: M | H49: Radimovice | I49: 44025.864 | J49: 564494
A50: 72 | B50: Kutílek Leoš | C50: Leon | D50: jaroslav.choma@tiscali.cz | E50: dospeli | F50: M | G50: ll | H50: Sagittarius | I50: 44058.029 | J50: 564688
A51: 87 | B51: Lavická Markéta | D51: marketa.lavicka@seznam.cz | E51: dospeli | F51: Ž | G51: ll | H51: Kutná Hora | I51: 44060.745 | J51: 564776
A52: 86 | B52: Lavický Petr | D52: petrlavicky@email.cz | E52: dospeli | F52: M | G52: ll | H52: Kutná Hora | I52: 44060.744 | J52: 564775
A53: 44 | B53: Lukes Martin | D53: martin.lukes@vse.cz | E53: dospeli | F53: M | G53: ll | H53: Prazske Vetve | I53: 44043.934 | J53: 564652
A54: 56 | B54: Mařan Jiří | D54: jirkam603@seznam.cz | E54: dospeli | F54: M | G54: ll | H54: Děčín | I54: 44048.304 | J54: 564672
A55: 32 | B55: Mather Luděk | D55: myg21@volny.cz | E55: dospeli | F55: M | G55: ll | H55: Olomouc | I55: 44031.781 | J55: 564584
A56: 47 | B56: Melika Jan | C56: Soron | D56: melikaj@seznam.cz | E56: dospeli | F56: M | G56: ll | H56: Žatec | I56: 44044.393 | J56: 564656
A57: 70 | B57: Mikeš Zdeněk | C57: Náčelník | D57: nacelnik@statek.org | E57: dospeli | F57: M | G57: ll | H57: Statek | I57: 44056.385 | J57: 564686 | L57: Prosím zařadit do skupiny s Davidem a Janou Pospíšilovými (LP Zkroucený šíp). Děkuji.
A58: 67 | B58: Němec Petr | D58: dracekverbu.p@seznam.cz | E58: dospeli | F58: M | G58: ll | H58: Olomouc | I58: 44054.422 | J58: 564683
A59: 88 | B59: novák jindřich | D59: kamenictvimestec@seznam.cz | E59: dospeli | F59: M | G59: tl | H59: Podmoky | I59: 44060.783 | J59: 564777 | L59: Ahoj, zúčastnil bych se jen v neděli.Přihlásím i syna, prosím jestli by jsme mohli být spolu. Díky moc
A60: 89 | B60: Novák Jindřich IV | D60: kamenictvimestec@seznam.cz | E60: deti | F60: M | H60: Podmoky | I60: 44060.785 | J60: 564778 | L60: Prosím do skupiny s tátou-Jindřich Novák .Dík
A61: 68 | B61: Novotný Radek | C61: Radek | D61: radek.novotnycl@gmail.com | E61: dospeli | F61: M | G61: tl | H61: Česká Lípa | I61: 44055.653 | J61: 564684 | L61: Dobrý den. Prosím o upřesnění dvou věcí. 1.) Nemám licenci ATL je nutno ji mít před účastí na Skalanském vejci? 2.) Nejsem si úplně jistý kategorii luku. Mám hybrydní Longbow Satori od Arniho, dřevěné šípy, péřové letky, plastové končíky.
A62: 60 | B62: Obročníková Dobra | C62: Dobra | D62: obrocnikovi@gmail.com | E62: dospeli | F62: Ž | G62: pl | H62: Ostrostřelci Skalany | I62: 44052.897 | J62: 564676
A63: 77 | B63: Pavel Daniel | D63: obrocnikovi@gmail.com | E63: dospeli | F63: M | G63: ll | H63: Mladá Boleslav | I63: 44059.649 | J63: 564750
A64: 31 | B64: Pavelka Ivan | D64: ivan.pavelka@centrum.cz | E64: dospeli | F64: M | G64: ll | I64: 44031.364 | J64: 564580
A65: 42 | B65: Pospíšil David | D65: djpospisilaci@gmail.com | E65: dospeli | F65: M | G65: tl | H65: LP zkroucený šíp | I65: 44041.898 | J65: 564594
A66: 43 | B66: Pospíšilová Jana | D66: djpospisilaci@seznam.cz | E66: dospeli | F66: Ž | G66: ll | H66: LP zkroucený šíp | I66: 44041.899 | J66: 564595
A67: 37 | B67: Rataj Dominik | C67: Doktor | D67: s.rataj@seznam.cz | E67: deti | F67: M | H67: Kladno | I67: 44034.617 | J67: 564589
A68: 8 | B68: Rataj Stanislav | C68: Lucínek | D68: stanislav.rataj@rcs-kladno.net | E68: dospeli | F68: M | G68: pl | H68: Kladno | I68: 44026.373 | J68: 564500 | L68: Prosím vege jídlo, pokud je to možné
A69: 11 | B69: Ratajová Alena | C69: Ali | D69: stanislav.rataj@rcs-kladno.net | E69: dospeli | F69: Ž | G69: pl | H69: Kladno | I69: 44026.403 | J69: 564503 | L69: Prosím o vege jídlo
A70: 55 | B70: Ráž Petr | C70: Raja | D70: petrraz@seznam.cz | E70: dospeli | F70: M | G70: ll | H70: Bow Brothers | I70: 44047.34 | J70: 564671
A71: 49 | B71: Rychtaříková Jana | D71: tutchnak@seznam.cz | E71: dospeli | F71: Ž | G71: tl | H71: Brandys nad Labem | I71: 44045.641 | J71: 564662
A72: 84 | B72: Seibert Zdeněk | C72: Jonathan | D72: zdseibert@gmail.com | E72: dospeli | F72: M | G72: ll | H72: Sokoleč | I72: 44060.618 | J72: 564773
A73: 85 | B73: Schulz Alois | C73: Luis | D73: aloisschulz@seznam.cz | E73: dospeli | F73: M | G73: pl | H73: Itaclub, Vjetve Jihu, čč Lumark | I73: 44060.656 | J73: 564774
A74: 23 | B74: Sobotka Aleš | C74: Prometheus | D74: ales.sobotka81@gmail.com | E74: dospeli | F74: M | G74: tl | H74: Zbiroh | I74: 44026.86 | J74: 564515
A75: 24 | B75: Sobotka Jiří | D75: ales.sobotka81@gmail.com | E75: dospeli | F75: M | G75: ll | H75: Zbiroh | I75: 44026.86 | J75: 564516
A76: 16 | B76: Souček Tomáš | D76: tomsoucek@centrum.cz | E76: dospeli | F76: M | G76: ll | H76: Itaclub | I76: 44026.421 | J76: 564508
A77: 91 | B77: Stárek Josef | C77: Valda | D77: josef.starek@gmail.com | E77: dospeli | F77: M | G77: tl | H77: Skalany :-) | I77: 44062.708 | J77: 564808
A78: 22 | B78: Šidák Miroslav | C78: Ševík | D78: m.sidakova@seznam.cz | E78: dospeli | F78: M | G78: ll | I78: 44026.86 | J78: 564514
A79: 26 | B79: Škraňka Pavel | C79: Rainer | D79: pavel.skranka@mazars.cz | E79: dospeli | F79: M | G79: ll | H79: Dycky Újezd | I79: 44027.654 | J79: 564518
A80: 75 | B80: Špilínek Jaroslav | C80: Špejle | D80: jaroslav.choma@tiscali.cz | E80: dospeli | F80: M | G80: ll | H80: Sagittarius | I80: 44058.03 | J80: 564691
A81: 36 | B81: Taušner Karel | D81: ktausner@yahoo.co.uk | E81: dospeli | F81: M | G81: tl | H81: Bow Brothers | I81: 44034.413 | J81: 564588
A82: 81 | B82: Thuma Veronika | C82: Zebra | D82: bowbrothersdc@gmail.com | E82: dospeli | F82: Ž | G82: ll | H82: Bow Brothers | I82: 44060.301 | J82: 564756 | L82: prosím o vegetariánský oběd - něděle
A83: 74 | B83: Týle Radek | C83: Hasič | D83: jaroslav.choma@tiscali.cz | E83: dospeli | F83: M | G83: ll | H83: Sagittarius | I83: 44058.03 | J83: 564690
A84: 18 | B84: Valenta Petr | D84: petr.valenta@atlas.cz | E84: dospeli | F84: M | G84: ll | H84: Jenišovice | I84: 44026.453 | J84: 564510
A85: 9 | B85: Valeš Zbyněk | D85: Taurohtar.mi.telme@gmail.com | E85: dospeli | F85: M | G85: pl | H85: Stromová liga | I85: 44026.385 | J85: 564501
A86: 7 | B86: Vencovský Hynek | C86: Hynek | D86: Vencovsky.Hynek@post.cz | E86: dospeli | F86: M | G86: pl | H86: Praha | I86: 44026.277 | J86: 564499 | L86: Prosím páteční večeři a sobotní a nedělní snídani
A87: 30 | B87: Vígh Pavol | C87: Drak | D87: vighpavol@gmail.com | E87: dospeli | F87: M | G87: tl | H87: Bow Brothers DC | I87: 44030.701 | J87: 564570
A88: 80 | B88: Viktorín Petr | D88: obrocnikovi@gmail.com | E88: dospeli | F88: M | G88: ll | H88: Mladá Boleslav | I88: 44059.651 | J88: 564753
A89: 79 | B89: Vyčítalová Lucie | D89: obrocnikovi@gmail.com | E89: dospeli | F89: Ž | G89: ll | H89: Mladá Boleslav | I89: 44059.65 | J89: 564752
A90: 83 | B90: Záhorka Petr | D90: katka.zahorkova@gmail.com | E90: dospeli | F90: M | G90: pl | H90: Lk Jihočeská Titěva | I90: 44060.415 | J90: 564758
A91: 82 | B91: Záhorková Kateřina | D91: katka.zahorkova@gmail.com | E91: dospeli | F91: Ž | G91: ll | H91: Lk Jihočeská Titěva | I91: 44060.415 | J91: 564757
A92: 92 | B92: Zýková Eva | D92: zykovaeva@gmail.com | E92: dospeli | F92: Ž | G92: pl | H92: jindřichův hradec | I92: 44062.774 | J92: 564809
A93: 40 | B93: Žďárek Michal | D93: zdarek.michal@seznam.cz | E93: dospeli | F93: M | G93: ll | H93: Lanškroun | I93: 44040.939 | J93: 564592
A94: 61 | B94: Žeravová Markéta | D94: obrocnikovi@gmail.com | E94: dospeli | F94: Ž | G94: ll | H94: Ostrostřelci Skalany | I94: 44052.899 | J94: 564677
A95: 17 | B95: Žilková Míla | D95: mila.zilkova@gmail.com | E95: dospeli | F95: Ž | G95: ll | H95: Itaclub | I95: 44026.422 | J95: 564509

Sheet Primitiv_PL
C1: Primitivní luk
B2: Pořadí | C2: Jméno a příjmení | E2: Bodů celkem | F2: ZVÍŘATA | G2: 1. Rychlostřelba | H2: 2. Kurník a liška | I2: 3. Letící drak | J2: 4. Běžící kolečka | K2: 5. Terčovka 20 m | L2: 6. Král. ústupovka | M2: 7. Létající kolečka | N2: 8. Terčovka 50 m | O2: 9. Bojovní trpaslíci | P2: 10. Trpasličí hrad | Q2: 11. Korona koule | R2: 12. Výr letící | S2: 13. Ku ptáku | T2: 14. Kyvadlo | U2: 15. Válečky | V2: 16. Skrz plot
B3: 1 | C3: Rataj Stanislav | E3: =SUM(F3:V3) -> 2098 | F3: 120 | G3: 70 | H3: 180 | I3: 160 | J3: 40 | K3: 130 | L3: 60 | M3: 120 | N3: 72 | O3: 100 | P3: 80 | Q3: 240 | R3: 150 | S3: 168 | T3: 40 | U3: 240 | V3: 128
B4: 2 | C4: Suchardová Johanka | E4: =SUM(F4:V4) -> 1720 | F4: 100 | G4: 100 | H4: 60 | I4: 200 | J4: 0 | K4: 62 | L4: 60 | M4: 0 | N4: 14 | O4: 100 | P4: 160 | Q4: 240 | R4: 150 | S4: 120 | T4: 50 | U4: 200 | V4: 104
B5: 3 | C5: Záhorka Petr | E5: =SUM(F5:V5) -> 1542 | F5: 96 | G5: 80 | H5: 0 | I5: 200 | J5: 40 | K5: 84 | L5: 50 | M5: 40 | N5: 40 | O5: 70 | P5: 80 | Q5: 120 | R5: 60 | S5: 80 | T5: 70 | U5: 240 | V5: 192
B6: 4 | C6: Schulz Alois | E6: =SUM(F6:V6) -> 1400 | F6: 80 | G6: 80 | H6: 60 | I6: 200 | J6: 0 | K6: 84 | L6: 70 | M6: 0 | N6: 58 | O6: 0 | P6: 80 | Q6: 120 | R6: 120 | S6: 128 | T6: 40 | U6: 200 | V6: 80
B7: 5 | C7: Ratajová Alena | E7: =SUM(F7:V7) -> 1378 | F7: 70 | G7: 60 | H7: 0 | I7: 120 | J7: 0 | K7: 88 | L7: 70 | M7: 0 | N7: 50 | O7: 120 | P7: 0 | Q7: 180 | R7: 180 | S7: 120 | T7: 40 | U7: 200 | V7: 80
B8: 6 | C8: Vencovský Hynek | E8: =SUM(F8:V8) -> 1248 | F8: 88 | G8: 60 | H8: 0 | I8: 160 | J8: 40 | K8: 52 | L8: 60 | M8: 0 | N8: 18 | O8: 160 | P8: 0 | Q8: 120 | R8: 60 | S8: 120 | T8: 30 | U8: 240 | V8: 40
B9: 7 | C9: Valeš Zbyněk | E9: =SUM(F9:V9) -> 1070 | F9: 6 | G9: 30 | H9: 120 | I9: 120 | J9: 40 | K9: 64 | L9: 70 | M9: 0 | N9: 30 | O9: 40 | P9: 0 | Q9: 120 | R9: 120 | S9: 40 | T9: 30 | U9: 240 | V9: 0
B10: 8 | C10: Obročníková Dobra | E10: =SUM(F10:V10) -> 1162 | F10: 98 | G10: 50 | H10: 0 | I10: 160 | J10: 0 | K10: 64 | L10: 80 | M10: 0 | N10: 20 | O10: 100 | P10: 80 | Q10: 60 | R10: 120 | S10: 160 | T10: 50 | U10: 120 | V10: 0
B11: 9 | C11: Herotova Jana | E11: =SUM(F11:V11) -> 958 | F11: 78 | G11: 40 | H11: 60 | I11: 0 | J11: 20 | K11: 38 | L11: 30 | M11: 0 | N11: 18 | O11: 40 | P11: 40 | Q11: 120 | R11: 120 | S11: 40 | T11: 50 | U11: 160 | V11: 104
B12: 10 | C12: Zýková Eva | E12: =SUM(F12:V12) -> 470 | F12: 28 | G12: 60 | H12: 0 | I12: 0 | J12: 0 | K12: 22 | L12: 70 | M12: 0 | N12: 10 | O12: 40 | P12: 0 | Q12: 60 | R12: 0 | S12: 80 | T12: 20 | U12: 80 | V12: 0
B13: 11 | E13: =SUM(F13:V13) -> 0
B14: 12 | E14: =SUM(F14:V14) -> 0
B15: 13 | E15: =SUM(F15:V15) -> 0
B16: 14 | E16: =SUM(F16:V16) -> 0
B17: 15 | E17: =SUM(F17:V17) -> 0
B18: 16 | E18: =SUM(F18:V18) -> 0
B19: 17 | E19: =SUM(F19:V19) -> 0
B20: 18 | E20: =SUM(F20:V20) -> 0
B21: 19 | E21: =SUM(F21:V21) -> 0
B22: 20 | E22: =SUM(F22:V22) -> 0
B23: 21 | E23: =SUM(F23:V23) -> 0
B24: 22 | E24: =SUM(F24:V24) -> 0
... B102: 100 | E102: =SUM(F102:V102) -> 0

Sheet Trad_TL
C1: Tradiční luk
B2: Pořadí | C2: Jméno a příjmení | E2: Bodů celkem | F2: ZVÍŘATA | G2: 1. Rychlostřelba | H2: 2. Kurník a liška | I2: 3. Letící drak | J2: 4. Běžící kolečka | K2: 5. Terčovka 20 m | L2: 6. Král. ústupovka | M2: 7. Létající kolečka | N2: 8. Terčovka 50 m | O2: 9. Bojovní trpaslíci | P2: 10. Trpasličí hrad | Q2: 11. Korona koule | R2: 12. Výr letící | S2: 13. Ku ptáku | T2: 14. Kyvadlo | U2: 15. Válečky | V2: 16. Skrz plot
B3: 1 | C3: Haidlmaier Ondřej | E3: =SUM(F3:V3) -> 1872 | F3: 104 | G3: 80 | H3: 60 | I3: 120 | J3: 40 | K3: 96 | L3: 80 | M3: 0 | N3: 8 | O3: 160 | P3: 120 | Q3: 240 | R3: 150 | S3: 104 | T3: 70 | U3: 240 | V3: 200
B4: 2 | C4: Kodýdek Miloš | E4: =SUM(F4:V4) -> 1812 | F4: 108 | G4: 60 | H4: 0 | I4: 200 | J4: 40 | K4: 138 | L4: 120 | M4: 40 | N4: 46 | O4: 120 | P4: 80 | Q4: 240 | R4: 150 | S4: 120 | T4: 110 | U4: 240 | V4: 0
B5: 3 | C5: Kroča Radek | E5: =SUM(F5:V5) -> 1504 | F5: 88 | G5: 80 | H5: 0 | I5: 160 | J5: 0 | K5: 86 | L5: 60 | M5: 0 | N5: 16 | O5: 80 | P5: 40 | Q5: 180 | R5: 120 | S5: 160 | T5: 50 | U5: 240 | V5: 144
B6: 4 | C6: Holub Petr | E6: =SUM(F6:V6) -> 1436 | F6: 92 | G6: 100 | H6: 60 | I6: 80 | J6: 60 | K6: 114 | L6: 70 | M6: 0 | N6: 20 | O6: 120 | P6: 0 | Q6: 120 | R6: 150 | S6: 80 | T6: 130 | U6: 240 | V6: 0
B7: 5 | C7: Bumba Pavel | E7: =SUM(F7:V7) -> 1306 | F7: 70 | G7: 70 | H7: 60 | I7: 0 | J7: 0 | K7: 92 | L7: 60 | M7: 40 | N7: 50 | O7: 40 | P7: 80 | Q7: 120 | R7: 120 | S7: 144 | T7: 40 | U7: 200 | V7: 120
B8: 6 | C8: Rychtaříková Jana | E8: =SUM(F8:V8) -> 1176 | F8: 98 | G8: 60 | H8: 60 | I8: 80 | J8: 20 | K8: 60 | L8: 80 | M8: 0 | N8: 14 | O8: 0 | P8: 40 | Q8: 180 | R8: 0 | S8: 144 | T8: 60 | U8: 240 | V8: 40
B9: 8 | C9: Sobotka Aleš | E9: =SUM(F9:V9) -> 1136 | F9: 80 | G9: 30 | H9: 0 | I9: 160 | J9: 0 | K9: 80 | L9: 40 | M9: 0 | N9: 16 | O9: 100 | P9: 80 | Q9: 120 | R9: 0 | S9: 80 | T9: 30 | U9: 240 | V9: 80
B10: 9 | C10: Holubová Karolína | E10: =SUM(F10:V10) -> 614 | F10: 64 | G10: 50 | H10: 0 | I10: 0 | J10: 0 | K10: 16 | L10: 60 | M10: 0 | N10: 0 | O10: 20 | P10: 0 | Q10: 60 | R10: 0 | S10: 40 | T10: 0 | U10: 240 | V10: 64
B11: 10 | E11: =SUM(F11:V11) -> 0
B12: 18 | E12: =SUM(F12:V12) -> 0
B13: 19 | E13: =SUM(F13:V13) -> 0
B14: 20 | E14: =SUM(F14:V14) -> 0
B15: 21 | E15: =SUM(F15:V15) -> 0
B16: 22 | E16: =SUM(F16:V16) -> 0
B17: 23 | E17: =SUM(F17:V17) -> 0
B18: 24 | E18: =SUM(F18:V18) -> 0
B19: 25 | E19: =SUM(F19:V19) -> 0
B20: 26 | E20: =SUM(F20:V20) -> 0
B21: 27 | E21: =SUM(F21:V21) -> 0
B22: 28 | E22: =SUM(F22:V22) -> 0
... B94: 100 | E94: =SUM(F94:V94) -> 0

Sheet Muzi_LL
C1: Muži - Lovecký luk
B2: Pořadí | C2: Jméno a příjmení | E2: Bodů celkem | F2: ZVÍŘATA | G2: 1. Rychlostřelba | H2: 2. Kurník a liška | I2: 3. Letící drak | J2: 4. Běžící kolečka | K2: 5. Terčovka 20 m | L2: 6. Král. ústupovka | M2: 7. Létající kolečka | N2: 8. Terčovka 50 m | O2: 9. Bojovní trpaslíci | P2: 10. Trpasličí hrad | Q2: 11. Korona koule | R2: 12. Výr letící | S2: 13. Ku ptáku | T2: 14. Kyvadlo | U2: 15. Válečky | V2: 16. Skrz plot
B3: 1 | C3: Fér Ondra | E3: =SUM(F3:V3) -> 2368 | F3: 76 | G3: 80 | H3: 180 | I3: 200 | J3: 40 | K3: 138 | L3: 120 | M3: 40 | N3: 52 | O3: 180 | P3: 160 | Q3: 240 | R3: 168 | S3: 174 | T3: 80 | U3: 240 | V3: 200
B4: 2 | C4: Frélich Martin | E4: =SUM(F4:V4) -> 2146 | F4: 118 | G4: 80 | H4: 60 | I4: 160 | J4: 140 | K4: 156 | L4: 120 | M4: 80 | N4: 138 | O4: 120 | P4: 0 | Q4: 240 | R4: 150 | S4: 120 | T4: 120 | U4: 240 | V4: 104
B5: 3 | C5: Šidák Miroslav | E5: =SUM(F5:V5) -> 2138 | F5: 110 | G5: 80 | H5: 60 | I5: 200 | J5: 60 | K5: 140 | L5: 100 | M5: 120 | N5: 78 | O5: 120 | P5: 80 | Q5: 240 | R5: 180 | S5: 80 | T5: 90 | U5: 240 | V5: 160
B6: 4 | C6: Hrouda Miloslav | E6: =SUM(F6:V6) -> 2102 | F6: 114 | G6: 80 | H6: 120 | I6: 200 | J6: 0 | K6: 138 | L6: 80 | M6: 0 | N6: 84 | O6: 180 | P6: 120 | Q6: 180 | R6: 168 | S6: 120 | T6: 70 | U6: 240 | V6: 208
B7: 5 | C7: Kácha Ladislav | E7: =SUM(F7:V7) -> 2024 | F7: 110 | G7: 140 | H7: 120 | I7: 160 | J7: 80 | K7: 104 | L7: 80 | M7: 80 | N7: 42 | O7: 120 | P7: 40 | Q7: 240 | R7: 60 | S7: 144 | T7: 160 | U7: 240 | V7: 104
B8: 6 | C8: Pospíšil David | E8: =SUM(F8:V8) -> 1980 | F8: 110 | G8: 70 | H8: 120 | I8: 200 | J8: 20 | K8: 102 | L8: 80 | M8: 40 | N8: 56 | O8: 140 | P8: 80 | Q8: 240 | R8: 120 | S8: 168 | T8: 90 | U8: 240 | V8: 104
B9: 7 | C9: Faust Petr | E9: =SUM(F9:V9) -> 1934 | F9: 106 | G9: 100 | H9: 120 | I9: 200 | J9: 100 | K9: 172 | L9: 80 | M9: 0 | N9: 98 | O9: 140 | P9: 80 | Q9: 60 | R9: 150 | S9: 168 | T9: 40 | U9: 200 | V9: 120
B10: 8 | C10: Škraňka Pavel | E10: =SUM(F10:V10) -> 1852 | F10: 1852
B11: 9 | C11: Hanzal Jiří | E11: =SUM(F11:V11) -> 1846 | F11: 1846
B12: 10 | C12: Mikeš Zdeněk | E12: =SUM(F12:V12) -> 1830 | F12: 1830
B13: 11 | C13: Stárek Josef | E13: =SUM(F13:V13) -> 1788 | F13: 1788
B14: 12 | C14: Valenta Petr | E14: =SUM(F14:V14) -> 1718 | F14: 1718
B15: 13 | C15: Mařan Jiří | E15: =SUM(F15:V15) -> 1702 | F15: 1702
B16: 14 | C16: Sobotka Jiří | E16: =SUM(F16:V16) -> 1618 | F16: 1618
B17: 15 | C17: Seibert Zdeněk | E17: =SUM(F17:V17) -> 1598 | F17: 1598
B18: 16 | C18: Daniel Pavel | E18: =SUM(F18:V18) -> 1564 | F18: 1564
B19: 17 | C19: Fencl Jan | E19: =SUM(F19:V19) -> 1532 | F19: 1532
B20: 18 | C20: Novák Jindřich | E20: =SUM(F20:V20) -> 1524 | F20: 1524
B21: 19 | C21: Mather Luděk | E21: =SUM(F21:V21) -> 1496 | F21: 1496
... B33: 31 | C33: Lukes Martin | E33: =SUM(F33:V33) -> 1068 | F33: 1068
B34: 32 | C34: Čáslava Karel | E34: =SUM(F34:V34) -> 954 | F34: 86 | G34: 50 | H34: 0 | I34: 200 | J34: 0 | K34: 68 | L34: 70 | M34: 0 | N34: 40 | O34: 20 | P34: 0 | Q34: 60 | R34: 60 | S34: 120 | T34: 20 | U34: 120 | V34: 40
B35: 33 | C35: Žák Tomáš | E35: =SUM(F35:V35) -> 844 | F35: 844
B36: 34 | C36: Drenina Dušan | E36: =SUM(F36:V36) -> 700 | F36: 700
B37: 35 | C37: Cimpl Pavel | E37: =SUM(F37:V37) -> 0 | F37: 0
B38: 36 | C38: Drenina Dušan | E38: =SUM(F38:V38) -> 0 | F38: 0
B39: 37 | E39: =SUM(F39:V39) -> 0
B40: 38 | E40: =SUM(F40:V40) -> 0
B41: 52 | E41: =SUM(F41:V41) -> 0
B42: 53 | E42: =SUM(F42:V42) -> 0
B43: 54 | E43: =SUM(F43:V43) -> 0
B44: 55 | E44: =SUM(F44:V44) -> 0
B45: 56 | E45: =SUM(F45:V45) -> 0
B46: 57 | E46: =SUM(F46:V46) -> 0
B47: 58 | E47: =SUM(F47:V47) -> 0
B48: 59 | E48: =SUM(F48:V48) -> 0
B49: 60 | E49: =SUM(F49:V49) -> 0
B50: 61 | E50: =SUM(F50:V50) -> 0
... B89: 100 | E89: =SUM(F89:V89) -> 0

Sheet Zeny_LL
C1: Ženy - Lovecký luk
B2: Pořadí | C2: Jméno a příjmení | E2: Bodů celkem | F2: ZVÍŘATA | G2: 1. Rychlostřelba | H2: 2. Kurník a liška | I2: 3. Letící drak | J2: 4. Běžící kolečka | K2: 5. Terčovka 20 m | L2: 6. Král. ústupovka | M2: 7. Létající kolečka | N2: 8. Terčovka 50 m | O2: 9. Bojovní trpaslíci | P2: 10. Trpasličí hrad | Q2: 11. Korona koule | R2: 12. Výr letící | S2: 13. Ku ptáku | T2: 14. Kyvadlo | U2: 15. Válečky | V2: 16. Skrz plot
B3: 1 | C3: Štruncová Lenka | E3: =SUM(F3:V3) -> 1788 | F3: 88 | G3: 80 | H3: 60 | I3: 200 | J3: 20 | K3: 114 | L3: 90 | M3: 0 | N3: 108 | O3: 120 | P3: 160 | Q3: 180 | R3: 168 | S3: 40 | T3: 40 | U3: 240 | V3: 80
B4: 2 | C4: Thuma Veronika | E4: =SUM(F4:V4) -> 1446 | F4: 66 | G4: 70 | H4: 60 | I4: 200 | J4: 60 | K4: 120 | L4: 80 | M4: 0 | N4: 22 | O4: 40 | P4: 40 | Q4: 240 | R4: 168 | S4: 80 | T4: 0 | U4: 80 | V4: 120
B5: 3 | C5: Gurtler Grit | E5: =SUM(F5:V5) -> 1396 | F5: 114 | G5: 80 | H5: 0 | I5: 160 | J5: 20 | K5: 110 | L5: 50 | M5: 0 | N5: 32 | O5: 160 | P5: 0 | Q5: 120 | R5: 150 | S5: 40 | T5: 80 | U5: 240 | V5: 40
B6: 4 | C6: Klierová Růžena | E6: =SUM(F6:V6) -> 1386 | F6: 66 | G6: 40 | H6: 0 | I6: 200 | J6: 20 | K6: 140 | L6: 60 | M6: 0 | N6: 36 | O6: 80 | P6: 40 | Q6: 240 | R6: 120 | S6: 64 | T6: 40 | U6: 160 | V6: 80
B7: 5 | C7: Žeravová Markéta | E7: =SUM(F7:V7) -> 1356 | F7: 88 | G7: 40 | H7: 0 | I7: 200 | J7: 60 | K7: 78 | L7: 60 | M7: 0 | N7: 60 | O7: 140 | P7: 120 | Q7: 60 | R7: 120 | S7: 80 | T7: 10 | U7: 160 | V7: 80
B8: 6 | C8: Faustová Kateřina | E8: =SUM(F8:V8) -> 1342 | F8: 1342
B9: 7 | C9: Havlíčková Marika | E9: =SUM(F9:V9) -> 1018 | F9: 1018
B10: 8 | C10: Lavická Markéta | E10: =SUM(F10:V10) -> 978 | F10: 978
B11: 9 | C11: Vyčítalová Lucie | E11: =SUM(F11:V11) -> 572 | F11: 572 | H11: 0
B12: 10 | C12: Pospíšilová Jana | E12: =SUM(F12:V12) -> 0 | F12: 0
B13: 13 | E13: =SUM(F13:V13) -> 0
B14: 14 | E14: =SUM(F14:V14) -> 0
B15: 15 | E15: =SUM(F15:V15) -> 0
B16: 16 | E16: =SUM(F16:V16) -> 0
B17: 17 | E17: =SUM(F17:V17) -> 0
B18: 18 | E18: =SUM(F18:V18) -> 0
B19: 19 | E19: =SUM(F19:V19) -> 0
B20: 20 | E20: =SUM(F20:V20) -> 0
B21: 21 | E21: =SUM(F21:V21) -> 0
B22: 22 | E22: =SUM(F22:V22) -> 0
B23: 23 | E23: =SUM(F23:V23) -> 0
B24: 24 | E24: =SUM(F24:V24) -> 0
... B100: 100 | E100: =SUM(F100:V100) -> 0

Sheet Dor_M
C1: Dorost Kluci
B2: Pořadí | C2: Jméno a příjmení | E2: Bodů celkem | F2: ZVÍŘATA | G2: 1. Rychlostřelba | H2: 2. Kurník a liška | I2: 3. Letící drak | J2: 4. Běžící kolečka | K2: 5. Terčovka 20 m | L2: 6. Král. ústupovka | M2: 7. Létající kolečka | N2: 8. Terčovka 50 m | O2: 9. Bojovní trpaslíci | P2: 10. Trpasličí hrad | Q2: 11. Korona koule | R2: 12. Výr letící | S2: 13. Ku ptáku | T2: 14. Kyvadlo | U2: 15. Válečky | V2: 16. Skrz plot
B3: 1 | C3: Kubata Vít | E3: =SUM(F3:V3) -> 1725 | F3: 100 | G3: 100 | H3: 60 | I3: 200 | J3: 40 | K3: 112 | L3: 90 | M3: 0 | N3: 23 | O3: 160 | P3: 20 | Q3: 240 | R3: 120 | S3: 80 | T3: 140 | U3: 240 | V3: 0
B4: 2 | C4: Holub Matyáš | E4: =SUM(F4:V4) -> 1200 | F4: 84 | G4: 60 | H4: 60 | I4: 80 | J4: 20 | K4: 122 | L4: 70 | M4: 0 | N4: 44 | O4: 160 | P4: 0 | Q4: 180 | R4: 150 | S4: 120 | T4: 10 | U4: 0 | V4: 40
B5: 3 | E5: =SUM(F5:V5) -> 0
B6: 4 | E6: =SUM(F6:V6) -> 0
B7: 5 | E7: =SUM(F7:V7) -> 0
B8: 6 | E8: =SUM(F8:V8) -> 0
B9: 7 | E9: =SUM(F9:V9) -> 0
B10: 8 | E10: =SUM(F10:V10) -> 0
B11: 9 | E11: =SUM(F11:V11) -> 0
B12: 10 | E12: =SUM(F12:V12) -> 0
B13: 11 | E13: =SUM(F13:V13) -> 0
B14: 12 | E14: =SUM(F14:V14) -> 0
B15: 13 | E15: =SUM(F15:V15) -> 0
B16: 14 | E16: =SUM(F16:V16) -> 0
... B102: 100 | E102: =SUM(F102:V102) -> 0

Sheet Dor_Ž
C1: Dorost Dívky
B2: Pořadí | C2: Jméno a příjmení | E2: Bodů celkem | F2: ZVÍŘATA | G2: 1. Rychlostřelba | H2: 2. Kurník a liška | I2: 3. Letící drak | J2: 4. Běžící kolečka | K2: 5. Terčovka 20 m | L2: 6. Král. ústupovka | M2: 7. Létající kolečka | N2: 8. Terčovka 50 m | O2: 9. Bojovní trpaslíci | P2: 10. Trpasličí hrad | Q2: 11. Korona koule | R2: 12. Výr letící | S2: 13. Ku ptáku | T2: 14. Kyvadlo | U2: 15. Válečky | V2: 16. Skrz plot
B3: 1 | C3: Fenclová Anna | E3: =SUM(F3:V3) -> 1156 | F3: 76 | G3: 60 | H3: 60 | I3: 160 | J3: 40 | K3: 54 | L3: 50 | M3: 0 | N3: 36 | O3: 40 | P3: 40 | Q3: 180 | R3: 120 | S3: 0 | T3: 80 | U3: 160 | V3: 0
B4: 2 | E4: =SUM(F4:V4) -> 0
B5: 3 | E5: =SUM(F5:V5) -> 0
B6: 4 | E6: =SUM(F6:V6) -> 0
B7: 5 | E7: =SUM(F7:V7) -> 0
B8: 6 | E8: =SUM(F8:V8) -> 0
B9: 7 | E9: =SUM(F9:V9) -> 0
B10: 8 | E10: =SUM(F10:V10) -> 0
B11: 9 | E11: =SUM(F11:V11) -> 0
B12: 10 | E12: =SUM(F12:V12) -> 0
B13: 11 | E13: =SUM(F13:V13) -> 0
B14: 12 | E14: =SUM(F14:V14) -> 0
B15: 13 | E15: =SUM(F15:V15) -> 0
... B102: 100 | E102: =SUM(F102:V102) -> 0

Sheet Deti_M
C1: Děti Kluci
B2: Pořadí | C2: Jméno a příjmení | E2: Bodů celkem | F2: ZVÍŘATA | G2: 1. Rychlostřelba | H2: 2. Kurník a liška | I2: 3. Letící drak | J2: 4. Běžící kolečka | K2: 5. Terčovka 20 m | L2: 6. Král. ústupovka | M2: 7. Létající kolečka | N2: 8. Terčovka 50 m | O2: 9. Bojovní trpaslíci | P2: 10. Trpasličí hrad | Q2: 11. Korona koule | R2: 12. Výr letící | S2: 13. Ku ptáku | T2: 14. Kyvadlo | U2: 15. Válečky | V2: 16. Skrz plot
B3: 1 | C3: Rataj Dominik | E3: =SUM(F3:V3) -> 1456 | F3: 84 | G3: 80 | H3: 60 | I3: 160 | J3: 40 | K3: 144 | L3: 60 | M3: 40 | N3: 38 | O3: 80 | P3: 40 | Q3: 180 | R3: 210 | S3: 40 | T3: 120 | U3: 80 | V3: 0
B4: 2 | C4: Kubata Vilém | E4: =SUM(F4:V4) -> 1414 | F4: 116 | G4: 100 | H4: 120 | I4: 0 | J4: 40 | K4: 94 | L4: 40 | M4: 40 | N4: 20 | O4: 60 | P4: 20 | Q4: 140 | R4: 120 | S4: 144 | T4: 160 | U4: 200 | V4: 0
B5: 3 | C5: Kubata Mikuláš | E5: =SUM(F5:V5) -> 1382 | F5: 102 | G5: 70 | H5: 120 | I5: 0 | J5: 20 | K5: 124 | L5: 20 | M5: 0 | N5: 6 | O5: 80 | P5: 20 | Q5: 240 | R5: 120 | S5: 120 | T5: 60 | U5: 240 | V5: 40
B6: 4 | C6: Kubata Štěpán | E6: =SUM(F6:V6) -> 1376 | F6: 100 | G6: 90 | H6: 60 | I6: 120 | J6: 20 | K6: 136 | L6: 40 | M6: 0 | N6: 6 | O6: 20 | P6: 40 | Q6: 100 | R6: 150 | S6: 144 | T6: 70 | U6: 240 | V6: 40
B7: 5 | C7: Novák Jindřich IV | E7: =SUM(F7:V7) -> 622 | F7: 0 | G7: 30 | H7: 60 | I7: 0 | J7: 0 | K7: 72 | L7: 50 | M7: 0 | N7: 0 | O7: 20 | P7: 40 | Q7: 60 | R7: 120 | S7: 40 | T7: 50 | U7: 0 | V7: 80
B8: 6 | C8: Harbáček Ladislav | E8: =SUM(F8:V8) -> 0 | F8: 0
B9: 7 | E9: =SUM(F9:V9) -> 0
B10: 9 | E10: =SUM(F10:V10) -> 0
B11: 10 | E11: =SUM(F11:V11) -> 0
B12: 11 | E12: =SUM(F12:V12) -> 0
B13: 12 | E13: =SUM(F13:V13) -> 0
B14: 13 | E14: =SUM(F14:V14) -> 0
B15: 14 | E15: =SUM(F15:V15) -> 0
B16: 15 | E16: =SUM(F16:V16) -> 0
B17: 16 | E17: =SUM(F17:V17) -> 0
B18: 17 | E18: =SUM(F18:V18) -> 0
B19: 18 | E19: =SUM(F19:V19) -> 0
B20: 19 | E20: =SUM(F20:V20) -> 0
... B101: 100 | E101: =SUM(F101:V101) -> 0

Sheet Deti_Ž
C1: Děti Dívky
B2: Pořadí | C2: Jméno a příjmení | E2: Bodů celkem | F2: ZVÍŘATA | G2: 1. Rychlostřelba | H2: 2. Kurník a liška | I2: 3. Letící drak | J2: 4. Běžící kolečka | K2: 5. Terčovka 20 m | L2: 6. Král. ústupovka | M2: 7. Létající kolečka | N2: 8. Terčovka 50 m | O2: 9. Bojovní trpaslíci | P2: 10. Trpasličí hrad | Q2: 11. Korona koule | R2: 12. Výr letící | S2: 13. Ku ptáku | T2: 14. Kyvadlo | U2: 15. Válečky | V2: 16. Skrz plot
B3: 1 | C3: Žáková Alžběta | E3: =SUM(F3:V3) -> 854 | F3: 78 | G3: 50 | H3: 120 | I3: 0 | J3: 20 | K3: 104 | L3: 50 | M3: 0 | N3: 12 | O3: 40 | P3: 0 | Q3: 180 | R3: 60 | S3: 40 | T3: 20 | U3: 80 | V3: 0
B4: 2 | C4: Harbáčková Alena | E4: =SUM(F4:V4) -> 806 | F4: 92 | G4: 70 | H4: 60 | I4: 120 | J4: 40 | K4: 44 | L4: 30 | M4: 0 | N4: 40 | O4: 40 | P4: 40 | Q4: 120 | R4: 0 | S4: 0 | T4: 30 | U4: 80 | V4: 0
B5: 3 | C5: Herotova Maja | E5: =SUM(F5:V5) -> 652 | F5: 88 | G5: 30 | H5: 60 | I5: 80 | J5: 0 | K5: 48 | L5: 20 | M5: 0 | N5: 6 | O5: 80 | P5: 40 | Q5: 120 | R5: 60 | S5: 0 | T5: 20 | U5: 0 | V5: 0
B6: 4 | E6: =SUM(F6:V6) -> 0
B7: 5 | E7: =SUM(F7:V7) -> 0
B8: 6 | E8: =SUM(F8:V8) -> 0
B9: 8 | E9: =SUM(F9:V9) -> 0
B10: 9 | E10: =SUM(F10:V10) -> 0
B11: 10 | E11: =SUM(F11:V11) -> 0
B12: 11 | E12: =SUM(F12:V12) -> 0
B13: 12 | E13: =SUM(F13:V13) -> 0
B14: 13 | E14: =SUM(F14:V14) -> 0
B15: 14 | E15: =SUM(F15:V15) -> 0
B16: 15 | E16: =SUM(F16:V16) -> 0
B17: 16 | E17: =SUM(F17:V17) -> 0
... B101: 100 | E101: =SUM(F101:V101) -> 0

Sheet Hobiti
C1: Hobiti
B2: Pořadí | C2: Jméno a příjmení | E2: Bodů celkem | F2: ZVÍŘATA | G2: 1. Rychlostřelba | H2: 2. Kurník a liška | I2: 3. Letící drak | J2: 4. Běžící kolečka | K2: 5. Terčovka 20 m | L2: 6. Král. ústupovka | M2: 7. Létající kolečka | N2: 8. Terčovka 50 m | O2: 9. Bojovní trpaslíci | P2: 10. Trpasličí hrad | Q2: 11. Korona koule | R2: 12. Výr letící | S2: 13. Ku ptáku | T2: 14. Kyvadlo | U2: 15. Válečky | V2: 16. Skrz plot
B3: 1 | E3: =SUM(F3:V3) -> 0
B4: 2 | E4: =SUM(F4:V4) -> 0
B5: 3 | E5: =SUM(F5:V5) -> 0
B6: 4 | E6: =SUM(F6:V6) -> 0
B7: 5 | E7: =SUM(F7:V7) -> 0
B8: 6 | E8: =SUM(F8:V8) -> 0
B9: 7 | E9: =SUM(F9:V9) -> 0
B10: 8 | E10: =SUM(F10:V10) -> 0
B11: 9 | E11: =SUM(F11:V11) -> 0
B12: 10 | E12: =SUM(F12:V12) -> 0
B13: 11 | E13: =SUM(F13:V13) -> 0
B14: 12 | E14: =SUM(F14:V14) -> 0
... B102: 100 | E102: =SUM(F102:V102) -> 0

Sheet Startujici_platby
A1: Přehled přihlášených (92)
A3: # | B3: Jméno | C3: Kategorie | E3: Luk | F3: V.S. | G3: Platba | H3: Poznámka
A4: 59 | B4: Bajer Ralf | C4: dospeli | D4: M | E4: ll | F4: 564675
A5: 54 | B5: Bumba Pavel | C5: dospeli | D5: M | E5: tl | F5: 564669 | G5: 1
A6: 39 | B6: Čáslava Josef | C6: dospeli | D6: M | E6: ll | F6: 564591
A7: 38 | B7: Čáslava Karel | C7: dospeli | D7: M | E7: ll | F7: 564590 | G7: 1
A8: 73 | B8: Doleček Ivo | C8: dospeli | D8: M | E8: ll | F8: 564689
A9: 78 | B9: Drenina Dušan | C9: dospeli | D9: M | E9: ll | F9: 564751
A10: 6 | B10: Dvořáček Jiří | C10: dospeli | D10: M | E10: ll | F10: 564498 | H10: + 2x nedělní oběd +3x nedělní snídaně
A11: 21 | B11: Faust Patrik | C11: deti | D11: M | F11: 564513 | G11: 1
A12: 19 | B12: Faust Petr | C12: dospeli | D12: M | E12: ll | F12: 564511 | G12: 1
A13: 20 | B13: Faustová Kateřina | C13: dospeli | D13: Ž | E13: ll | F13: 564512 | G13: 1
A14: 33 | B14: Fencl Jan | C14: dospeli | D14: M | E14: ll | F14: 564585 | G14: 1
A15: 34 | B15: Fenclová Anna | C15: dorost | D15: Ž | F15: 564586 | G15: 1
A16: 57 | B16: Fér Ondra | C16: dospeli | D16: M | E16: ll | F16: 564673 | G16: 1
A17: 90 | B17: Frélich Martin | C17: dospeli | D17: M | E17: ll | F17: 564803 | H17: Mimo lukostřeleckou ligu.
A18: 58 | B18: Gurtler Grit | C18: dospeli | D18: M | E18: ll | F18: 564674
A19: 10 | B19: Habart Horst | C19: dospeli | D19: M | E19: tl | F19: 564502
A20: 69 | B20: Habart Michal | C20: dospeli | D20: M | E20: ll | F20: 564685
A21: 28 | B21: Haidlmaier Ondřej | C21: dospeli | D21: M | E21: tl | F21: 564546 | G21: 1
A22: 14 | B22: Hanzal Jiří | C22: dospeli | D22: M | E22: ll | F22: 564506
A23: 15 | B23: Hanzalová Karolína | C23: deti | D23: Ž | F23: 564507
A24: 13 | B24: Harbáčková Alena | C24: deti | D24: Ž | F24: 564505 | G24: 1
A25: 50 | B25: Havlíček Libor | C25: dospeli | D25: M | E25: tl | F25: 564663
A26: 51 | B26: Havlíčková Marika | C26: dospeli | D26: Ž | E26: ll | F26: 564664
A27: 45 | B27: Herotova Jana | C27: dospeli | D27: Ž | E27: pl | F27: 564653 | G27: 1
A28: 46 | B28: Herotova Maja | C28: deti | D28: Ž | F28: 564654 | G28: 1
A29: 53 | B29: Holub Matyáš | C29: dorost | D29: M | F29: 564666
A30: 48 | B30: Holub Petr | C30: dospeli | D30: M | E30: tl | F30: 564661
A31: 52 | B31: Holubová Karolína | C31: dospeli | D31: Ž | E31: tl | F31: 564665
A32: 29 | B32: Hrouda Miloslav | C32: dospeli | D32: M | E32: ll | F32: 564558 | G32: 1
A33: 71 | B33: Choma Jaroslav | C33: dospeli | D33: M | E33: tl | F33: 564687
A34: 76 | B34: Kácha Ladislav | C34: dospeli | D34: M | E34: ll | F34: 564692
A35: 35 | B35: Kejval Jaroslav | C35: dospeli | D35: M | E35: ll | F35: 564587
A36: 62 | B36: Kleman Juraj | C36: dospeli | D36: M | E36: pl | F36: 564678
A37: 63 | B37: Klemanová Adriana | C37: dospeli | D37: Ž | E37: pl | F37: 564679
A38: 65 | B38: Klemanová Klaudia | C38: deti | D38: Ž | F38: 564681
A39: 64 | B39: Klemanová Laura | C39: dorost | D39: Ž | F39: 564680
A40: 25 | B40: Klierová Růžena | C40: dospeli | D40: Ž | E40: ll | F40: 564517 | G40: 1
A41: 27 | B41: Kodýdek Miloš | C41: dospeli | D41: M | E41: tl | F41: 564519 | G41: 1
A42: 41 | B42: Kosek Jirka | C42: dospeli | D42: M | E42: tl | F42: 564593
A43: 66 | B43: Kroča Radek | C43: dospeli | D43: M | E43: tl | F43: 564682 | G43: 1 | H43: Dobro - prosím 2 x doprovot na sobotní a nedělní oběd. Rád bych střílel i v sobotu. Snad mi to konečně vyjde.
A44: 1 | B44: Kubata Jan | C44: dospeli | D44: M | E44: ll | F44: 564493
A45: 5 | B45: Kubata Mikuláš | C45: dospeli | D45: M | E45: tl | F45: 564497
A46: 4 | B46: Kubata Štěpán | C46: dospeli | D46: M | E46: ll | F46: 564496
A47: 3 | B47: Kubata Vilém | C47: deti | D47: M | F47: 564495
A48: 2 | B48: Kubata Vít | C48: deti | D48: M | F48: 564494
A49: 72 | B49: Kutílek Leoš | C49: dospeli | D49: M | E49: ll | F49: 564688
A50: 87 | B50: Lavická Markéta | C50: dospeli | D50: Ž | E50: ll | F50: 564776
A51: 86 | B51: Lavický Petr | C51: dospeli | D51: M | E51: ll | F51: 564775
A52: 44 | B52: Lukes Martin | C52: dospeli | D52: M | E52: ll | F52: 564652 | G52: 1
A53: 56 | B53: Mařan Jiří | C53: dospeli | D53: M | E53: ll | F53: 564672 | G53: 1
A54: 32 | B54: Mather Luděk | C54: dospeli | D54: M | E54: ll | F54: 564584 | G54: 1
A55: 47 | B55: Melika Jan | C55: dospeli | D55: M | E55: ll | F55: 564656
A56: 70 | B56: Mikeš Zdeněk | C56: dospeli | D56: M | E56: ll | F56: 564686 | G56: 1 | H56: Prosím zařadit do skupiny s Davidem a Janou Pospíšilovými (LP Zkroucený šíp). Děkuji.
A57: 67 | B57: Němec Petr | C57: dospeli | D57: M | E57: ll | F57: 564683
A58: 88 | B58: novák jindřich | C58: dospeli | D58: M | E58: tl | F58: 564777 | G58: 1 | H58: Ahoj, zúčastnil bych se jen v neděli.Přihlásím i syna, prosím jestli by jsme mohli být spolu. Díky moc
A59: 89 | B59: Novák Jindřich IV | C59: deti | D59: M | F59: 564778 | G59: 1 | H59: Prosím do skupiny s tátou-Jindřich Novák .Dík
A60: 68 | B60: Novotný Radek | C60: dospeli | D60: M | E60: tl | F60: 564684 | H60: Dobrý den. Prosím o upřesnění dvou věcí. 1.) Nemám licenci ATL je nutno ji mít před účastí na Skalanském vejci? 2.) Nejsem si úplně jistý kategorii luku. Mám hybrydní Longbow Satori od Arniho, dřevěné šípy, péřové letky, plastové končíky.
A61: 60 | B61: Obročníková Dobra | C61: dospeli | D61: Ž | E61: pl | F61: 564676
A62: 77 | B62: Pavel Daniel | C62: dospeli | D62: M | E62: ll | F62: 564750
A63: 31 | B63: Pavelka Ivan | C63: dospeli | D63: M | E63: ll | F63: 564580 | G63: 1
A64: 42 | B64: Pospíšil David | C64: dospeli | D64: M | E64: tl | F64: 564594
A65: 43 | B65: Pospíšilová Jana | C65: dospeli | D65: Ž | E65: ll | F65: 564595
A66: 37 | B66: Rataj Dominik | C66: deti | D66: M | F66: 564589 | G66: 1
A67: 8 | B67: Rataj Stanislav | C67: dospeli | D67: M | E67: pl | F67: 564500 | G67: 1 | H67: Prosím vege jídlo, pokud je to možné
A68: 11 | B68: Ratajová Alena | C68: dospeli | D68: Ž | E68: pl | F68: 564503 | G68: 1 | H68: Prosím o vege jídlo
A69: 55 | B69: Ráž Petr | C69: dospeli | D69: M | E69: ll | F69: 564671
A70: 49 | B70: Rychtaříková Jana | C70: dospeli | D70: Ž | E70: tl | F70: 564662
A71: 84 | B71: Seibert Zdeněk | C71: dospeli | D71: M | E71: ll | F71: 564773 | G71: 1
A72: 85 | B72: Schulz Alois | C72: dospeli | D72: M | E72: pl | F72: 564774
A73: 23 | B73: Sobotka Aleš | C73: dospeli | D73: M | E73: tl | F73: 564515 | G73: 1
A74: 24 | B74: Sobotka Jiří | C74: dospeli | D74: M | E74: ll | F74: 564516 | G74: 1
A75: 16 | B75: Souček Tomáš | C75: dospeli | D75: M | E75: ll | F75: 564508
A76: 91 | B76: Stárek Josef | C76: dospeli | D76: M | E76: tl | F76: 564808
A77: 22 | B77: Šidák Miroslav | C77: dospeli | D77: M | E77: ll | F77: 564514 | G77: 1
A78: 26 | B78: Škraňka Pavel | C78: dospeli | D78: M | E78: ll | F78: 564518 | G78: 1
A79: 75 | B79: Špilínek Jaroslav | C79: dospeli | D79: M | E79: ll | F79: 564691
A80: 36 | B80: Taušner Karel | C80: dospeli | D80: M | E80: tl | F80: 564588
A81: 81 | B81: Thuma Veronika | C81: dospeli | D81: Ž | E81: ll | F81: 564756 | G81: 1 | H81: prosím o vegetariánský oběd - něděle
A82: 74 | B82: Týle Radek | C82: dospeli | D82: M | E82: ll | F82: 564690
A83: 18 | B83: Valenta Petr | C83: dospeli | D83: M | E83: ll | F83: 564510 | G83: 1
A84: 9 | B84: Valeš Zbyněk | C84: dospeli | D84: M | E84: pl | F84: 564501 | G84: 1
A85: 7 | B85: Vencovský Hynek | C85: dospeli | D85: M | E85: pl | F85: 564499 | G85: 1 | H85: Prosím páteční večeři a sobotní a nedělní snídani
A86: 30 | B86: Vígh Pavol | C86: dospeli | D86: M | E86: tl | F86: 564570 | G86: 1
A87: 80 | B87: Viktorín Petr | C87: dospeli | D87: M | E87: ll | F87: 564753
A88: 79 | B88: Vyčítalová Lucie | C88: dospeli | D88: Ž | E88: ll | F88: 564752
A89: 83 | B89: Záhorka Petr | C89: dospeli | D89: M | E89: pl | F89: 564758 | G89: 1
A90: 82 | B90: Záhorková Kateřina | C90: dospeli | D90: Ž | E90: ll | F90: 564757 | G90: 1
A91: 92 | B91: Zýková Eva | C91: dospeli | D91: Ž | E91: pl | F91: 564809 | G91: 1
A92: 40 | B92: Žďárek Michal | C92: dospeli | D92: M | E92: ll | F92: 564592
A93: 61 | B93: Žeravová Markéta | C93: dospeli | D93: Ž | E93: ll | F93: 564677
A94: 17 | B94: Žilková Míla | C94: dospeli | D94: Ž | E94: ll | F94: 564509
